{"text_format":"1","workbook":"xlsx","n_sheets":26,"sheets":["Unidades","Productos","ENEMT","ENEFN","FEBMT","FEBFN","MARMT","MARFN","ABRMT","ABRFN","MAYMT","MAYFN","JUNFN","JUNMT","JULMT","JULFN","AGOMT","AGOFN","SEPMT","SEPFN","OCTMT","OCTFN","NOVMT","NOVFN","DICMT","DICFN"],"not_rendered":{"charts":0,"images":0,"macros":1,"external_links":0,"defined_names":25,"comments":0,"pivot_tables":0},"unopened":[],"bounds":{"document_bytes":16777216,"sheet_cells":100000,"rows_first":2000,"rows_last":500,"rows_between":2000,"halvings":0,"cell_chars":16384,"cell_head_chars":4096},"cells_cut":0,"cells_raw":0,"read":"whole","date_system":"1900"}

{"sheet":"Unidades","index":0,"n_rows":17,"n_cols":2,"rows_kept":17,"cut":false,"hidden":false,"merged":[]}
["CODIGO","UNIDAD"]
[201,"DIRECCIÓN ADMINISTRATIVA"]
[202,"DIRECCIÓN GENERAL DE CAMINOS"]
[203,"UNIDAD EJECUTORA DE CONSERVACIÓN VIAL -COVIAL-"]
[204,"DIRECCIÓN GENERAL DE TRANSPORTES"]
[205,"DIRECCIÓN GENERAL DE AERONÁUTICA CIVIL"]
[206,"UNIDAD DE CONSTRUCCIÓN DE EDIFICIOS DEL ESTADO -UCEE-"]
[207,"DIRECCIÓN GENERAL DE RADIODIFUSIÓN Y TELEVISIÓN NACIONAL"]
[208,"UNIDAD DE CONTROL Y SUPERVISIÓN DE CABLE -UNCOSU-"]
[209,"INSTITUTO NACIONAL DE SISMOLOGÍA, VULCANOLOGÍA, METEOROLOGÍA E HIDROLOGÍA -INSIVUMEH-"]
[210,"DIRECCIÓN GENERAL DE CORREOS Y TELÉGRAFOS"]
[211,"SUPERINTENDENCIA DE TELECOMUNICACIONES -SIT-"]
[212,"FONDO PARA EL DESARROLLO DE LA TELEFONÍA -FONDETEL-"]
[214,"UNIDAD PARA EL DESARROLLO DE VIVIENDA POPULAR -UDEVIPO-"]
[216,"DIRECCIÓN GENERAL DE PROTECCIÓN Y SEGURIDAD VIAL -PROVIAL-"]
[217,"FONDO SOCIAL DE SOLIDARIDAD"]
[218,"FONDO PARA LA VIVIENDA"]

{"sheet":"Productos","index":1,"n_rows":159,"n_cols":65,"rows_kept":159,"cut":false,"hidden":false,"merged":[[6,63,6,64],[0,2,0,42],[2,2,2,42],[6,51,6,52],[6,53,6,54],[6,55,6,56],[6,57,6,58],[6,59,6,60],[6,61,6,62],[6,10,6,13],[6,14,6,16],[5,17,5,40],[5,41,5,64],[6,41,6,42],[6,43,6,44],[6,45,6,46],[6,47,6,48],[6,49,6,50],[6,29,6,30],[6,31,6,32],[6,33,6,34],[6,35,6,36],[6,37,6,38],[6,39,6,40],[6,27,6,28],[6,17,6,18],[6,19,6,20],[6,21,6,22],[6,23,6,24],[6,25,6,26]]}
[null,null,"MINISTERIO DE COMUNICACIONES, INFRAESTRUCTURA Y VIVIENDA"]
[]
[null,null,"SEGUIMIENTO DE EJECUCIÓN FÍSICA Y FINANCIERA"]
[null,null,"AÑO",2023]
[]
[null,null,null,null,null,null,null,null,null,null,null,null,null,null,null,null,null,"FÍSICA",null,null,null,null,null,null,null,null,null,null,null,null,null,null,null,null,null,null,null,null,null,null,null,"FINANCIERO"]
[null,null,null,null,null,null,null,null,null,null,"FÍSICO",null,null,null,"FINANCIERO",null,null,"ENERO",null,"FEBRERO",null,"MARZO",null,"ABRIL",null,"MAYO",null,"JUNIO",null,"JULIO",null,"AGOSTO",null,"SEPTIEMBRE",null,"OCTUBRE",null,"NOVIEMBRE",null,"DICIEMBRE",null,"ENERO",null,"FEBRERO",null,"MARZO",null,"ABRIL",null,"MAYO",null,"JUNIO",null,"JULIO",null,"AGOSTO",null,"SEPTIEMBRE",null,"OCTUBRE",null,"NOVIEMBRE",null,"DICIEMBRE"]
["CONCATENADO",null,"UNIDAD","PG","SP","PY","ACT","OB","PRODUCTO","SUBPRODUCTO","UNIDAD DE\nMEDIDA","INICIAL","VIGENTE","EJECUTADO\nACUMULADO","INICIAL","VIGENTE","EJECUTADO\nACUMULADO","MOD","EJEC","MOD","EJEC","MOD","EJEC","MOD","EJEC","MOD","EJEC","MOD","EJEC","MOD","EJEC","MOD","EJEC","MOD","EJEC","MOD","EJEC","MOD","EJEC","MOD","EJEC","MOD","EJEC","MOD","EJEC","MOD","EJEC","MOD","EJEC","MOD","EJEC","MOD","EJEC","MOD","EJEC","MOD","EJEC","MOD","EJEC","MOD","EJEC","MOD","EJEC","MOD","EJEC"]
[{"$f":"CONCATENATE(C9,\"-\",J9)","v":"201-"},null,201,"01","00","000","003","000","000-001",null,"Evento",{"$f":"IFERROR(VLOOKUP($A9,ENEMT!$A$1:$O$1776,11,FALSE),0)","v":0},{"$f":"+L9+R9+T9+V9+X9+Z9+AB9+AD9+AF9+AH9+AJ9+AL9+AN9","v":0},{"$f":"+S9+U9+W9+Y9+AA9+AC9+AE9+AG9+AI9+AK9+AM9+AO9","v":0},{"$f":"IFERROR(VLOOKUP($A9,ENEFN!$A$2:$N$1776,5,FALSE),0)","v":0},{"$f":"+O9+AP9+AR9+AT9+AV9+AX9+AZ9+BB9+BD9+BF9+BH9+BJ9+BL9","v":0},{"$f":"+AQ9+AS9+AU9+AW9+AY9+BA9+BC9+BE9+BG9+BI9+BK9+BM9","v":0},{"$f":"IFERROR(VLOOKUP($A9,ENEMT!$A$1:$O$1776,12,FALSE),0)","v":0},{"$f":"IFERROR(VLOOKUP($A9,ENEMT!$A$1:$O$1776,15,FALSE),0)","v":0},null,null,null,null,null,null,null,null,null,null,null,null,null,null,null,null,null,null,null,null,null,null,{"$f":"IFERROR(VLOOKUP($A9,ENEFN!$A$1:$N$1776,6,FALSE),0)","v":0},{"$f":"IFERROR(VLOOKUP($A9,ENEFN!$A$1:$N$1776,10,FALSE),0)","v":0}]
[{"$f":"CONCATENATE(C10,\"-\",J10)","v":"201-000-001-0001"},null,201,"01","00","000","003","000",null,"000-001-0001","Evento",{"$f":"IFERROR(VLOOKUP($A10,ENEMT!$A$1:$O$1776,11,FALSE),0)","v":31},{"$f":"+L10+R10+T10+V10+X10+Z10+AB10+AD10+AF10+AH10+AJ10+AL10+AN10","v":31},{"$f":"+S10+U10+W10+Y10+AA10+AC10+AE10+AG10+AI10+AK10+AM10+AO10","v":0},{"$f":"IFERROR(VLOOKUP($A10,ENEFN!$A$2:$N$1776,5,FALSE),0)","v":15083171},{"$f":"+O10+AP10+AR10+AT10+AV10+AX10+AZ10+BB10+BD10+BF10+BH10+BJ10+BL10","v":15083171},{"$f":"+AQ10+AS10+AU10+AW10+AY10+BA10+BC10+BE10+BG10+BI10+BK10+BM10","v":0},{"$f":"IFERROR(VLOOKUP($A10,ENEMT!$A$1:$O$1776,12,FALSE),0)","v":0},{"$f":"IFERROR(VLOOKUP($A10,ENEMT!$A$1:$O$1776,15,FALSE),0)","v":0},null,null,null,null,null,null,null,null,null,null,null,null,null,null,null,null,null,null,null,null,null,null,{"$f":"IFERROR(VLOOKUP($A10,ENEFN!$A$1:$N$1776,6,FALSE),0)","v":0},{"$f":"IFERROR(VLOOKUP($A10,ENEFN!$A$1:$N$1776,10,FALSE),0)","v":0}]
["201-",null,201,"01","00","000","002","000","000-003",null,"Evento",{"$f":"IFERROR(VLOOKUP($A11,ENEMT!$A$1:$O$1776,11,FALSE),0)","v":0},0,0,{"$f":"IFERROR(VLOOKUP($A11,ENEFN!$A$2:$N$1776,5,FALSE),0)","v":0},0,0,{"$f":"IFERROR(VLOOKUP($A11,ENEMT!$A$1:$O$1776,12,FALSE),0)","v":0},{"$f":"IFERROR(VLOOKUP($A11,ENEMT!$A$1:$O$1776,15,FALSE),0)","v":0},null,null,null,null,null,null,null,null,null,null,null,null,null,null,null,null,null,null,null,null,null,null,{"$f":"IFERROR(VLOOKUP($A11,ENEFN!$A$1:$N$1776,6,FALSE),0)","v":0},{"$f":"IFERROR(VLOOKUP($A11,ENEFN!$A$1:$N$1776,10,FALSE),0)","v":0}]
["201-000-003-0001",null,201,"01","00","000","002","000",null,"000-003-0001","Evento",{"$f":"IFERROR(VLOOKUP($A12,ENEMT!$A$1:$O$1776,11,FALSE),0)","v":319},319,0,{"$f":"IFERROR(VLOOKUP($A12,ENEFN!$A$2:$N$1776,5,FALSE),0)","v":15893462},15893462,1907931.32,{"$f":"IFERROR(VLOOKUP($A12,ENEMT!$A$1:$O$1776,12,FALSE),0)","v":0},{"$f":"IFERROR(VLOOKUP($A12,ENEMT!$A$1:$O$1776,15,FALSE),0)","v":0},null,null,null,null,null,null,null,null,null,null,null,null,null,null,null,null,null,null,null,null,null,null,{"$f":"IFERROR(VLOOKUP($A12,ENEFN!$A$1:$N$1776,6,FALSE),0)","v":0},{"$f":"IFERROR(VLOOKUP($A12,ENEFN!$A$1:$N$1776,10,FALSE),0)","v":1907931.32}]
["201-",null,201,"99","00","000","001","000","000-004",null,"Aporte",{"$f":"IFERROR(VLOOKUP($A13,ENEMT!$A$1:$O$1776,11,FALSE),0)","v":0},0,0,{"$f":"IFERROR(VLOOKUP($A13,ENEFN!$A$2:$N$1776,5,FALSE),0)","v":0},0,0,{"$f":"IFERROR(VLOOKUP($A13,ENEMT!$A$1:$O$1776,12,FALSE),0)","v":0},{"$f":"IFERROR(VLOOKUP($A13,ENEMT!$A$1:$O$1776,15,FALSE),0)","v":0},null,null,null,null,null,null,null,null,null,null,null,null,null,null,null,null,null,null,null,null,null,null,{"$f":"IFERROR(VLOOKUP($A13,ENEFN!$A$1:$N$1776,6,FALSE),0)","v":0},{"$f":"IFERROR(VLOOKUP($A13,ENEFN!$A$1:$N$1776,10,FALSE),0)","v":0}]
["201-000-004-0001",null,201,"99","00","000","001","000",null,"000-004-0001","Aporte",{"$f":"IFERROR(VLOOKUP($A14,ENEMT!$A$1:$O$1776,11,FALSE),0)","v":13},13,0,{"$f":"IFERROR(VLOOKUP($A14,ENEFN!$A$2:$N$1776,5,FALSE),0)","v":5874520},5874520,384339,{"$f":"IFERROR(VLOOKUP($A14,ENEMT!$A$1:$O$1776,12,FALSE),0)","v":0},{"$f":"IFERROR(VLOOKUP($A14,ENEMT!$A$1:$O$1776,15,FALSE),0)","v":0},null,null,null,null,null,null,null,null,null,null,null,null,null,null,null,null,null,null,null,null,null,null,{"$f":"IFERROR(VLOOKUP($A14,ENEFN!$A$1:$N$1776,6,FALSE),0)","v":0},{"$f":"IFERROR(VLOOKUP($A14,ENEFN!$A$1:$N$1776,10,FALSE),0)","v":384339}]
["201-",null,201,"99","00","000","002","000","000-005",null,"Aporte",{"$f":"IFERROR(VLOOKUP($A15,ENEMT!$A$1:$O$1776,11,FALSE),0)","v":0},0,0,{"$f":"IFERROR(VLOOKUP($A15,ENEFN!$A$2:$N$1776,5,FALSE),0)","v":0},0,0,{"$f":"IFERROR(VLOOKUP($A15,ENEMT!$A$1:$O$1776,12,FALSE),0)","v":0},{"$f":"IFERROR(VLOOKUP($A15,ENEMT!$A$1:$O$1776,15,FALSE),0)","v":0},null,null,null,null,null,null,null,null,null,null,null,null,null,null,null,null,null,null,null,null,null,null,{"$f":"IFERROR(VLOOKUP($A15,ENEFN!$A$1:$N$1776,6,FALSE),0)","v":0},{"$f":"IFERROR(VLOOKUP($A15,ENEFN!$A$1:$N$1776,10,FALSE),0)","v":0}]
["201-000-005-0001",null,201,"99","00","000","002","000",null,"000-005-0001","Aporte",{"$f":"IFERROR(VLOOKUP($A16,ENEMT!$A$1:$O$1776,11,FALSE),0)","v":1},1,0,{"$f":"IFERROR(VLOOKUP($A16,ENEFN!$A$2:$N$1776,5,FALSE),0)","v":55159},55159,54464.94,{"$f":"IFERROR(VLOOKUP($A16,ENEMT!$A$1:$O$1776,12,FALSE),0)","v":0},{"$f":"IFERROR(VLOOKUP($A16,ENEMT!$A$1:$O$1776,15,FALSE),0)","v":0},null,null,null,null,null,null,null,null,null,null,null,null,null,null,null,null,null,null,null,null,null,null,{"$f":"IFERROR(VLOOKUP($A16,ENEFN!$A$1:$N$1776,6,FALSE),0)","v":0},{"$f":"IFERROR(VLOOKUP($A16,ENEFN!$A$1:$N$1776,10,FALSE),0)","v":54464.94}]
["201-",null,201,"99","00","000","003","000","000-006",null,"Aporte",{"$f":"IFERROR(VLOOKUP($A17,ENEMT!$A$1:$O$1776,11,FALSE),0)","v":0},0,0,{"$f":"IFERROR(VLOOKUP($A17,ENEFN!$A$2:$N$1776,5,FALSE),0)","v":0},0,0,{"$f":"IFERROR(VLOOKUP($A17,ENEMT!$A$1:$O$1776,12,FALSE),0)","v":0},{"$f":"IFERROR(VLOOKUP($A17,ENEMT!$A$1:$O$1776,15,FALSE),0)","v":0},null,null,null,null,null,null,null,null,null,null,null,null,null,null,null,null,null,null,null,null,null,null,{"$f":"IFERROR(VLOOKUP($A17,ENEFN!$A$1:$N$1776,6,FALSE),0)","v":0},{"$f":"IFERROR(VLOOKUP($A17,ENEFN!$A$1:$N$1776,10,FALSE),0)","v":0}]
["201-000-006-0001",null,201,"99","00","000","003","000",null,"000-006-0001","Aporte",{"$f":"IFERROR(VLOOKUP($A18,ENEMT!$A$1:$O$1776,11,FALSE),0)","v":1},1,0,{"$f":"IFERROR(VLOOKUP($A18,ENEFN!$A$2:$N$1776,5,FALSE),0)","v":400000},400000,0,{"$f":"IFERROR(VLOOKUP($A18,ENEMT!$A$1:$O$1776,12,FALSE),0)","v":0},{"$f":"IFERROR(VLOOKUP($A18,ENEMT!$A$1:$O$1776,15,FALSE),0)","v":0},null,null,null,null,null,null,null,null,null,null,null,null,null,null,null,null,null,null,null,null,null,null,{"$f":"IFERROR(VLOOKUP($A18,ENEFN!$A$1:$N$1776,6,FALSE),0)","v":0},{"$f":"IFERROR(VLOOKUP($A18,ENEFN!$A$1:$N$1776,10,FALSE),0)","v":0}]
["201-",null,201,"01","00","000","001","000","000-009",null,"Evento",{"$f":"IFERROR(VLOOKUP($A19,ENEMT!$A$1:$O$1776,11,FALSE),0)","v":0},0,0,{"$f":"IFERROR(VLOOKUP($A19,ENEFN!$A$2:$N$1776,5,FALSE),0)","v":0},0,0,{"$f":"IFERROR(VLOOKUP($A19,ENEMT!$A$1:$O$1776,12,FALSE),0)","v":0},{"$f":"IFERROR(VLOOKUP($A19,ENEMT!$A$1:$O$1776,15,FALSE),0)","v":0},null,null,null,null,null,null,null,null,null,null,null,null,null,null,null,null,null,null,null,null,null,null,{"$f":"IFERROR(VLOOKUP($A19,ENEFN!$A$1:$N$1776,6,FALSE),0)","v":0},{"$f":"IFERROR(VLOOKUP($A19,ENEFN!$A$1:$N$1776,10,FALSE),0)","v":0}]
["201-000-009-0001",null,201,"01","00","000","001","000",null,"000-009-0001","Evento",{"$f":"IFERROR(VLOOKUP($A20,ENEMT!$A$1:$O$1776,11,FALSE),0)","v":216},227,0,{"$f":"IFERROR(VLOOKUP($A20,ENEFN!$A$2:$N$1776,5,FALSE),0)","v":25693688},25693688,0,{"$f":"IFERROR(VLOOKUP($A20,ENEMT!$A$1:$O$1776,12,FALSE),0)","v":11},{"$f":"IFERROR(VLOOKUP($A20,ENEMT!$A$1:$O$1776,15,FALSE),0)","v":0},null,null,null,null,null,null,null,null,null,null,null,null,null,null,null,null,null,null,null,null,null,null,{"$f":"IFERROR(VLOOKUP($A20,ENEFN!$A$1:$N$1776,6,FALSE),0)","v":0},{"$f":"IFERROR(VLOOKUP($A20,ENEFN!$A$1:$N$1776,10,FALSE),0)","v":0}]
["202-",null,202,"11","00","000","001","000","017-003",null,"Evento",{"$f":"IFERROR(VLOOKUP($A21,ENEMT!$A$1:$O$1776,11,FALSE),0)","v":0},0,0,{"$f":"IFERROR(VLOOKUP($A21,ENEFN!$A$2:$N$1776,5,FALSE),0)","v":0},0,0,{"$f":"IFERROR(VLOOKUP($A21,ENEMT!$A$1:$O$1776,12,FALSE),0)","v":0},{"$f":"IFERROR(VLOOKUP($A21,ENEMT!$A$1:$O$1776,15,FALSE),0)","v":0},null,null,null,null,null,null,null,null,null,null,null,null,null,null,null,null,null,null,null,null,null,null,{"$f":"IFERROR(VLOOKUP($A21,ENEFN!$A$1:$N$1776,6,FALSE),0)","v":0},{"$f":"IFERROR(VLOOKUP($A21,ENEFN!$A$1:$N$1776,10,FALSE),0)","v":0}]
["202-017-003-0001",null,202,"11","00","000","001","000",null,"017-003-0001","Evento",{"$f":"IFERROR(VLOOKUP($A22,ENEMT!$A$1:$O$1776,11,FALSE),0)","v":472},472,0,{"$f":"IFERROR(VLOOKUP($A22,ENEFN!$A$2:$N$1776,5,FALSE),0)","v":89558631},89558631,778525.64,{"$f":"IFERROR(VLOOKUP($A22,ENEMT!$A$1:$O$1776,12,FALSE),0)","v":0},{"$f":"IFERROR(VLOOKUP($A22,ENEMT!$A$1:$O$1776,15,FALSE),0)","v":0},null,null,null,null,null,null,null,null,null,null,null,null,null,null,null,null,null,null,null,null,null,null,{"$f":"IFERROR(VLOOKUP($A22,ENEFN!$A$1:$N$1776,6,FALSE),0)","v":0},{"$f":"IFERROR(VLOOKUP($A22,ENEFN!$A$1:$N$1776,10,FALSE),0)","v":778525.64}]
["202-",null,202,"11","00","000","002","000","017-005",null,"Kilómetro",{"$f":"IFERROR(VLOOKUP($A23,ENEMT!$A$1:$O$1776,11,FALSE),0)","v":0},0,0,{"$f":"IFERROR(VLOOKUP($A23,ENEFN!$A$2:$N$1776,5,FALSE),0)","v":0},0,0,{"$f":"IFERROR(VLOOKUP($A23,ENEMT!$A$1:$O$1776,12,FALSE),0)","v":0},{"$f":"IFERROR(VLOOKUP($A23,ENEMT!$A$1:$O$1776,15,FALSE),0)","v":0},null,null,null,null,null,null,null,null,null,null,null,null,null,null,null,null,null,null,null,null,null,null,{"$f":"IFERROR(VLOOKUP($A23,ENEFN!$A$1:$N$1776,6,FALSE),0)","v":0},{"$f":"IFERROR(VLOOKUP($A23,ENEFN!$A$1:$N$1776,10,FALSE),0)","v":0}]
["202-017-005-0001",null,202,"11","00","000","002","000",null,"017-005-0001","Kilómetro",{"$f":"IFERROR(VLOOKUP($A24,ENEMT!$A$1:$O$1776,11,FALSE),0)","v":2657},2657,0,{"$f":"IFERROR(VLOOKUP($A24,ENEFN!$A$2:$N$1776,5,FALSE),0)","v":201689369},201689369,2822.84,{"$f":"IFERROR(VLOOKUP($A24,ENEMT!$A$1:$O$1776,12,FALSE),0)","v":0},{"$f":"IFERROR(VLOOKUP($A24,ENEMT!$A$1:$O$1776,15,FALSE),0)","v":0},null,null,null,null,null,null,null,null,null,null,null,null,null,null,null,null,null,null,null,null,null,null,{"$f":"IFERROR(VLOOKUP($A24,ENEFN!$A$1:$N$1776,6,FALSE),0)","v":0},{"$f":"IFERROR(VLOOKUP($A24,ENEFN!$A$1:$N$1776,10,FALSE),0)","v":2822.84}]
["202-",null,202,"11","03","000","001","000","017-008",null,"Kilómetro",{"$f":"IFERROR(VLOOKUP($A25,ENEMT!$A$1:$O$1776,11,FALSE),0)","v":0},0,0,{"$f":"IFERROR(VLOOKUP($A25,ENEFN!$A$2:$N$1776,5,FALSE),0)","v":0},0,0,{"$f":"IFERROR(VLOOKUP($A25,ENEMT!$A$1:$O$1776,12,FALSE),0)","v":0},{"$f":"IFERROR(VLOOKUP($A25,ENEMT!$A$1:$O$1776,15,FALSE),0)","v":0},null,null,null,null,null,null,null,null,null,null,null,null,null,null,null,null,null,null,null,null,null,null,{"$f":"IFERROR(VLOOKUP($A25,ENEFN!$A$1:$N$1776,6,FALSE),0)","v":0},{"$f":"IFERROR(VLOOKUP($A25,ENEFN!$A$1:$N$1776,10,FALSE),0)","v":0}]
["202-017-008-0001",null,202,"11","03","000","001","000",null,"017-008-0001","Kilómetro",{"$f":"IFERROR(VLOOKUP($A26,ENEMT!$A$1:$O$1776,11,FALSE),0)","v":82},82,0,{"$f":"IFERROR(VLOOKUP($A26,ENEFN!$A$2:$N$1776,5,FALSE),0)","v":311854271},311854271,0,{"$f":"IFERROR(VLOOKUP($A26,ENEMT!$A$1:$O$1776,12,FALSE),0)","v":0},{"$f":"IFERROR(VLOOKUP($A26,ENEMT!$A$1:$O$1776,15,FALSE),0)","v":0},null,null,null,null,null,null,null,null,null,null,null,null,null,null,null,null,null,null,null,null,null,null,{"$f":"IFERROR(VLOOKUP($A26,ENEFN!$A$1:$N$1776,6,FALSE),0)","v":0},{"$f":"IFERROR(VLOOKUP($A26,ENEFN!$A$1:$N$1776,10,FALSE),0)","v":0}]
["203-",null,203,"11","01","000","001","000","017-001",null,"Documento",{"$f":"IFERROR(VLOOKUP($A27,ENEMT!$A$1:$O$1776,11,FALSE),0)","v":0},0,0,{"$f":"IFERROR(VLOOKUP($A27,ENEFN!$A$2:$N$1776,5,FALSE),0)","v":0},0,0,{"$f":"IFERROR(VLOOKUP($A27,ENEMT!$A$1:$O$1776,12,FALSE),0)","v":0},{"$f":"IFERROR(VLOOKUP($A27,ENEMT!$A$1:$O$1776,15,FALSE),0)","v":0},null,null,null,null,null,null,null,null,null,null,null,null,null,null,null,null,null,null,null,null,null,null,{"$f":"IFERROR(VLOOKUP($A27,ENEFN!$A$1:$N$1776,6,FALSE),0)","v":0},{"$f":"IFERROR(VLOOKUP($A27,ENEFN!$A$1:$N$1776,10,FALSE),0)","v":0}]
["203-017-001-0003",null,203,"11","01","000","001","000",null,"017-001-0003","Documento",{"$f":"IFERROR(VLOOKUP($A28,ENEMT!$A$1:$O$1776,11,FALSE),0)","v":11},11,0,{"$f":"IFERROR(VLOOKUP($A28,ENEFN!$A$2:$N$1776,5,FALSE),0)","v":5240000},5240000,0,{"$f":"IFERROR(VLOOKUP($A28,ENEMT!$A$1:$O$1776,12,FALSE),0)","v":0},{"$f":"IFERROR(VLOOKUP($A28,ENEMT!$A$1:$O$1776,15,FALSE),0)","v":0},null,null,null,null,null,null,null,null,null,null,null,null,null,null,null,null,null,null,null,null,null,null,{"$f":"IFERROR(VLOOKUP($A28,ENEFN!$A$1:$N$1776,6,FALSE),0)","v":0},{"$f":"IFERROR(VLOOKUP($A28,ENEFN!$A$1:$N$1776,10,FALSE),0)","v":0}]
["203-",null,203,"11","01","000","002","000","017-002",null,"Kilómetro",{"$f":"IFERROR(VLOOKUP($A29,ENEMT!$A$1:$O$1776,11,FALSE),0)","v":0},0,0,{"$f":"IFERROR(VLOOKUP($A29,ENEFN!$A$2:$N$1776,5,FALSE),0)","v":0},0,0,{"$f":"IFERROR(VLOOKUP($A29,ENEMT!$A$1:$O$1776,12,FALSE),0)","v":0},{"$f":"IFERROR(VLOOKUP($A29,ENEMT!$A$1:$O$1776,15,FALSE),0)","v":0},null,null,null,null,null,null,null,null,null,null,null,null,null,null,null,null,null,null,null,null,null,null,{"$f":"IFERROR(VLOOKUP($A29,ENEFN!$A$1:$N$1776,6,FALSE),0)","v":0},{"$f":"IFERROR(VLOOKUP($A29,ENEFN!$A$1:$N$1776,10,FALSE),0)","v":0}]
["203-017-002-0001",null,203,"11","01","000","002","000",null,"017-002-0001","Kilómetro",{"$f":"IFERROR(VLOOKUP($A30,ENEMT!$A$1:$O$1776,11,FALSE),0)","v":6453},6453,0,{"$f":"IFERROR(VLOOKUP($A30,ENEFN!$A$2:$N$1776,5,FALSE),0)","v":793952274},793952274,0,{"$f":"IFERROR(VLOOKUP($A30,ENEMT!$A$1:$O$1776,12,FALSE),0)","v":0},{"$f":"IFERROR(VLOOKUP($A30,ENEMT!$A$1:$O$1776,15,FALSE),0)","v":0},null,null,null,null,null,null,null,null,null,null,null,null,null,null,null,null,null,null,null,null,null,null,{"$f":"IFERROR(VLOOKUP($A30,ENEFN!$A$1:$N$1776,6,FALSE),0)","v":0},{"$f":"IFERROR(VLOOKUP($A30,ENEFN!$A$1:$N$1776,10,FALSE),0)","v":0}]
["203-",null,203,"11","00","000","001","000","017-003",null,"Evento",{"$f":"IFERROR(VLOOKUP($A31,ENEMT!$A$1:$O$1776,11,FALSE),0)","v":0},0,0,{"$f":"IFERROR(VLOOKUP($A31,ENEFN!$A$2:$N$1776,5,FALSE),0)","v":0},0,0,{"$f":"IFERROR(VLOOKUP($A31,ENEMT!$A$1:$O$1776,12,FALSE),0)","v":0},{"$f":"IFERROR(VLOOKUP($A31,ENEMT!$A$1:$O$1776,15,FALSE),0)","v":0},null,null,null,null,null,null,null,null,null,null,null,null,null,null,null,null,null,null,null,null,null,null,{"$f":"IFERROR(VLOOKUP($A31,ENEFN!$A$1:$N$1776,6,FALSE),0)","v":0},{"$f":"IFERROR(VLOOKUP($A31,ENEFN!$A$1:$N$1776,10,FALSE),0)","v":0}]
["203-017-003-0001",null,203,"11","00","000","001","000",null,"017-003-0001","Evento",{"$f":"IFERROR(VLOOKUP($A32,ENEMT!$A$1:$O$1776,11,FALSE),0)","v":120},120,0,{"$f":"IFERROR(VLOOKUP($A32,ENEFN!$A$2:$N$1776,5,FALSE),0)","v":27407860},27407860,0,{"$f":"IFERROR(VLOOKUP($A32,ENEMT!$A$1:$O$1776,12,FALSE),0)","v":0},{"$f":"IFERROR(VLOOKUP($A32,ENEMT!$A$1:$O$1776,15,FALSE),0)","v":0},null,null,null,null,null,null,null,null,null,null,null,null,null,null,null,null,null,null,null,null,null,null,{"$f":"IFERROR(VLOOKUP($A32,ENEFN!$A$1:$N$1776,6,FALSE),0)","v":0},{"$f":"IFERROR(VLOOKUP($A32,ENEFN!$A$1:$N$1776,10,FALSE),0)","v":0}]
["203-",null,203,"11","02","000","001","000","017-006",null,"Documento",{"$f":"IFERROR(VLOOKUP($A33,ENEMT!$A$1:$O$1776,11,FALSE),0)","v":0},0,0,{"$f":"IFERROR(VLOOKUP($A33,ENEFN!$A$2:$N$1776,5,FALSE),0)","v":0},0,0,{"$f":"IFERROR(VLOOKUP($A33,ENEMT!$A$1:$O$1776,12,FALSE),0)","v":0},{"$f":"IFERROR(VLOOKUP($A33,ENEMT!$A$1:$O$1776,15,FALSE),0)","v":0},null,null,null,null,null,null,null,null,null,null,null,null,null,null,null,null,null,null,null,null,null,null,{"$f":"IFERROR(VLOOKUP($A33,ENEFN!$A$1:$N$1776,6,FALSE),0)","v":0},{"$f":"IFERROR(VLOOKUP($A33,ENEFN!$A$1:$N$1776,10,FALSE),0)","v":0}]
["203-017-006-0002",null,203,"11","02","000","001","000",null,"017-006-0002","Documento",{"$f":"IFERROR(VLOOKUP($A34,ENEMT!$A$1:$O$1776,11,FALSE),0)","v":10},10,0,{"$f":"IFERROR(VLOOKUP($A34,ENEFN!$A$2:$N$1776,5,FALSE),0)","v":5000000},5000000,0,{"$f":"IFERROR(VLOOKUP($A34,ENEMT!$A$1:$O$1776,12,FALSE),0)","v":0},{"$f":"IFERROR(VLOOKUP($A34,ENEMT!$A$1:$O$1776,15,FALSE),0)","v":0},null,null,null,null,null,null,null,null,null,null,null,null,null,null,null,null,null,null,null,null,null,null,{"$f":"IFERROR(VLOOKUP($A34,ENEFN!$A$1:$N$1776,6,FALSE),0)","v":0},{"$f":"IFERROR(VLOOKUP($A34,ENEFN!$A$1:$N$1776,10,FALSE),0)","v":0}]
["203-",null,203,"11","02","000","002","000","017-007",null,"Kilómetro",{"$f":"IFERROR(VLOOKUP($A35,ENEMT!$A$1:$O$1776,11,FALSE),0)","v":0},0,0,{"$f":"IFERROR(VLOOKUP($A35,ENEFN!$A$2:$N$1776,5,FALSE),0)","v":0},0,0,{"$f":"IFERROR(VLOOKUP($A35,ENEMT!$A$1:$O$1776,12,FALSE),0)","v":0},{"$f":"IFERROR(VLOOKUP($A35,ENEMT!$A$1:$O$1776,15,FALSE),0)","v":0},null,null,null,null,null,null,null,null,null,null,null,null,null,null,null,null,null,null,null,null,null,null,{"$f":"IFERROR(VLOOKUP($A35,ENEFN!$A$1:$N$1776,6,FALSE),0)","v":0},{"$f":"IFERROR(VLOOKUP($A35,ENEFN!$A$1:$N$1776,10,FALSE),0)","v":0}]
["203-017-007-0001",null,203,"11","02","000","002","000",null,"017-007-0001","Kilómetro",{"$f":"IFERROR(VLOOKUP($A36,ENEMT!$A$1:$O$1776,11,FALSE),0)","v":5349},5349,0,{"$f":"IFERROR(VLOOKUP($A36,ENEFN!$A$2:$N$1776,5,FALSE),0)","v":550792866},550792866,0,{"$f":"IFERROR(VLOOKUP($A36,ENEMT!$A$1:$O$1776,12,FALSE),0)","v":0},{"$f":"IFERROR(VLOOKUP($A36,ENEMT!$A$1:$O$1776,15,FALSE),0)","v":0},null,null,null,null,null,null,null,null,null,null,null,null,null,null,null,null,null,null,null,null,null,null,{"$f":"IFERROR(VLOOKUP($A36,ENEFN!$A$1:$N$1776,6,FALSE),0)","v":0},{"$f":"IFERROR(VLOOKUP($A36,ENEFN!$A$1:$N$1776,10,FALSE),0)","v":0}]
["203-",null,203,94,14,"000","001","000","000-049",null,"Documento",{"$f":"IFERROR(VLOOKUP($A37,ENEMT!$A$1:$O$1776,11,FALSE),0)","v":0},0,0,{"$f":"IFERROR(VLOOKUP($A37,ENEFN!$A$2:$N$1776,5,FALSE),0)","v":0},0,0,{"$f":"IFERROR(VLOOKUP($A37,ENEMT!$A$1:$O$1776,12,FALSE),0)","v":0},{"$f":"IFERROR(VLOOKUP($A37,ENEMT!$A$1:$O$1776,15,FALSE),0)","v":0},null,null,null,null,null,null,null,null,null,null,null,null,null,null,null,null,null,null,null,null,null,null,{"$f":"IFERROR(VLOOKUP($A37,ENEFN!$A$1:$N$1776,6,FALSE),0)","v":0},{"$f":"IFERROR(VLOOKUP($A37,ENEFN!$A$1:$N$1776,10,FALSE),0)","v":0}]
["203-000-049-0001",null,203,94,14,"000","001","000",null,"000-049-0001","Documento",{"$f":"IFERROR(VLOOKUP($A38,ENEMT!$A$1:$O$1776,11,FALSE),0)","v":0},0,0,{"$f":"IFERROR(VLOOKUP($A38,ENEFN!$A$2:$N$1776,5,FALSE),0)","v":0},0,0,{"$f":"IFERROR(VLOOKUP($A38,ENEMT!$A$1:$O$1776,12,FALSE),0)","v":0},{"$f":"IFERROR(VLOOKUP($A38,ENEMT!$A$1:$O$1776,15,FALSE),0)","v":0},null,null,null,null,null,null,null,null,null,null,null,null,null,null,null,null,null,null,null,null,null,null,{"$f":"IFERROR(VLOOKUP($A38,ENEFN!$A$1:$N$1776,6,FALSE),0)","v":0},{"$f":"IFERROR(VLOOKUP($A38,ENEFN!$A$1:$N$1776,10,FALSE),0)","v":0}]
["203-",null,203,94,15,"000","001","000","000-051",null,"Documento",{"$f":"IFERROR(VLOOKUP($A39,ENEMT!$A$1:$O$1776,11,FALSE),0)","v":0},0,0,{"$f":"IFERROR(VLOOKUP($A39,ENEFN!$A$2:$N$1776,5,FALSE),0)","v":0},0,0,{"$f":"IFERROR(VLOOKUP($A39,ENEMT!$A$1:$O$1776,12,FALSE),0)","v":0},{"$f":"IFERROR(VLOOKUP($A39,ENEMT!$A$1:$O$1776,15,FALSE),0)","v":0},null,null,null,null,null,null,null,null,null,null,null,null,null,null,null,null,null,null,null,null,null,null,{"$f":"IFERROR(VLOOKUP($A39,ENEFN!$A$1:$N$1776,6,FALSE),0)","v":0},{"$f":"IFERROR(VLOOKUP($A39,ENEFN!$A$1:$N$1776,10,FALSE),0)","v":0}]
["203-000-051-0001",null,203,94,15,"000","001","000",null,"000-051-0001","Documento",{"$f":"IFERROR(VLOOKUP($A40,ENEMT!$A$1:$O$1776,11,FALSE),0)","v":0},0,0,{"$f":"IFERROR(VLOOKUP($A40,ENEFN!$A$2:$N$1776,5,FALSE),0)","v":0},0,0,{"$f":"IFERROR(VLOOKUP($A40,ENEMT!$A$1:$O$1776,12,FALSE),0)","v":0},{"$f":"IFERROR(VLOOKUP($A40,ENEMT!$A$1:$O$1776,15,FALSE),0)","v":0},null,null,null,null,null,null,null,null,null,null,null,null,null,null,null,null,null,null,null,null,null,null,{"$f":"IFERROR(VLOOKUP($A40,ENEFN!$A$1:$N$1776,6,FALSE),0)","v":0},{"$f":"IFERROR(VLOOKUP($A40,ENEFN!$A$1:$N$1776,10,FALSE),0)","v":0}]
["204-",null,204,"12","00","000","001","000","018-005",null,"Evento",{"$f":"IFERROR(VLOOKUP($A41,ENEMT!$A$1:$O$1776,11,FALSE),0)","v":0},0,0,{"$f":"IFERROR(VLOOKUP($A41,ENEFN!$A$2:$N$1776,5,FALSE),0)","v":0},0,0,{"$f":"IFERROR(VLOOKUP($A41,ENEMT!$A$1:$O$1776,12,FALSE),0)","v":0},{"$f":"IFERROR(VLOOKUP($A41,ENEMT!$A$1:$O$1776,15,FALSE),0)","v":0},null,null,null,null,null,null,null,null,null,null,null,null,null,null,null,null,null,null,null,null,null,null,{"$f":"IFERROR(VLOOKUP($A41,ENEFN!$A$1:$N$1776,6,FALSE),0)","v":0},{"$f":"IFERROR(VLOOKUP($A41,ENEFN!$A$1:$N$1776,10,FALSE),0)","v":0}]
["204-018-005-0001",null,204,"12","00","000","001","000",null,"018-005-0001","Evento",{"$f":"IFERROR(VLOOKUP($A42,ENEMT!$A$1:$O$1776,11,FALSE),0)","v":85},265,58,{"$f":"IFERROR(VLOOKUP($A42,ENEFN!$A$2:$N$1776,5,FALSE),0)","v":12264729},12264729,10621.37,{"$f":"IFERROR(VLOOKUP($A42,ENEMT!$A$1:$O$1776,12,FALSE),0)","v":180},{"$f":"IFERROR(VLOOKUP($A42,ENEMT!$A$1:$O$1776,15,FALSE),0)","v":58},null,null,null,null,null,null,null,null,null,null,null,null,null,null,null,null,null,null,null,null,null,null,{"$f":"IFERROR(VLOOKUP($A42,ENEFN!$A$1:$N$1776,6,FALSE),0)","v":0},{"$f":"IFERROR(VLOOKUP($A42,ENEFN!$A$1:$N$1776,10,FALSE),0)","v":10621.37}]
["204-",null,204,"12","00","000","002","000","018-006",null,"Documento",{"$f":"IFERROR(VLOOKUP($A43,ENEMT!$A$1:$O$1776,11,FALSE),0)","v":0},0,0,{"$f":"IFERROR(VLOOKUP($A43,ENEFN!$A$2:$N$1776,5,FALSE),0)","v":0},0,0,{"$f":"IFERROR(VLOOKUP($A43,ENEMT!$A$1:$O$1776,12,FALSE),0)","v":0},{"$f":"IFERROR(VLOOKUP($A43,ENEMT!$A$1:$O$1776,15,FALSE),0)","v":0},null,null,null,null,null,null,null,null,null,null,null,null,null,null,null,null,null,null,null,null,null,null,{"$f":"IFERROR(VLOOKUP($A43,ENEFN!$A$1:$N$1776,6,FALSE),0)","v":0},{"$f":"IFERROR(VLOOKUP($A43,ENEFN!$A$1:$N$1776,10,FALSE),0)","v":0}]
["204-018-006-0001",null,204,"12","00","000","002","000",null,"018-006-0001","Documento",{"$f":"IFERROR(VLOOKUP($A44,ENEMT!$A$1:$O$1776,11,FALSE),0)","v":525},525,40,{"$f":"IFERROR(VLOOKUP($A44,ENEFN!$A$2:$N$1776,5,FALSE),0)","v":1031212},1031212,0,{"$f":"IFERROR(VLOOKUP($A44,ENEMT!$A$1:$O$1776,12,FALSE),0)","v":0},{"$f":"IFERROR(VLOOKUP($A44,ENEMT!$A$1:$O$1776,15,FALSE),0)","v":40},null,null,null,null,null,null,null,null,null,null,null,null,null,null,null,null,null,null,null,null,null,null,{"$f":"IFERROR(VLOOKUP($A44,ENEFN!$A$1:$N$1776,6,FALSE),0)","v":0},{"$f":"IFERROR(VLOOKUP($A44,ENEFN!$A$1:$N$1776,10,FALSE),0)","v":0}]
["204-018-006-0002",null,204,"12","00","000","002","000",null,"018-006-0002","Documento",{"$f":"IFERROR(VLOOKUP($A45,ENEMT!$A$1:$O$1776,11,FALSE),0)","v":1575},3675,160,{"$f":"IFERROR(VLOOKUP($A45,ENEFN!$A$2:$N$1776,5,FALSE),0)","v":183000},183000,0,{"$f":"IFERROR(VLOOKUP($A45,ENEMT!$A$1:$O$1776,12,FALSE),0)","v":2100},{"$f":"IFERROR(VLOOKUP($A45,ENEMT!$A$1:$O$1776,15,FALSE),0)","v":160},null,null,null,null,null,null,null,null,null,null,null,null,null,null,null,null,null,null,null,null,null,null,{"$f":"IFERROR(VLOOKUP($A45,ENEFN!$A$1:$N$1776,6,FALSE),0)","v":0},{"$f":"IFERROR(VLOOKUP($A45,ENEFN!$A$1:$N$1776,10,FALSE),0)","v":0}]
["204-018-006-0003",null,204,"12","00","000","002","000",null,"018-006-0003","Documento",{"$f":"IFERROR(VLOOKUP($A46,ENEMT!$A$1:$O$1776,11,FALSE),0)","v":1550},3550,160,{"$f":"IFERROR(VLOOKUP($A46,ENEFN!$A$2:$N$1776,5,FALSE),0)","v":728318},728318,0,{"$f":"IFERROR(VLOOKUP($A46,ENEMT!$A$1:$O$1776,12,FALSE),0)","v":2000},{"$f":"IFERROR(VLOOKUP($A46,ENEMT!$A$1:$O$1776,15,FALSE),0)","v":160},null,null,null,null,null,null,null,null,null,null,null,null,null,null,null,null,null,null,null,null,null,null,{"$f":"IFERROR(VLOOKUP($A46,ENEFN!$A$1:$N$1776,6,FALSE),0)","v":0},{"$f":"IFERROR(VLOOKUP($A46,ENEFN!$A$1:$N$1776,10,FALSE),0)","v":0}]
["204-018-006-0004",null,204,"12","00","000","002","000",null,"018-006-0004","Evento",{"$f":"IFERROR(VLOOKUP($A47,ENEMT!$A$1:$O$1776,11,FALSE),0)","v":1470},3670,190,{"$f":"IFERROR(VLOOKUP($A47,ENEFN!$A$2:$N$1776,5,FALSE),0)","v":369011},369011,0,{"$f":"IFERROR(VLOOKUP($A47,ENEMT!$A$1:$O$1776,12,FALSE),0)","v":2200},{"$f":"IFERROR(VLOOKUP($A47,ENEMT!$A$1:$O$1776,15,FALSE),0)","v":190},null,null,null,null,null,null,null,null,null,null,null,null,null,null,null,null,null,null,null,null,null,null,{"$f":"IFERROR(VLOOKUP($A47,ENEFN!$A$1:$N$1776,6,FALSE),0)","v":0},{"$f":"IFERROR(VLOOKUP($A47,ENEFN!$A$1:$N$1776,10,FALSE),0)","v":0}]
["204-018-006-0005",null,204,"12","00","000","002","000",null,"018-006-0005","Documento",{"$f":"IFERROR(VLOOKUP($A48,ENEMT!$A$1:$O$1776,11,FALSE),0)","v":420},6420,400,{"$f":"IFERROR(VLOOKUP($A48,ENEFN!$A$2:$N$1776,5,FALSE),0)","v":350000},350000,0,{"$f":"IFERROR(VLOOKUP($A48,ENEMT!$A$1:$O$1776,12,FALSE),0)","v":6000},{"$f":"IFERROR(VLOOKUP($A48,ENEMT!$A$1:$O$1776,15,FALSE),0)","v":400},null,null,null,null,null,null,null,null,null,null,null,null,null,null,null,null,null,null,null,null,null,null,{"$f":"IFERROR(VLOOKUP($A48,ENEFN!$A$1:$N$1776,6,FALSE),0)","v":0},{"$f":"IFERROR(VLOOKUP($A48,ENEFN!$A$1:$N$1776,10,FALSE),0)","v":0}]
["204-018-006-0007",null,204,"12","00","000","002","000",null,"018-006-0007","Documento",{"$f":"IFERROR(VLOOKUP($A49,ENEMT!$A$1:$O$1776,11,FALSE),0)","v":525},1525,70,{"$f":"IFERROR(VLOOKUP($A49,ENEFN!$A$2:$N$1776,5,FALSE),0)","v":25000},25000,0,{"$f":"IFERROR(VLOOKUP($A49,ENEMT!$A$1:$O$1776,12,FALSE),0)","v":1000},{"$f":"IFERROR(VLOOKUP($A49,ENEMT!$A$1:$O$1776,15,FALSE),0)","v":70},null,null,null,null,null,null,null,null,null,null,null,null,null,null,null,null,null,null,null,null,null,null,{"$f":"IFERROR(VLOOKUP($A49,ENEFN!$A$1:$N$1776,6,FALSE),0)","v":0},{"$f":"IFERROR(VLOOKUP($A49,ENEFN!$A$1:$N$1776,10,FALSE),0)","v":0}]
["205-",null,205,"99","00","000","002","000","000-005",null,"Aporte",{"$f":"IFERROR(VLOOKUP($A50,ENEMT!$A$1:$O$1776,11,FALSE),0)","v":0},0,0,{"$f":"IFERROR(VLOOKUP($A50,ENEFN!$A$2:$N$1776,5,FALSE),0)","v":0},0,0,{"$f":"IFERROR(VLOOKUP($A50,ENEMT!$A$1:$O$1776,12,FALSE),0)","v":0},{"$f":"IFERROR(VLOOKUP($A50,ENEMT!$A$1:$O$1776,15,FALSE),0)","v":0},null,null,null,null,null,null,null,null,null,null,null,null,null,null,null,null,null,null,null,null,null,null,{"$f":"IFERROR(VLOOKUP($A50,ENEFN!$A$1:$N$1776,6,FALSE),0)","v":0},{"$f":"IFERROR(VLOOKUP($A50,ENEFN!$A$1:$N$1776,10,FALSE),0)","v":0}]
["205-000-005-0001",null,205,"99","00","000","002","000",null,"000-005-0001","Aporte",{"$f":"IFERROR(VLOOKUP($A51,ENEMT!$A$1:$O$1776,11,FALSE),0)","v":1},2,0,{"$f":"IFERROR(VLOOKUP($A51,ENEFN!$A$2:$N$1776,5,FALSE),0)","v":450000},450000,0,{"$f":"IFERROR(VLOOKUP($A51,ENEMT!$A$1:$O$1776,12,FALSE),0)","v":1},{"$f":"IFERROR(VLOOKUP($A51,ENEMT!$A$1:$O$1776,15,FALSE),0)","v":0},null,null,null,null,null,null,null,null,null,null,null,null,null,null,null,null,null,null,null,null,null,null,{"$f":"IFERROR(VLOOKUP($A51,ENEFN!$A$1:$N$1776,6,FALSE),0)","v":0},{"$f":"IFERROR(VLOOKUP($A51,ENEFN!$A$1:$N$1776,10,FALSE),0)","v":0}]
["205-",null,205,"13","00","000","001","000","000-013",null,"Evento",{"$f":"IFERROR(VLOOKUP($A52,ENEMT!$A$1:$O$1776,11,FALSE),0)","v":0},0,0,{"$f":"IFERROR(VLOOKUP($A52,ENEFN!$A$2:$N$1776,5,FALSE),0)","v":0},0,0,{"$f":"IFERROR(VLOOKUP($A52,ENEMT!$A$1:$O$1776,12,FALSE),0)","v":0},{"$f":"IFERROR(VLOOKUP($A52,ENEMT!$A$1:$O$1776,15,FALSE),0)","v":0},null,null,null,null,null,null,null,null,null,null,null,null,null,null,null,null,null,null,null,null,null,null,{"$f":"IFERROR(VLOOKUP($A52,ENEFN!$A$1:$N$1776,6,FALSE),0)","v":0},{"$f":"IFERROR(VLOOKUP($A52,ENEFN!$A$1:$N$1776,10,FALSE),0)","v":0}]
["205-000-013-0001",null,205,"13","00","000","001","000",null,"000-013-0001","Evento",{"$f":"IFERROR(VLOOKUP($A53,ENEMT!$A$1:$O$1776,11,FALSE),0)","v":990},1890,773,{"$f":"IFERROR(VLOOKUP($A53,ENEFN!$A$2:$N$1776,5,FALSE),0)","v":144895709},144895709,3339291.04,{"$f":"IFERROR(VLOOKUP($A53,ENEMT!$A$1:$O$1776,12,FALSE),0)","v":900},{"$f":"IFERROR(VLOOKUP($A53,ENEMT!$A$1:$O$1776,15,FALSE),0)","v":773},null,null,null,null,null,null,null,null,null,null,null,null,null,null,null,null,null,null,null,null,null,null,{"$f":"IFERROR(VLOOKUP($A53,ENEFN!$A$1:$N$1776,6,FALSE),0)","v":0},{"$f":"IFERROR(VLOOKUP($A53,ENEFN!$A$1:$N$1776,10,FALSE),0)","v":3339291.04}]
["205-",null,205,"13","00","000","002","000","000-014",null,"Aeronave",{"$f":"IFERROR(VLOOKUP($A54,ENEMT!$A$1:$O$1776,11,FALSE),0)","v":0},0,0,{"$f":"IFERROR(VLOOKUP($A54,ENEFN!$A$2:$N$1776,5,FALSE),0)","v":0},0,0,{"$f":"IFERROR(VLOOKUP($A54,ENEMT!$A$1:$O$1776,12,FALSE),0)","v":0},{"$f":"IFERROR(VLOOKUP($A54,ENEMT!$A$1:$O$1776,15,FALSE),0)","v":0},null,null,null,null,null,null,null,null,null,null,null,null,null,null,null,null,null,null,null,null,null,null,{"$f":"IFERROR(VLOOKUP($A54,ENEFN!$A$1:$N$1776,6,FALSE),0)","v":0},{"$f":"IFERROR(VLOOKUP($A54,ENEFN!$A$1:$N$1776,10,FALSE),0)","v":0}]
["205-000-014-0001",null,205,"13","00","000","002","000",null,"000-014-0001","Persona",{"$f":"IFERROR(VLOOKUP($A55,ENEMT!$A$1:$O$1776,11,FALSE),0)","v":291179},1653803,129811,{"$f":"IFERROR(VLOOKUP($A55,ENEFN!$A$2:$N$1776,5,FALSE),0)","v":18478387},18478387,0,{"$f":"IFERROR(VLOOKUP($A55,ENEMT!$A$1:$O$1776,12,FALSE),0)","v":1362624},{"$f":"IFERROR(VLOOKUP($A55,ENEMT!$A$1:$O$1776,15,FALSE),0)","v":129811},null,null,null,null,null,null,null,null,null,null,null,null,null,null,null,null,null,null,null,null,null,null,{"$f":"IFERROR(VLOOKUP($A55,ENEFN!$A$1:$N$1776,6,FALSE),0)","v":0},{"$f":"IFERROR(VLOOKUP($A55,ENEFN!$A$1:$N$1776,10,FALSE),0)","v":0}]
["205-000-014-0002",null,205,"13","00","000","002","000",null,"000-014-0002","Persona",{"$f":"IFERROR(VLOOKUP($A56,ENEMT!$A$1:$O$1776,11,FALSE),0)","v":1676801},1645283,136286,{"$f":"IFERROR(VLOOKUP($A56,ENEFN!$A$2:$N$1776,5,FALSE),0)","v":54283348},54283348,597225.18999999994,{"$f":"IFERROR(VLOOKUP($A56,ENEMT!$A$1:$O$1776,12,FALSE),0)","v":-31518},{"$f":"IFERROR(VLOOKUP($A56,ENEMT!$A$1:$O$1776,15,FALSE),0)","v":136286},null,null,null,null,null,null,null,null,null,null,null,null,null,null,null,null,null,null,null,null,null,null,{"$f":"IFERROR(VLOOKUP($A56,ENEFN!$A$1:$N$1776,6,FALSE),0)","v":0},{"$f":"IFERROR(VLOOKUP($A56,ENEFN!$A$1:$N$1776,10,FALSE),0)","v":597225.18999999994}]
["205-000-014-0003",null,205,"13","00","000","002","000",null,"000-014-0003","Kilogramo",{"$f":"IFERROR(VLOOKUP($A57,ENEMT!$A$1:$O$1776,11,FALSE),0)","v":86739745},31186567,2174612,{"$f":"IFERROR(VLOOKUP($A57,ENEFN!$A$2:$N$1776,5,FALSE),0)","v":591375},591375,0,{"$f":"IFERROR(VLOOKUP($A57,ENEMT!$A$1:$O$1776,12,FALSE),0)","v":-55553178},{"$f":"IFERROR(VLOOKUP($A57,ENEMT!$A$1:$O$1776,15,FALSE),0)","v":2174612},null,null,null,null,null,null,null,null,null,null,null,null,null,null,null,null,null,null,null,null,null,null,{"$f":"IFERROR(VLOOKUP($A57,ENEFN!$A$1:$N$1776,6,FALSE),0)","v":0},{"$f":"IFERROR(VLOOKUP($A57,ENEFN!$A$1:$N$1776,10,FALSE),0)","v":0}]
["205-000-014-0004",null,205,"13","00","000","002","000",null,"000-014-0004","Kilogramo",{"$f":"IFERROR(VLOOKUP($A58,ENEMT!$A$1:$O$1776,11,FALSE),0)","v":33930296},24082459,1828291,{"$f":"IFERROR(VLOOKUP($A58,ENEFN!$A$2:$N$1776,5,FALSE),0)","v":264205},264205,0,{"$f":"IFERROR(VLOOKUP($A58,ENEMT!$A$1:$O$1776,12,FALSE),0)","v":-9847837},{"$f":"IFERROR(VLOOKUP($A58,ENEMT!$A$1:$O$1776,15,FALSE),0)","v":1828291},null,null,null,null,null,null,null,null,null,null,null,null,null,null,null,null,null,null,null,null,null,null,{"$f":"IFERROR(VLOOKUP($A58,ENEFN!$A$1:$N$1776,6,FALSE),0)","v":0},{"$f":"IFERROR(VLOOKUP($A58,ENEFN!$A$1:$N$1776,10,FALSE),0)","v":0}]
["205-000-014-0005",null,205,"13","00","000","002","000",null,"000-014-0005","Aeronave",{"$f":"IFERROR(VLOOKUP($A59,ENEMT!$A$1:$O$1776,11,FALSE),0)","v":297},523,27,{"$f":"IFERROR(VLOOKUP($A59,ENEFN!$A$2:$N$1776,5,FALSE),0)","v":206100},206100,0,{"$f":"IFERROR(VLOOKUP($A59,ENEMT!$A$1:$O$1776,12,FALSE),0)","v":226},{"$f":"IFERROR(VLOOKUP($A59,ENEMT!$A$1:$O$1776,15,FALSE),0)","v":27},null,null,null,null,null,null,null,null,null,null,null,null,null,null,null,null,null,null,null,null,null,null,{"$f":"IFERROR(VLOOKUP($A59,ENEFN!$A$1:$N$1776,6,FALSE),0)","v":0},{"$f":"IFERROR(VLOOKUP($A59,ENEFN!$A$1:$N$1776,10,FALSE),0)","v":0}]
["205-000-014-0006",null,205,"13","00","000","002","000",null,"000-014-0006","Aeronave",{"$f":"IFERROR(VLOOKUP($A60,ENEMT!$A$1:$O$1776,11,FALSE),0)","v":135},210,11,{"$f":"IFERROR(VLOOKUP($A60,ENEFN!$A$2:$N$1776,5,FALSE),0)","v":250275},250275,0,{"$f":"IFERROR(VLOOKUP($A60,ENEMT!$A$1:$O$1776,12,FALSE),0)","v":75},{"$f":"IFERROR(VLOOKUP($A60,ENEMT!$A$1:$O$1776,15,FALSE),0)","v":11},null,null,null,null,null,null,null,null,null,null,null,null,null,null,null,null,null,null,null,null,null,null,{"$f":"IFERROR(VLOOKUP($A60,ENEFN!$A$1:$N$1776,6,FALSE),0)","v":0},{"$f":"IFERROR(VLOOKUP($A60,ENEFN!$A$1:$N$1776,10,FALSE),0)","v":0}]
["205-000-014-0007",null,205,"13","00","000","002","000",null,"000-014-0007","Aeronave",{"$f":"IFERROR(VLOOKUP($A61,ENEMT!$A$1:$O$1776,11,FALSE),0)","v":1244},3530,300,{"$f":"IFERROR(VLOOKUP($A61,ENEFN!$A$2:$N$1776,5,FALSE),0)","v":179825},179825,0,{"$f":"IFERROR(VLOOKUP($A61,ENEMT!$A$1:$O$1776,12,FALSE),0)","v":2286},{"$f":"IFERROR(VLOOKUP($A61,ENEMT!$A$1:$O$1776,15,FALSE),0)","v":300},null,null,null,null,null,null,null,null,null,null,null,null,null,null,null,null,null,null,null,null,null,null,{"$f":"IFERROR(VLOOKUP($A61,ENEFN!$A$1:$N$1776,6,FALSE),0)","v":0},{"$f":"IFERROR(VLOOKUP($A61,ENEFN!$A$1:$N$1776,10,FALSE),0)","v":0}]
["205-",null,205,"13","00","000","003","000","000-016",null,"Aeronave",{"$f":"IFERROR(VLOOKUP($A62,ENEMT!$A$1:$O$1776,11,FALSE),0)","v":0},0,0,{"$f":"IFERROR(VLOOKUP($A62,ENEFN!$A$2:$N$1776,5,FALSE),0)","v":0},0,0,{"$f":"IFERROR(VLOOKUP($A62,ENEMT!$A$1:$O$1776,12,FALSE),0)","v":0},{"$f":"IFERROR(VLOOKUP($A62,ENEMT!$A$1:$O$1776,15,FALSE),0)","v":0},null,null,null,null,null,null,null,null,null,null,null,null,null,null,null,null,null,null,null,null,null,null,{"$f":"IFERROR(VLOOKUP($A62,ENEFN!$A$1:$N$1776,6,FALSE),0)","v":0},{"$f":"IFERROR(VLOOKUP($A62,ENEFN!$A$1:$N$1776,10,FALSE),0)","v":0}]
["205-000-016-0001",null,205,"13","00","000","003","000",null,"000-016-0001","Aeronave",{"$f":"IFERROR(VLOOKUP($A63,ENEMT!$A$1:$O$1776,11,FALSE),0)","v":84696},89251,7080,{"$f":"IFERROR(VLOOKUP($A63,ENEFN!$A$2:$N$1776,5,FALSE),0)","v":13660761},13660761,0,{"$f":"IFERROR(VLOOKUP($A63,ENEMT!$A$1:$O$1776,12,FALSE),0)","v":4555},{"$f":"IFERROR(VLOOKUP($A63,ENEMT!$A$1:$O$1776,15,FALSE),0)","v":7080},null,null,null,null,null,null,null,null,null,null,null,null,null,null,null,null,null,null,null,null,null,null,{"$f":"IFERROR(VLOOKUP($A63,ENEFN!$A$1:$N$1776,6,FALSE),0)","v":0},{"$f":"IFERROR(VLOOKUP($A63,ENEFN!$A$1:$N$1776,10,FALSE),0)","v":0}]
["205-",null,205,"13","00","000","004","000","000-017",null,"Metro cuadrado",{"$f":"IFERROR(VLOOKUP($A64,ENEMT!$A$1:$O$1776,11,FALSE),0)","v":0},0,0,{"$f":"IFERROR(VLOOKUP($A64,ENEFN!$A$2:$N$1776,5,FALSE),0)","v":0},0,0,{"$f":"IFERROR(VLOOKUP($A64,ENEMT!$A$1:$O$1776,12,FALSE),0)","v":0},{"$f":"IFERROR(VLOOKUP($A64,ENEMT!$A$1:$O$1776,15,FALSE),0)","v":0},null,null,null,null,null,null,null,null,null,null,null,null,null,null,null,null,null,null,null,null,null,null,{"$f":"IFERROR(VLOOKUP($A64,ENEFN!$A$1:$N$1776,6,FALSE),0)","v":0},{"$f":"IFERROR(VLOOKUP($A64,ENEFN!$A$1:$N$1776,10,FALSE),0)","v":0}]
["205-000-017-0001",null,205,"13","00","000","004","000",null,"000-017-0001","Metro cuadrado",{"$f":"IFERROR(VLOOKUP($A65,ENEMT!$A$1:$O$1776,11,FALSE),0)","v":728874},185344,8981,{"$f":"IFERROR(VLOOKUP($A65,ENEFN!$A$2:$N$1776,5,FALSE),0)","v":16133540},16133540,142767.07999999999,{"$f":"IFERROR(VLOOKUP($A65,ENEMT!$A$1:$O$1776,12,FALSE),0)","v":-543530},{"$f":"IFERROR(VLOOKUP($A65,ENEMT!$A$1:$O$1776,15,FALSE),0)","v":8981},null,null,null,null,null,null,null,null,null,null,null,null,null,null,null,null,null,null,null,null,null,null,{"$f":"IFERROR(VLOOKUP($A65,ENEFN!$A$1:$N$1776,6,FALSE),0)","v":0},{"$f":"IFERROR(VLOOKUP($A65,ENEFN!$A$1:$N$1776,10,FALSE),0)","v":142767.07999999999}]
["206-",null,206,"14","00","000","001","000","000-018",null,"Evento",{"$f":"IFERROR(VLOOKUP($A66,ENEMT!$A$1:$O$1776,11,FALSE),0)","v":0},0,0,{"$f":"IFERROR(VLOOKUP($A66,ENEFN!$A$2:$N$1776,5,FALSE),0)","v":0},0,0,{"$f":"IFERROR(VLOOKUP($A66,ENEMT!$A$1:$O$1776,12,FALSE),0)","v":0},{"$f":"IFERROR(VLOOKUP($A66,ENEMT!$A$1:$O$1776,15,FALSE),0)","v":0},null,null,null,null,null,null,null,null,null,null,null,null,null,null,null,null,null,null,null,null,null,null,{"$f":"IFERROR(VLOOKUP($A66,ENEFN!$A$1:$N$1776,6,FALSE),0)","v":0},{"$f":"IFERROR(VLOOKUP($A66,ENEFN!$A$1:$N$1776,10,FALSE),0)","v":0}]
["206-000-018-0001",null,206,"14","00","000","001","000",null,"000-018-0001","Evento",{"$f":"IFERROR(VLOOKUP($A67,ENEMT!$A$1:$O$1776,11,FALSE),0)","v":117},117,0,{"$f":"IFERROR(VLOOKUP($A67,ENEFN!$A$2:$N$1776,5,FALSE),0)","v":28177916},28177916,86929.55,{"$f":"IFERROR(VLOOKUP($A67,ENEMT!$A$1:$O$1776,12,FALSE),0)","v":0},{"$f":"IFERROR(VLOOKUP($A67,ENEMT!$A$1:$O$1776,15,FALSE),0)","v":0},null,null,null,null,null,null,null,null,null,null,null,null,null,null,null,null,null,null,null,null,null,null,{"$f":"IFERROR(VLOOKUP($A67,ENEFN!$A$1:$N$1776,6,FALSE),0)","v":0},{"$f":"IFERROR(VLOOKUP($A67,ENEFN!$A$1:$N$1776,10,FALSE),0)","v":86929.55}]
["206-000-018-0002",null,206,"14","00","000","001","000",null,"000-018-0002","Persona",{"$f":"IFERROR(VLOOKUP($A68,ENEMT!$A$1:$O$1776,11,FALSE),0)","v":10354},10354,0,{"$f":"IFERROR(VLOOKUP($A68,ENEFN!$A$2:$N$1776,5,FALSE),0)","v":5100000},5100000,0,{"$f":"IFERROR(VLOOKUP($A68,ENEMT!$A$1:$O$1776,12,FALSE),0)","v":0},{"$f":"IFERROR(VLOOKUP($A68,ENEMT!$A$1:$O$1776,15,FALSE),0)","v":0},null,null,null,null,null,null,null,null,null,null,null,null,null,null,null,null,null,null,null,null,null,null,{"$f":"IFERROR(VLOOKUP($A68,ENEFN!$A$1:$N$1776,6,FALSE),0)","v":0},{"$f":"IFERROR(VLOOKUP($A68,ENEFN!$A$1:$N$1776,10,FALSE),0)","v":0}]
["206-000-018-0003",null,206,"14","00","000","001","000",null,"000-018-0003","Evento",{"$f":"IFERROR(VLOOKUP($A69,ENEMT!$A$1:$O$1776,11,FALSE),0)","v":116},113,0,{"$f":"IFERROR(VLOOKUP($A69,ENEFN!$A$2:$N$1776,5,FALSE),0)","v":181478546},181478546,0,{"$f":"IFERROR(VLOOKUP($A69,ENEMT!$A$1:$O$1776,12,FALSE),0)","v":-3},{"$f":"IFERROR(VLOOKUP($A69,ENEMT!$A$1:$O$1776,15,FALSE),0)","v":0},null,null,null,null,null,null,null,null,null,null,null,null,null,null,null,null,null,null,null,null,null,null,{"$f":"IFERROR(VLOOKUP($A69,ENEFN!$A$1:$N$1776,6,FALSE),0)","v":0},{"$f":"IFERROR(VLOOKUP($A69,ENEFN!$A$1:$N$1776,10,FALSE),0)","v":0}]
["206-",null,206,94,11,"000","001","000","000-048",null,"Documento",{"$f":"IFERROR(VLOOKUP($A70,ENEMT!$A$1:$O$1776,11,FALSE),0)","v":0},0,0,{"$f":"IFERROR(VLOOKUP($A70,ENEFN!$A$2:$N$1776,5,FALSE),0)","v":0},0,0,{"$f":"IFERROR(VLOOKUP($A70,ENEMT!$A$1:$O$1776,12,FALSE),0)","v":0},{"$f":"IFERROR(VLOOKUP($A70,ENEMT!$A$1:$O$1776,15,FALSE),0)","v":0},null,null,null,null,null,null,null,null,null,null,null,null,null,null,null,null,null,null,null,null,null,null,{"$f":"IFERROR(VLOOKUP($A70,ENEFN!$A$1:$N$1776,6,FALSE),0)","v":0},{"$f":"IFERROR(VLOOKUP($A70,ENEFN!$A$1:$N$1776,10,FALSE),0)","v":0}]
["206-000-048-0002",null,206,94,11,"000","001","000",null,"000-048-0002","Evento",{"$f":"IFERROR(VLOOKUP($A71,ENEMT!$A$1:$O$1776,11,FALSE),0)","v":0},0,0,{"$f":"IFERROR(VLOOKUP($A71,ENEFN!$A$2:$N$1776,5,FALSE),0)","v":0},0,0,{"$f":"IFERROR(VLOOKUP($A71,ENEMT!$A$1:$O$1776,12,FALSE),0)","v":0},{"$f":"IFERROR(VLOOKUP($A71,ENEMT!$A$1:$O$1776,15,FALSE),0)","v":0},null,null,null,null,null,null,null,null,null,null,null,null,null,null,null,null,null,null,null,null,null,null,{"$f":"IFERROR(VLOOKUP($A71,ENEFN!$A$1:$N$1776,6,FALSE),0)","v":0},{"$f":"IFERROR(VLOOKUP($A71,ENEFN!$A$1:$N$1776,10,FALSE),0)","v":0}]
["206-",null,206,94,14,"000","001","000","000-049",null,"Documento",{"$f":"IFERROR(VLOOKUP($A72,ENEMT!$A$1:$O$1776,11,FALSE),0)","v":0},0,0,{"$f":"IFERROR(VLOOKUP($A72,ENEFN!$A$2:$N$1776,5,FALSE),0)","v":0},0,0,{"$f":"IFERROR(VLOOKUP($A72,ENEMT!$A$1:$O$1776,12,FALSE),0)","v":0},{"$f":"IFERROR(VLOOKUP($A72,ENEMT!$A$1:$O$1776,15,FALSE),0)","v":0},null,null,null,null,null,null,null,null,null,null,null,null,null,null,null,null,null,null,null,null,null,null,{"$f":"IFERROR(VLOOKUP($A72,ENEFN!$A$1:$N$1776,6,FALSE),0)","v":0},{"$f":"IFERROR(VLOOKUP($A72,ENEFN!$A$1:$N$1776,10,FALSE),0)","v":0}]
["206-000-049-0001",null,206,94,14,"000","001","000",null,"000-049-0001","Documento",{"$f":"IFERROR(VLOOKUP($A73,ENEMT!$A$1:$O$1776,11,FALSE),0)","v":0},0,0,{"$f":"IFERROR(VLOOKUP($A73,ENEFN!$A$2:$N$1776,5,FALSE),0)","v":0},0,0,{"$f":"IFERROR(VLOOKUP($A73,ENEMT!$A$1:$O$1776,12,FALSE),0)","v":0},{"$f":"IFERROR(VLOOKUP($A73,ENEMT!$A$1:$O$1776,15,FALSE),0)","v":0},null,null,null,null,null,null,null,null,null,null,null,null,null,null,null,null,null,null,null,null,null,null,{"$f":"IFERROR(VLOOKUP($A73,ENEFN!$A$1:$N$1776,6,FALSE),0)","v":0},{"$f":"IFERROR(VLOOKUP($A73,ENEFN!$A$1:$N$1776,10,FALSE),0)","v":0}]
[{"$f":"CONCATENATE(C74,\"-\",J74)","v":"206-"},null,206,94,15,"000","001","000","000-051",null,"Documento",{"$f":"IFERROR(VLOOKUP($A74,ENEMT!$A$1:$O$1776,11,FALSE),0)","v":0},{"$f":"+L74+R74+T74+V74+X74+Z74+AB74+AD74+AF74+AH74+AJ74+AL74+AN74","v":0},{"$f":"+S74+U74+W74+Y74+AA74+AC74+AE74+AG74+AI74+AK74+AM74+AO74","v":0},{"$f":"IFERROR(VLOOKUP($A74,ENEFN!$A$2:$N$1776,5,FALSE),0)","v":0},{"$f":"+O74+AP74+AR74+AT74+AV74+AX74+AZ74+BB74+BD74+BF74+BH74+BJ74+BL74","v":0},{"$f":"+AQ74+AS74+AU74+AW74+AY74+BA74+BC74+BE74+BG74+BI74+BK74+BM74","v":0},{"$f":"IFERROR(VLOOKUP($A74,ENEMT!$A$1:$O$1776,12,FALSE),0)","v":0},{"$f":"IFERROR(VLOOKUP($A74,ENEMT!$A$1:$O$1776,15,FALSE),0)","v":0},null,null,null,null,null,null,null,null,null,null,null,null,null,null,null,null,null,null,null,null,null,null,{"$f":"IFERROR(VLOOKUP($A74,ENEFN!$A$1:$N$1776,6,FALSE),0)","v":0},{"$f":"IFERROR(VLOOKUP($A74,ENEFN!$A$1:$N$1776,10,FALSE),0)","v":0}]
["206-000-051-0001",null,206,94,15,"000","001","000",null,"000-051-0001","Documento",{"$f":"IFERROR(VLOOKUP($A75,ENEMT!$A$1:$O$1776,11,FALSE),0)","v":0},0,0,{"$f":"IFERROR(VLOOKUP($A75,ENEFN!$A$2:$N$1776,5,FALSE),0)","v":0},0,0,{"$f":"IFERROR(VLOOKUP($A75,ENEMT!$A$1:$O$1776,12,FALSE),0)","v":0},{"$f":"IFERROR(VLOOKUP($A75,ENEMT!$A$1:$O$1776,15,FALSE),0)","v":0},null,null,null,null,null,null,null,null,null,null,null,null,null,null,null,null,null,null,null,null,null,null,{"$f":"IFERROR(VLOOKUP($A75,ENEFN!$A$1:$N$1776,6,FALSE),0)","v":0},{"$f":"IFERROR(VLOOKUP($A75,ENEFN!$A$1:$N$1776,10,FALSE),0)","v":0}]
["207-",null,207,"15","00","000","001","000","000-019",null,"Evento",{"$f":"IFERROR(VLOOKUP($A76,ENEMT!$A$1:$O$1776,11,FALSE),0)","v":0},0,0,{"$f":"IFERROR(VLOOKUP($A76,ENEFN!$A$2:$N$1776,5,FALSE),0)","v":0},0,0,{"$f":"IFERROR(VLOOKUP($A76,ENEMT!$A$1:$O$1776,12,FALSE),0)","v":0},{"$f":"IFERROR(VLOOKUP($A76,ENEMT!$A$1:$O$1776,15,FALSE),0)","v":0},null,null,null,null,null,null,null,null,null,null,null,null,null,null,null,null,null,null,null,null,null,null,{"$f":"IFERROR(VLOOKUP($A76,ENEFN!$A$1:$N$1776,6,FALSE),0)","v":0},{"$f":"IFERROR(VLOOKUP($A76,ENEFN!$A$1:$N$1776,10,FALSE),0)","v":0}]
["207-000-019-0001",null,207,"15","00","000","001","000",null,"000-019-0001","Evento",{"$f":"IFERROR(VLOOKUP($A77,ENEMT!$A$1:$O$1776,11,FALSE),0)","v":233},233,73,{"$f":"IFERROR(VLOOKUP($A77,ENEFN!$A$2:$N$1776,5,FALSE),0)","v":8687812},8687812,193633.53,{"$f":"IFERROR(VLOOKUP($A77,ENEMT!$A$1:$O$1776,12,FALSE),0)","v":0},{"$f":"IFERROR(VLOOKUP($A77,ENEMT!$A$1:$O$1776,15,FALSE),0)","v":73},null,null,null,null,null,null,null,null,null,null,null,null,null,null,null,null,null,null,null,null,null,null,{"$f":"IFERROR(VLOOKUP($A77,ENEFN!$A$1:$N$1776,6,FALSE),0)","v":0},{"$f":"IFERROR(VLOOKUP($A77,ENEFN!$A$1:$N$1776,10,FALSE),0)","v":193633.53}]
["207-",null,207,"15","00","000","002","000","000-020",null,"Persona",{"$f":"IFERROR(VLOOKUP($A78,ENEMT!$A$1:$O$1776,11,FALSE),0)","v":0},0,0,{"$f":"IFERROR(VLOOKUP($A78,ENEFN!$A$2:$N$1776,5,FALSE),0)","v":0},0,0,{"$f":"IFERROR(VLOOKUP($A78,ENEMT!$A$1:$O$1776,12,FALSE),0)","v":0},{"$f":"IFERROR(VLOOKUP($A78,ENEMT!$A$1:$O$1776,15,FALSE),0)","v":0},null,null,null,null,null,null,null,null,null,null,null,null,null,null,null,null,null,null,null,null,null,null,{"$f":"IFERROR(VLOOKUP($A78,ENEFN!$A$1:$N$1776,6,FALSE),0)","v":0},{"$f":"IFERROR(VLOOKUP($A78,ENEFN!$A$1:$N$1776,10,FALSE),0)","v":0}]
["207-000-020-0003",null,207,"15","00","000","002","000",null,"000-020-0003","Persona",{"$f":"IFERROR(VLOOKUP($A79,ENEMT!$A$1:$O$1776,11,FALSE),0)","v":790},790,80,{"$f":"IFERROR(VLOOKUP($A79,ENEFN!$A$2:$N$1776,5,FALSE),0)","v":2055172},2055172,0,{"$f":"IFERROR(VLOOKUP($A79,ENEMT!$A$1:$O$1776,12,FALSE),0)","v":0},{"$f":"IFERROR(VLOOKUP($A79,ENEMT!$A$1:$O$1776,15,FALSE),0)","v":80},null,null,null,null,null,null,null,null,null,null,null,null,null,null,null,null,null,null,null,null,null,null,{"$f":"IFERROR(VLOOKUP($A79,ENEFN!$A$1:$N$1776,6,FALSE),0)","v":0},{"$f":"IFERROR(VLOOKUP($A79,ENEFN!$A$1:$N$1776,10,FALSE),0)","v":0}]
["207-000-020-0004",null,207,"15","00","000","002","000",null,"000-020-0004","Persona",{"$f":"IFERROR(VLOOKUP($A80,ENEMT!$A$1:$O$1776,11,FALSE),0)","v":3},3,0,{"$f":"IFERROR(VLOOKUP($A80,ENEFN!$A$2:$N$1776,5,FALSE),0)","v":45000},45000,0,{"$f":"IFERROR(VLOOKUP($A80,ENEMT!$A$1:$O$1776,12,FALSE),0)","v":0},{"$f":"IFERROR(VLOOKUP($A80,ENEMT!$A$1:$O$1776,15,FALSE),0)","v":0},null,null,null,null,null,null,null,null,null,null,null,null,null,null,null,null,null,null,null,null,null,null,{"$f":"IFERROR(VLOOKUP($A80,ENEFN!$A$1:$N$1776,6,FALSE),0)","v":0},{"$f":"IFERROR(VLOOKUP($A80,ENEFN!$A$1:$N$1776,10,FALSE),0)","v":0}]
["207-000-020-0005",null,207,"15","00","000","002","000",null,"000-020-0005","Persona",{"$f":"IFERROR(VLOOKUP($A81,ENEMT!$A$1:$O$1776,11,FALSE),0)","v":204},204,20,{"$f":"IFERROR(VLOOKUP($A81,ENEFN!$A$2:$N$1776,5,FALSE),0)","v":50000},50000,0,{"$f":"IFERROR(VLOOKUP($A81,ENEMT!$A$1:$O$1776,12,FALSE),0)","v":0},{"$f":"IFERROR(VLOOKUP($A81,ENEMT!$A$1:$O$1776,15,FALSE),0)","v":20},null,null,null,null,null,null,null,null,null,null,null,null,null,null,null,null,null,null,null,null,null,null,{"$f":"IFERROR(VLOOKUP($A81,ENEFN!$A$1:$N$1776,6,FALSE),0)","v":0},{"$f":"IFERROR(VLOOKUP($A81,ENEFN!$A$1:$N$1776,10,FALSE),0)","v":0}]
["207-",null,207,"15","00","000","003","000","000-021",null,"Evento",{"$f":"IFERROR(VLOOKUP($A82,ENEMT!$A$1:$O$1776,11,FALSE),0)","v":0},0,0,{"$f":"IFERROR(VLOOKUP($A82,ENEFN!$A$2:$N$1776,5,FALSE),0)","v":0},0,0,{"$f":"IFERROR(VLOOKUP($A82,ENEMT!$A$1:$O$1776,12,FALSE),0)","v":0},{"$f":"IFERROR(VLOOKUP($A82,ENEMT!$A$1:$O$1776,15,FALSE),0)","v":0},null,null,null,null,null,null,null,null,null,null,null,null,null,null,null,null,null,null,null,null,null,null,{"$f":"IFERROR(VLOOKUP($A82,ENEFN!$A$1:$N$1776,6,FALSE),0)","v":0},{"$f":"IFERROR(VLOOKUP($A82,ENEFN!$A$1:$N$1776,10,FALSE),0)","v":0}]
["207-000-021-0001",null,207,"15","00","000","003","000",null,"000-021-0001","Evento",{"$f":"IFERROR(VLOOKUP($A83,ENEMT!$A$1:$O$1776,11,FALSE),0)","v":2818},2818,235,{"$f":"IFERROR(VLOOKUP($A83,ENEFN!$A$2:$N$1776,5,FALSE),0)","v":129476},129476,0,{"$f":"IFERROR(VLOOKUP($A83,ENEMT!$A$1:$O$1776,12,FALSE),0)","v":0},{"$f":"IFERROR(VLOOKUP($A83,ENEMT!$A$1:$O$1776,15,FALSE),0)","v":235},null,null,null,null,null,null,null,null,null,null,null,null,null,null,null,null,null,null,null,null,null,null,{"$f":"IFERROR(VLOOKUP($A83,ENEFN!$A$1:$N$1776,6,FALSE),0)","v":0},{"$f":"IFERROR(VLOOKUP($A83,ENEFN!$A$1:$N$1776,10,FALSE),0)","v":0}]
["207-000-021-0002",null,207,"15","00","000","003","000",null,"000-021-0002","Evento",{"$f":"IFERROR(VLOOKUP($A84,ENEMT!$A$1:$O$1776,11,FALSE),0)","v":11880},11880,951,{"$f":"IFERROR(VLOOKUP($A84,ENEFN!$A$2:$N$1776,5,FALSE),0)","v":1386359},1386359,110293.54,{"$f":"IFERROR(VLOOKUP($A84,ENEMT!$A$1:$O$1776,12,FALSE),0)","v":0},{"$f":"IFERROR(VLOOKUP($A84,ENEMT!$A$1:$O$1776,15,FALSE),0)","v":951},null,null,null,null,null,null,null,null,null,null,null,null,null,null,null,null,null,null,null,null,null,null,{"$f":"IFERROR(VLOOKUP($A84,ENEFN!$A$1:$N$1776,6,FALSE),0)","v":0},{"$f":"IFERROR(VLOOKUP($A84,ENEFN!$A$1:$N$1776,10,FALSE),0)","v":110293.54}]
["207-000-021-0003",null,207,"15","00","000","003","000",null,"000-021-0003","Evento",{"$f":"IFERROR(VLOOKUP($A85,ENEMT!$A$1:$O$1776,11,FALSE),0)","v":40300},104300,3425,{"$f":"IFERROR(VLOOKUP($A85,ENEFN!$A$2:$N$1776,5,FALSE),0)","v":3192171},3192171,115515.5,{"$f":"IFERROR(VLOOKUP($A85,ENEMT!$A$1:$O$1776,12,FALSE),0)","v":64000},{"$f":"IFERROR(VLOOKUP($A85,ENEMT!$A$1:$O$1776,15,FALSE),0)","v":3425},null,null,null,null,null,null,null,null,null,null,null,null,null,null,null,null,null,null,null,null,null,null,{"$f":"IFERROR(VLOOKUP($A85,ENEFN!$A$1:$N$1776,6,FALSE),0)","v":0},{"$f":"IFERROR(VLOOKUP($A85,ENEFN!$A$1:$N$1776,10,FALSE),0)","v":115515.5}]
["208-",null,208,"21","00","000","001","000","000-024",null,"Evento",{"$f":"IFERROR(VLOOKUP($A86,ENEMT!$A$1:$O$1776,11,FALSE),0)","v":0},0,0,{"$f":"IFERROR(VLOOKUP($A86,ENEFN!$A$2:$N$1776,5,FALSE),0)","v":0},0,0,{"$f":"IFERROR(VLOOKUP($A86,ENEMT!$A$1:$O$1776,12,FALSE),0)","v":0},{"$f":"IFERROR(VLOOKUP($A86,ENEMT!$A$1:$O$1776,15,FALSE),0)","v":0},null,null,null,null,null,null,null,null,null,null,null,null,null,null,null,null,null,null,null,null,null,null,{"$f":"IFERROR(VLOOKUP($A86,ENEFN!$A$1:$N$1776,6,FALSE),0)","v":0},{"$f":"IFERROR(VLOOKUP($A86,ENEFN!$A$1:$N$1776,10,FALSE),0)","v":0}]
["208-000-024-0001",null,208,"21","00","000","001","000",null,"000-024-0001","Evento",{"$f":"IFERROR(VLOOKUP($A87,ENEMT!$A$1:$O$1776,11,FALSE),0)","v":218},218,39,{"$f":"IFERROR(VLOOKUP($A87,ENEFN!$A$2:$N$1776,5,FALSE),0)","v":8433472},8433472,13840.71,{"$f":"IFERROR(VLOOKUP($A87,ENEMT!$A$1:$O$1776,12,FALSE),0)","v":0},{"$f":"IFERROR(VLOOKUP($A87,ENEMT!$A$1:$O$1776,15,FALSE),0)","v":39},null,null,null,null,null,null,null,null,null,null,null,null,null,null,null,null,null,null,null,null,null,null,{"$f":"IFERROR(VLOOKUP($A87,ENEFN!$A$1:$N$1776,6,FALSE),0)","v":0},{"$f":"IFERROR(VLOOKUP($A87,ENEFN!$A$1:$N$1776,10,FALSE),0)","v":13840.71}]
["208-",null,208,"21","00","000","002","000","000-025",null,"Entidad",{"$f":"IFERROR(VLOOKUP($A88,ENEMT!$A$1:$O$1776,11,FALSE),0)","v":0},0,0,{"$f":"IFERROR(VLOOKUP($A88,ENEFN!$A$2:$N$1776,5,FALSE),0)","v":0},0,0,{"$f":"IFERROR(VLOOKUP($A88,ENEMT!$A$1:$O$1776,12,FALSE),0)","v":0},{"$f":"IFERROR(VLOOKUP($A88,ENEMT!$A$1:$O$1776,15,FALSE),0)","v":0},null,null,null,null,null,null,null,null,null,null,null,null,null,null,null,null,null,null,null,null,null,null,{"$f":"IFERROR(VLOOKUP($A88,ENEFN!$A$1:$N$1776,6,FALSE),0)","v":0},{"$f":"IFERROR(VLOOKUP($A88,ENEFN!$A$1:$N$1776,10,FALSE),0)","v":0}]
["208-000-025-0001",null,208,"21","00","000","002","000",null,"000-025-0001","Entidad",{"$f":"IFERROR(VLOOKUP($A89,ENEMT!$A$1:$O$1776,11,FALSE),0)","v":2814},2814,64,{"$f":"IFERROR(VLOOKUP($A89,ENEFN!$A$2:$N$1776,5,FALSE),0)","v":808467},808467,0,{"$f":"IFERROR(VLOOKUP($A89,ENEMT!$A$1:$O$1776,12,FALSE),0)","v":0},{"$f":"IFERROR(VLOOKUP($A89,ENEMT!$A$1:$O$1776,15,FALSE),0)","v":64},null,null,null,null,null,null,null,null,null,null,null,null,null,null,null,null,null,null,null,null,null,null,{"$f":"IFERROR(VLOOKUP($A89,ENEFN!$A$1:$N$1776,6,FALSE),0)","v":0},{"$f":"IFERROR(VLOOKUP($A89,ENEFN!$A$1:$N$1776,10,FALSE),0)","v":0}]
["208-000-025-0002",null,208,"21","00","000","002","000",null,"000-025-0002","Entidad",{"$f":"IFERROR(VLOOKUP($A90,ENEMT!$A$1:$O$1776,11,FALSE),0)","v":26},26,0,{"$f":"IFERROR(VLOOKUP($A90,ENEFN!$A$2:$N$1776,5,FALSE),0)","v":568018},568018,0,{"$f":"IFERROR(VLOOKUP($A90,ENEMT!$A$1:$O$1776,12,FALSE),0)","v":0},{"$f":"IFERROR(VLOOKUP($A90,ENEMT!$A$1:$O$1776,15,FALSE),0)","v":0},null,null,null,null,null,null,null,null,null,null,null,null,null,null,null,null,null,null,null,null,null,null,{"$f":"IFERROR(VLOOKUP($A90,ENEFN!$A$1:$N$1776,6,FALSE),0)","v":0},{"$f":"IFERROR(VLOOKUP($A90,ENEFN!$A$1:$N$1776,10,FALSE),0)","v":0}]
["208-000-025-0005",null,208,"21","00","000","002","000",null,"000-025-0005","Entidad",{"$f":"IFERROR(VLOOKUP($A91,ENEMT!$A$1:$O$1776,11,FALSE),0)","v":118},118,0,{"$f":"IFERROR(VLOOKUP($A91,ENEFN!$A$2:$N$1776,5,FALSE),0)","v":474910},474910,0,{"$f":"IFERROR(VLOOKUP($A91,ENEMT!$A$1:$O$1776,12,FALSE),0)","v":0},{"$f":"IFERROR(VLOOKUP($A91,ENEMT!$A$1:$O$1776,15,FALSE),0)","v":0},null,null,null,null,null,null,null,null,null,null,null,null,null,null,null,null,null,null,null,null,null,null,{"$f":"IFERROR(VLOOKUP($A91,ENEFN!$A$1:$N$1776,6,FALSE),0)","v":0},{"$f":"IFERROR(VLOOKUP($A91,ENEFN!$A$1:$N$1776,10,FALSE),0)","v":0}]
["209-",null,209,"99","00","000","002","000","000-005",null,"Aporte",{"$f":"IFERROR(VLOOKUP($A92,ENEMT!$A$1:$O$1776,11,FALSE),0)","v":0},0,0,{"$f":"IFERROR(VLOOKUP($A92,ENEFN!$A$2:$N$1776,5,FALSE),0)","v":0},0,0,{"$f":"IFERROR(VLOOKUP($A92,ENEMT!$A$1:$O$1776,12,FALSE),0)","v":0},{"$f":"IFERROR(VLOOKUP($A92,ENEMT!$A$1:$O$1776,15,FALSE),0)","v":0},null,null,null,null,null,null,null,null,null,null,null,null,null,null,null,null,null,null,null,null,null,null,{"$f":"IFERROR(VLOOKUP($A92,ENEFN!$A$1:$N$1776,6,FALSE),0)","v":0},{"$f":"IFERROR(VLOOKUP($A92,ENEFN!$A$1:$N$1776,10,FALSE),0)","v":0}]
["209-000-005-0001",null,209,"99","00","000","002","000",null,"000-005-0001","Aporte",{"$f":"IFERROR(VLOOKUP($A93,ENEMT!$A$1:$O$1776,11,FALSE),0)","v":2},2,0,{"$f":"IFERROR(VLOOKUP($A93,ENEFN!$A$2:$N$1776,5,FALSE),0)","v":168000},168000,0,{"$f":"IFERROR(VLOOKUP($A93,ENEMT!$A$1:$O$1776,12,FALSE),0)","v":0},{"$f":"IFERROR(VLOOKUP($A93,ENEMT!$A$1:$O$1776,15,FALSE),0)","v":0},null,null,null,null,null,null,null,null,null,null,null,null,null,null,null,null,null,null,null,null,null,null,{"$f":"IFERROR(VLOOKUP($A93,ENEFN!$A$1:$N$1776,6,FALSE),0)","v":0},{"$f":"IFERROR(VLOOKUP($A93,ENEFN!$A$1:$N$1776,10,FALSE),0)","v":0}]
["209-",null,209,"99","00","000","003","000","000-006",null,"Aporte",{"$f":"IFERROR(VLOOKUP($A94,ENEMT!$A$1:$O$1776,11,FALSE),0)","v":0},0,0,{"$f":"IFERROR(VLOOKUP($A94,ENEFN!$A$2:$N$1776,5,FALSE),0)","v":0},0,0,{"$f":"IFERROR(VLOOKUP($A94,ENEMT!$A$1:$O$1776,12,FALSE),0)","v":0},{"$f":"IFERROR(VLOOKUP($A94,ENEMT!$A$1:$O$1776,15,FALSE),0)","v":0},null,null,null,null,null,null,null,null,null,null,null,null,null,null,null,null,null,null,null,null,null,null,{"$f":"IFERROR(VLOOKUP($A94,ENEFN!$A$1:$N$1776,6,FALSE),0)","v":0},{"$f":"IFERROR(VLOOKUP($A94,ENEFN!$A$1:$N$1776,10,FALSE),0)","v":0}]
["209-000-006-0001",null,209,"99","00","000","003","000",null,"000-006-0001","Aporte",{"$f":"IFERROR(VLOOKUP($A95,ENEMT!$A$1:$O$1776,11,FALSE),0)","v":2},2,0,{"$f":"IFERROR(VLOOKUP($A95,ENEFN!$A$2:$N$1776,5,FALSE),0)","v":208000},208000,0,{"$f":"IFERROR(VLOOKUP($A95,ENEMT!$A$1:$O$1776,12,FALSE),0)","v":0},{"$f":"IFERROR(VLOOKUP($A95,ENEMT!$A$1:$O$1776,15,FALSE),0)","v":0},null,null,null,null,null,null,null,null,null,null,null,null,null,null,null,null,null,null,null,null,null,null,{"$f":"IFERROR(VLOOKUP($A95,ENEFN!$A$1:$N$1776,6,FALSE),0)","v":0},{"$f":"IFERROR(VLOOKUP($A95,ENEFN!$A$1:$N$1776,10,FALSE),0)","v":0}]
["209-",null,209,"16","00","000","001","000","020-006",null,"Evento",{"$f":"IFERROR(VLOOKUP($A96,ENEMT!$A$1:$O$1776,11,FALSE),0)","v":0},0,0,{"$f":"IFERROR(VLOOKUP($A96,ENEFN!$A$2:$N$1776,5,FALSE),0)","v":0},0,0,{"$f":"IFERROR(VLOOKUP($A96,ENEMT!$A$1:$O$1776,12,FALSE),0)","v":0},{"$f":"IFERROR(VLOOKUP($A96,ENEMT!$A$1:$O$1776,15,FALSE),0)","v":0},null,null,null,null,null,null,null,null,null,null,null,null,null,null,null,null,null,null,null,null,null,null,{"$f":"IFERROR(VLOOKUP($A96,ENEFN!$A$1:$N$1776,6,FALSE),0)","v":0},{"$f":"IFERROR(VLOOKUP($A96,ENEFN!$A$1:$N$1776,10,FALSE),0)","v":0}]
["209-020-006-0001",null,209,"16","00","000","001","000",null,"020-006-0001","Evento",{"$f":"IFERROR(VLOOKUP($A97,ENEMT!$A$1:$O$1776,11,FALSE),0)","v":850},806,0,{"$f":"IFERROR(VLOOKUP($A97,ENEFN!$A$2:$N$1776,5,FALSE),0)","v":15193176},15193176,100137.34,{"$f":"IFERROR(VLOOKUP($A97,ENEMT!$A$1:$O$1776,12,FALSE),0)","v":-44},{"$f":"IFERROR(VLOOKUP($A97,ENEMT!$A$1:$O$1776,15,FALSE),0)","v":0},null,null,null,null,null,null,null,null,null,null,null,null,null,null,null,null,null,null,null,null,null,null,{"$f":"IFERROR(VLOOKUP($A97,ENEFN!$A$1:$N$1776,6,FALSE),0)","v":0},{"$f":"IFERROR(VLOOKUP($A97,ENEFN!$A$1:$N$1776,10,FALSE),0)","v":100137.34}]
["209-",null,209,"16","00","000","002","000","020-007",null,"Documento",{"$f":"IFERROR(VLOOKUP($A98,ENEMT!$A$1:$O$1776,11,FALSE),0)","v":0},0,0,{"$f":"IFERROR(VLOOKUP($A98,ENEFN!$A$2:$N$1776,5,FALSE),0)","v":0},0,0,{"$f":"IFERROR(VLOOKUP($A98,ENEMT!$A$1:$O$1776,12,FALSE),0)","v":0},{"$f":"IFERROR(VLOOKUP($A98,ENEMT!$A$1:$O$1776,15,FALSE),0)","v":0},null,null,null,null,null,null,null,null,null,null,null,null,null,null,null,null,null,null,null,null,null,null,{"$f":"IFERROR(VLOOKUP($A98,ENEFN!$A$1:$N$1776,6,FALSE),0)","v":0},{"$f":"IFERROR(VLOOKUP($A98,ENEFN!$A$1:$N$1776,10,FALSE),0)","v":0}]
["209-020-007-0001",null,209,"16","00","000","002","000",null,"020-007-0001","Documento",{"$f":"IFERROR(VLOOKUP($A99,ENEMT!$A$1:$O$1776,11,FALSE),0)","v":12763},11590,0,{"$f":"IFERROR(VLOOKUP($A99,ENEFN!$A$2:$N$1776,5,FALSE),0)","v":14190894},14190894,5668.39,{"$f":"IFERROR(VLOOKUP($A99,ENEMT!$A$1:$O$1776,12,FALSE),0)","v":-1173},{"$f":"IFERROR(VLOOKUP($A99,ENEMT!$A$1:$O$1776,15,FALSE),0)","v":0},null,null,null,null,null,null,null,null,null,null,null,null,null,null,null,null,null,null,null,null,null,null,{"$f":"IFERROR(VLOOKUP($A99,ENEFN!$A$1:$N$1776,6,FALSE),0)","v":0},{"$f":"IFERROR(VLOOKUP($A99,ENEFN!$A$1:$N$1776,10,FALSE),0)","v":5668.39}]
["209-020-007-0002",null,209,"16","00","000","002","000",null,"020-007-0002","Documento",{"$f":"IFERROR(VLOOKUP($A100,ENEMT!$A$1:$O$1776,11,FALSE),0)","v":3344},2259,0,{"$f":"IFERROR(VLOOKUP($A100,ENEFN!$A$2:$N$1776,5,FALSE),0)","v":710966},710966,470.32,{"$f":"IFERROR(VLOOKUP($A100,ENEMT!$A$1:$O$1776,12,FALSE),0)","v":-1085},{"$f":"IFERROR(VLOOKUP($A100,ENEMT!$A$1:$O$1776,15,FALSE),0)","v":0},null,null,null,null,null,null,null,null,null,null,null,null,null,null,null,null,null,null,null,null,null,null,{"$f":"IFERROR(VLOOKUP($A100,ENEFN!$A$1:$N$1776,6,FALSE),0)","v":0},{"$f":"IFERROR(VLOOKUP($A100,ENEFN!$A$1:$N$1776,10,FALSE),0)","v":470.32}]
["209-",null,209,"16","00","000","003","000","020-008",null,"Documento",{"$f":"IFERROR(VLOOKUP($A101,ENEMT!$A$1:$O$1776,11,FALSE),0)","v":0},0,0,{"$f":"IFERROR(VLOOKUP($A101,ENEFN!$A$2:$N$1776,5,FALSE),0)","v":0},0,0,{"$f":"IFERROR(VLOOKUP($A101,ENEMT!$A$1:$O$1776,12,FALSE),0)","v":0},{"$f":"IFERROR(VLOOKUP($A101,ENEMT!$A$1:$O$1776,15,FALSE),0)","v":0},null,null,null,null,null,null,null,null,null,null,null,null,null,null,null,null,null,null,null,null,null,null,{"$f":"IFERROR(VLOOKUP($A101,ENEFN!$A$1:$N$1776,6,FALSE),0)","v":0},{"$f":"IFERROR(VLOOKUP($A101,ENEFN!$A$1:$N$1776,10,FALSE),0)","v":0}]
["209-020-008-0001",null,209,"16","00","000","003","000",null,"020-008-0001","Documento",{"$f":"IFERROR(VLOOKUP($A102,ENEMT!$A$1:$O$1776,11,FALSE),0)","v":3872},5947,0,{"$f":"IFERROR(VLOOKUP($A102,ENEFN!$A$2:$N$1776,5,FALSE),0)","v":3746500},3746500,0,{"$f":"IFERROR(VLOOKUP($A102,ENEMT!$A$1:$O$1776,12,FALSE),0)","v":2075},{"$f":"IFERROR(VLOOKUP($A102,ENEMT!$A$1:$O$1776,15,FALSE),0)","v":0},null,null,null,null,null,null,null,null,null,null,null,null,null,null,null,null,null,null,null,null,null,null,{"$f":"IFERROR(VLOOKUP($A102,ENEFN!$A$1:$N$1776,6,FALSE),0)","v":0},{"$f":"IFERROR(VLOOKUP($A102,ENEFN!$A$1:$N$1776,10,FALSE),0)","v":0}]
["209-020-008-0002",null,209,"16","00","000","003","000",null,"020-008-0002","Documento",{"$f":"IFERROR(VLOOKUP($A103,ENEMT!$A$1:$O$1776,11,FALSE),0)","v":4228},6036,0,{"$f":"IFERROR(VLOOKUP($A103,ENEFN!$A$2:$N$1776,5,FALSE),0)","v":1172097},1172097,0,{"$f":"IFERROR(VLOOKUP($A103,ENEMT!$A$1:$O$1776,12,FALSE),0)","v":1808},{"$f":"IFERROR(VLOOKUP($A103,ENEMT!$A$1:$O$1776,15,FALSE),0)","v":0},null,null,null,null,null,null,null,null,null,null,null,null,null,null,null,null,null,null,null,null,null,null,{"$f":"IFERROR(VLOOKUP($A103,ENEFN!$A$1:$N$1776,6,FALSE),0)","v":0},{"$f":"IFERROR(VLOOKUP($A103,ENEFN!$A$1:$N$1776,10,FALSE),0)","v":0}]
["209-",null,209,"16","00","000","004","000","020-009",null,"Documento",{"$f":"IFERROR(VLOOKUP($A104,ENEMT!$A$1:$O$1776,11,FALSE),0)","v":0},0,0,{"$f":"IFERROR(VLOOKUP($A104,ENEFN!$A$2:$N$1776,5,FALSE),0)","v":0},0,0,{"$f":"IFERROR(VLOOKUP($A104,ENEMT!$A$1:$O$1776,12,FALSE),0)","v":0},{"$f":"IFERROR(VLOOKUP($A104,ENEMT!$A$1:$O$1776,15,FALSE),0)","v":0},null,null,null,null,null,null,null,null,null,null,null,null,null,null,null,null,null,null,null,null,null,null,{"$f":"IFERROR(VLOOKUP($A104,ENEFN!$A$1:$N$1776,6,FALSE),0)","v":0},{"$f":"IFERROR(VLOOKUP($A104,ENEFN!$A$1:$N$1776,10,FALSE),0)","v":0}]
["209-020-009-0001",null,209,"16","00","000","004","000",null,"020-009-0001","Documento",{"$f":"IFERROR(VLOOKUP($A105,ENEMT!$A$1:$O$1776,11,FALSE),0)","v":3265},4400,0,{"$f":"IFERROR(VLOOKUP($A105,ENEFN!$A$2:$N$1776,5,FALSE),0)","v":5748425},5748425,658.46,{"$f":"IFERROR(VLOOKUP($A105,ENEMT!$A$1:$O$1776,12,FALSE),0)","v":1135},{"$f":"IFERROR(VLOOKUP($A105,ENEMT!$A$1:$O$1776,15,FALSE),0)","v":0},null,null,null,null,null,null,null,null,null,null,null,null,null,null,null,null,null,null,null,null,null,null,{"$f":"IFERROR(VLOOKUP($A105,ENEFN!$A$1:$N$1776,6,FALSE),0)","v":0},{"$f":"IFERROR(VLOOKUP($A105,ENEFN!$A$1:$N$1776,10,FALSE),0)","v":658.46}]
["209-020-009-0002",null,209,"16","00","000","004","000",null,"020-009-0002","Documento",{"$f":"IFERROR(VLOOKUP($A106,ENEMT!$A$1:$O$1776,11,FALSE),0)","v":2985},2956,0,{"$f":"IFERROR(VLOOKUP($A106,ENEFN!$A$2:$N$1776,5,FALSE),0)","v":8542513},8542513,0,{"$f":"IFERROR(VLOOKUP($A106,ENEMT!$A$1:$O$1776,12,FALSE),0)","v":-29},{"$f":"IFERROR(VLOOKUP($A106,ENEMT!$A$1:$O$1776,15,FALSE),0)","v":0},null,null,null,null,null,null,null,null,null,null,null,null,null,null,null,null,null,null,null,null,null,null,{"$f":"IFERROR(VLOOKUP($A106,ENEFN!$A$1:$N$1776,6,FALSE),0)","v":0},{"$f":"IFERROR(VLOOKUP($A106,ENEFN!$A$1:$N$1776,10,FALSE),0)","v":0}]
["209-020-009-0003",null,209,"16","00","000","004","000",null,"020-009-0003","Documento",{"$f":"IFERROR(VLOOKUP($A107,ENEMT!$A$1:$O$1776,11,FALSE),0)","v":3258},2260,0,{"$f":"IFERROR(VLOOKUP($A107,ENEFN!$A$2:$N$1776,5,FALSE),0)","v":402266},402266,1470.72,{"$f":"IFERROR(VLOOKUP($A107,ENEMT!$A$1:$O$1776,12,FALSE),0)","v":-998},{"$f":"IFERROR(VLOOKUP($A107,ENEMT!$A$1:$O$1776,15,FALSE),0)","v":0},null,null,null,null,null,null,null,null,null,null,null,null,null,null,null,null,null,null,null,null,null,null,{"$f":"IFERROR(VLOOKUP($A107,ENEFN!$A$1:$N$1776,6,FALSE),0)","v":0},{"$f":"IFERROR(VLOOKUP($A107,ENEFN!$A$1:$N$1776,10,FALSE),0)","v":1470.72}]
["210-",null,210,"99","00","000","002","000","000-005",null,"Aporte",{"$f":"IFERROR(VLOOKUP($A108,ENEMT!$A$1:$O$1776,11,FALSE),0)","v":0},0,0,{"$f":"IFERROR(VLOOKUP($A108,ENEFN!$A$2:$N$1776,5,FALSE),0)","v":0},0,0,{"$f":"IFERROR(VLOOKUP($A108,ENEMT!$A$1:$O$1776,12,FALSE),0)","v":0},{"$f":"IFERROR(VLOOKUP($A108,ENEMT!$A$1:$O$1776,15,FALSE),0)","v":0},null,null,null,null,null,null,null,null,null,null,null,null,null,null,null,null,null,null,null,null,null,null,{"$f":"IFERROR(VLOOKUP($A108,ENEFN!$A$1:$N$1776,6,FALSE),0)","v":0},{"$f":"IFERROR(VLOOKUP($A108,ENEFN!$A$1:$N$1776,10,FALSE),0)","v":0}]
["210-000-005-0001",null,210,"99","00","000","002","000",null,"000-005-0001","Aporte",{"$f":"IFERROR(VLOOKUP($A109,ENEMT!$A$1:$O$1776,11,FALSE),0)","v":3},2,0,{"$f":"IFERROR(VLOOKUP($A109,ENEFN!$A$2:$N$1776,5,FALSE),0)","v":615180},615180,0,{"$f":"IFERROR(VLOOKUP($A109,ENEMT!$A$1:$O$1776,12,FALSE),0)","v":-1},{"$f":"IFERROR(VLOOKUP($A109,ENEMT!$A$1:$O$1776,15,FALSE),0)","v":0},null,null,null,null,null,null,null,null,null,null,null,null,null,null,null,null,null,null,null,null,null,null,{"$f":"IFERROR(VLOOKUP($A109,ENEFN!$A$1:$N$1776,6,FALSE),0)","v":0},{"$f":"IFERROR(VLOOKUP($A109,ENEFN!$A$1:$N$1776,10,FALSE),0)","v":0}]
["210-",null,210,"17","00","000","001","000","000-029",null,"Evento",{"$f":"IFERROR(VLOOKUP($A110,ENEMT!$A$1:$O$1776,11,FALSE),0)","v":0},0,0,{"$f":"IFERROR(VLOOKUP($A110,ENEFN!$A$2:$N$1776,5,FALSE),0)","v":0},0,0,{"$f":"IFERROR(VLOOKUP($A110,ENEMT!$A$1:$O$1776,12,FALSE),0)","v":0},{"$f":"IFERROR(VLOOKUP($A110,ENEMT!$A$1:$O$1776,15,FALSE),0)","v":0},null,null,null,null,null,null,null,null,null,null,null,null,null,null,null,null,null,null,null,null,null,null,{"$f":"IFERROR(VLOOKUP($A110,ENEFN!$A$1:$N$1776,6,FALSE),0)","v":0},{"$f":"IFERROR(VLOOKUP($A110,ENEFN!$A$1:$N$1776,10,FALSE),0)","v":0}]
["210-000-029-0001",null,210,"17","00","000","001","000",null,"000-029-0001","Evento",{"$f":"IFERROR(VLOOKUP($A111,ENEMT!$A$1:$O$1776,11,FALSE),0)","v":608},700,194,{"$f":"IFERROR(VLOOKUP($A111,ENEFN!$A$2:$N$1776,5,FALSE),0)","v":16300622},16300622,57076.54,{"$f":"IFERROR(VLOOKUP($A111,ENEMT!$A$1:$O$1776,12,FALSE),0)","v":92},{"$f":"IFERROR(VLOOKUP($A111,ENEMT!$A$1:$O$1776,15,FALSE),0)","v":194},null,null,null,null,null,null,null,null,null,null,null,null,null,null,null,null,null,null,null,null,null,null,{"$f":"IFERROR(VLOOKUP($A111,ENEFN!$A$1:$N$1776,6,FALSE),0)","v":0},{"$f":"IFERROR(VLOOKUP($A111,ENEFN!$A$1:$N$1776,10,FALSE),0)","v":57076.54}]
["210-",null,210,"17","00","000","002","000","000-030",null,"Persona",{"$f":"IFERROR(VLOOKUP($A112,ENEMT!$A$1:$O$1776,11,FALSE),0)","v":0},0,0,{"$f":"IFERROR(VLOOKUP($A112,ENEFN!$A$2:$N$1776,5,FALSE),0)","v":0},0,0,{"$f":"IFERROR(VLOOKUP($A112,ENEMT!$A$1:$O$1776,12,FALSE),0)","v":0},{"$f":"IFERROR(VLOOKUP($A112,ENEMT!$A$1:$O$1776,15,FALSE),0)","v":0},null,null,null,null,null,null,null,null,null,null,null,null,null,null,null,null,null,null,null,null,null,null,{"$f":"IFERROR(VLOOKUP($A112,ENEFN!$A$1:$N$1776,6,FALSE),0)","v":0},{"$f":"IFERROR(VLOOKUP($A112,ENEFN!$A$1:$N$1776,10,FALSE),0)","v":0}]
["210-000-030-0001",null,210,"17","00","000","002","000",null,"000-030-0001","Persona",{"$f":"IFERROR(VLOOKUP($A113,ENEMT!$A$1:$O$1776,11,FALSE),0)","v":476400},523467,26383,{"$f":"IFERROR(VLOOKUP($A113,ENEFN!$A$2:$N$1776,5,FALSE),0)","v":12442858},12442858,46736.43,{"$f":"IFERROR(VLOOKUP($A113,ENEMT!$A$1:$O$1776,12,FALSE),0)","v":47067},{"$f":"IFERROR(VLOOKUP($A113,ENEMT!$A$1:$O$1776,15,FALSE),0)","v":26383},null,null,null,null,null,null,null,null,null,null,null,null,null,null,null,null,null,null,null,null,null,null,{"$f":"IFERROR(VLOOKUP($A113,ENEFN!$A$1:$N$1776,6,FALSE),0)","v":0},{"$f":"IFERROR(VLOOKUP($A113,ENEFN!$A$1:$N$1776,10,FALSE),0)","v":46736.43}]
["211-",null,211,"99","00","000","002","000","000-005",null,"Aporte",{"$f":"IFERROR(VLOOKUP($A114,ENEMT!$A$1:$O$1776,11,FALSE),0)","v":0},0,0,{"$f":"IFERROR(VLOOKUP($A114,ENEFN!$A$2:$N$1776,5,FALSE),0)","v":0},0,0,{"$f":"IFERROR(VLOOKUP($A114,ENEMT!$A$1:$O$1776,12,FALSE),0)","v":0},{"$f":"IFERROR(VLOOKUP($A114,ENEMT!$A$1:$O$1776,15,FALSE),0)","v":0},null,null,null,null,null,null,null,null,null,null,null,null,null,null,null,null,null,null,null,null,null,null,{"$f":"IFERROR(VLOOKUP($A114,ENEFN!$A$1:$N$1776,6,FALSE),0)","v":0},{"$f":"IFERROR(VLOOKUP($A114,ENEFN!$A$1:$N$1776,10,FALSE),0)","v":0}]
["211-000-005-0001",null,211,"99","00","000","002","000",null,"000-005-0001","Aporte",{"$f":"IFERROR(VLOOKUP($A115,ENEMT!$A$1:$O$1776,11,FALSE),0)","v":2},2,0,{"$f":"IFERROR(VLOOKUP($A115,ENEFN!$A$2:$N$1776,5,FALSE),0)","v":900000},900000,0,{"$f":"IFERROR(VLOOKUP($A115,ENEMT!$A$1:$O$1776,12,FALSE),0)","v":0},{"$f":"IFERROR(VLOOKUP($A115,ENEMT!$A$1:$O$1776,15,FALSE),0)","v":0},null,null,null,null,null,null,null,null,null,null,null,null,null,null,null,null,null,null,null,null,null,null,{"$f":"IFERROR(VLOOKUP($A115,ENEFN!$A$1:$N$1776,6,FALSE),0)","v":0},{"$f":"IFERROR(VLOOKUP($A115,ENEFN!$A$1:$N$1776,10,FALSE),0)","v":0}]
["211-",null,211,"22","00","000","001","000","022-007",null,"Evento",{"$f":"IFERROR(VLOOKUP($A116,ENEMT!$A$1:$O$1776,11,FALSE),0)","v":0},0,0,{"$f":"IFERROR(VLOOKUP($A116,ENEFN!$A$2:$N$1776,5,FALSE),0)","v":0},0,0,{"$f":"IFERROR(VLOOKUP($A116,ENEMT!$A$1:$O$1776,12,FALSE),0)","v":0},{"$f":"IFERROR(VLOOKUP($A116,ENEMT!$A$1:$O$1776,15,FALSE),0)","v":0},null,null,null,null,null,null,null,null,null,null,null,null,null,null,null,null,null,null,null,null,null,null,{"$f":"IFERROR(VLOOKUP($A116,ENEFN!$A$1:$N$1776,6,FALSE),0)","v":0},{"$f":"IFERROR(VLOOKUP($A116,ENEFN!$A$1:$N$1776,10,FALSE),0)","v":0}]
["211-022-007-0001",null,211,"22","00","000","001","000",null,"022-007-0001","Evento",{"$f":"IFERROR(VLOOKUP($A117,ENEMT!$A$1:$O$1776,11,FALSE),0)","v":154},136,52,{"$f":"IFERROR(VLOOKUP($A117,ENEFN!$A$2:$N$1776,5,FALSE),0)","v":18250293},18250293,72451.62,{"$f":"IFERROR(VLOOKUP($A117,ENEMT!$A$1:$O$1776,12,FALSE),0)","v":-18},{"$f":"IFERROR(VLOOKUP($A117,ENEMT!$A$1:$O$1776,15,FALSE),0)","v":52},null,null,null,null,null,null,null,null,null,null,null,null,null,null,null,null,null,null,null,null,null,null,{"$f":"IFERROR(VLOOKUP($A117,ENEFN!$A$1:$N$1776,6,FALSE),0)","v":0},{"$f":"IFERROR(VLOOKUP($A117,ENEFN!$A$1:$N$1776,10,FALSE),0)","v":72451.62}]
["211-",null,211,"22","00","000","002","000","022-008",null,"Documento",{"$f":"IFERROR(VLOOKUP($A118,ENEMT!$A$1:$O$1776,11,FALSE),0)","v":0},0,0,{"$f":"IFERROR(VLOOKUP($A118,ENEFN!$A$2:$N$1776,5,FALSE),0)","v":0},0,0,{"$f":"IFERROR(VLOOKUP($A118,ENEMT!$A$1:$O$1776,12,FALSE),0)","v":0},{"$f":"IFERROR(VLOOKUP($A118,ENEMT!$A$1:$O$1776,15,FALSE),0)","v":0},null,null,null,null,null,null,null,null,null,null,null,null,null,null,null,null,null,null,null,null,null,null,{"$f":"IFERROR(VLOOKUP($A118,ENEFN!$A$1:$N$1776,6,FALSE),0)","v":0},{"$f":"IFERROR(VLOOKUP($A118,ENEFN!$A$1:$N$1776,10,FALSE),0)","v":0}]
["211-022-008-0001",null,211,"22","00","000","002","000",null,"022-008-0001","Documento",{"$f":"IFERROR(VLOOKUP($A119,ENEMT!$A$1:$O$1776,11,FALSE),0)","v":1},15,0,{"$f":"IFERROR(VLOOKUP($A119,ENEFN!$A$2:$N$1776,5,FALSE),0)","v":1848739},1848739,0,{"$f":"IFERROR(VLOOKUP($A119,ENEMT!$A$1:$O$1776,12,FALSE),0)","v":14},{"$f":"IFERROR(VLOOKUP($A119,ENEMT!$A$1:$O$1776,15,FALSE),0)","v":0},null,null,null,null,null,null,null,null,null,null,null,null,null,null,null,null,null,null,null,null,null,null,{"$f":"IFERROR(VLOOKUP($A119,ENEFN!$A$1:$N$1776,6,FALSE),0)","v":0},{"$f":"IFERROR(VLOOKUP($A119,ENEFN!$A$1:$N$1776,10,FALSE),0)","v":0}]
["211-022-008-0002",null,211,"22","00","000","002","000",null,"022-008-0002","Documento",{"$f":"IFERROR(VLOOKUP($A120,ENEMT!$A$1:$O$1776,11,FALSE),0)","v":2},2,0,{"$f":"IFERROR(VLOOKUP($A120,ENEFN!$A$2:$N$1776,5,FALSE),0)","v":14245},14245,0,{"$f":"IFERROR(VLOOKUP($A120,ENEMT!$A$1:$O$1776,12,FALSE),0)","v":0},{"$f":"IFERROR(VLOOKUP($A120,ENEMT!$A$1:$O$1776,15,FALSE),0)","v":0},null,null,null,null,null,null,null,null,null,null,null,null,null,null,null,null,null,null,null,null,null,null,{"$f":"IFERROR(VLOOKUP($A120,ENEFN!$A$1:$N$1776,6,FALSE),0)","v":0},{"$f":"IFERROR(VLOOKUP($A120,ENEFN!$A$1:$N$1776,10,FALSE),0)","v":0}]
["211-022-008-0003",null,211,"22","00","000","002","000",null,"022-008-0003","Documento",{"$f":"IFERROR(VLOOKUP($A121,ENEMT!$A$1:$O$1776,11,FALSE),0)","v":1},1,0,{"$f":"IFERROR(VLOOKUP($A121,ENEFN!$A$2:$N$1776,5,FALSE),0)","v":36627},36627,0,{"$f":"IFERROR(VLOOKUP($A121,ENEMT!$A$1:$O$1776,12,FALSE),0)","v":0},{"$f":"IFERROR(VLOOKUP($A121,ENEMT!$A$1:$O$1776,15,FALSE),0)","v":0},null,null,null,null,null,null,null,null,null,null,null,null,null,null,null,null,null,null,null,null,null,null,{"$f":"IFERROR(VLOOKUP($A121,ENEFN!$A$1:$N$1776,6,FALSE),0)","v":0},{"$f":"IFERROR(VLOOKUP($A121,ENEFN!$A$1:$N$1776,10,FALSE),0)","v":0}]
["211-022-008-0004",null,211,"22","00","000","002","000",null,"022-008-0004","Evento",{"$f":"IFERROR(VLOOKUP($A122,ENEMT!$A$1:$O$1776,11,FALSE),0)","v":175},175,0,{"$f":"IFERROR(VLOOKUP($A122,ENEFN!$A$2:$N$1776,5,FALSE),0)","v":20175},20175,0,{"$f":"IFERROR(VLOOKUP($A122,ENEMT!$A$1:$O$1776,12,FALSE),0)","v":0},{"$f":"IFERROR(VLOOKUP($A122,ENEMT!$A$1:$O$1776,15,FALSE),0)","v":0},null,null,null,null,null,null,null,null,null,null,null,null,null,null,null,null,null,null,null,null,null,null,{"$f":"IFERROR(VLOOKUP($A122,ENEFN!$A$1:$N$1776,6,FALSE),0)","v":0},{"$f":"IFERROR(VLOOKUP($A122,ENEFN!$A$1:$N$1776,10,FALSE),0)","v":0}]
["211-",null,211,"22","00","000","003","000","022-009",null,"Documento",{"$f":"IFERROR(VLOOKUP($A123,ENEMT!$A$1:$O$1776,11,FALSE),0)","v":0},0,0,{"$f":"IFERROR(VLOOKUP($A123,ENEFN!$A$2:$N$1776,5,FALSE),0)","v":0},0,0,{"$f":"IFERROR(VLOOKUP($A123,ENEMT!$A$1:$O$1776,12,FALSE),0)","v":0},{"$f":"IFERROR(VLOOKUP($A123,ENEMT!$A$1:$O$1776,15,FALSE),0)","v":0},null,null,null,null,null,null,null,null,null,null,null,null,null,null,null,null,null,null,null,null,null,null,{"$f":"IFERROR(VLOOKUP($A123,ENEFN!$A$1:$N$1776,6,FALSE),0)","v":0},{"$f":"IFERROR(VLOOKUP($A123,ENEFN!$A$1:$N$1776,10,FALSE),0)","v":0}]
["211-022-009-0001",null,211,"22","00","000","003","000",null,"022-009-0001","Registro",{"$f":"IFERROR(VLOOKUP($A124,ENEMT!$A$1:$O$1776,11,FALSE),0)","v":184},184,11,{"$f":"IFERROR(VLOOKUP($A124,ENEFN!$A$2:$N$1776,5,FALSE),0)","v":1933072},1933072,0,{"$f":"IFERROR(VLOOKUP($A124,ENEMT!$A$1:$O$1776,12,FALSE),0)","v":0},{"$f":"IFERROR(VLOOKUP($A124,ENEMT!$A$1:$O$1776,15,FALSE),0)","v":11},null,null,null,null,null,null,null,null,null,null,null,null,null,null,null,null,null,null,null,null,null,null,{"$f":"IFERROR(VLOOKUP($A124,ENEFN!$A$1:$N$1776,6,FALSE),0)","v":0},{"$f":"IFERROR(VLOOKUP($A124,ENEFN!$A$1:$N$1776,10,FALSE),0)","v":0}]
["211-022-009-0002",null,211,"22","00","000","003","000",null,"022-009-0002","Documento",{"$f":"IFERROR(VLOOKUP($A125,ENEMT!$A$1:$O$1776,11,FALSE),0)","v":125},125,13,{"$f":"IFERROR(VLOOKUP($A125,ENEFN!$A$2:$N$1776,5,FALSE),0)","v":3533},3533,0,{"$f":"IFERROR(VLOOKUP($A125,ENEMT!$A$1:$O$1776,12,FALSE),0)","v":0},{"$f":"IFERROR(VLOOKUP($A125,ENEMT!$A$1:$O$1776,15,FALSE),0)","v":13},null,null,null,null,null,null,null,null,null,null,null,null,null,null,null,null,null,null,null,null,null,null,{"$f":"IFERROR(VLOOKUP($A125,ENEFN!$A$1:$N$1776,6,FALSE),0)","v":0},{"$f":"IFERROR(VLOOKUP($A125,ENEFN!$A$1:$N$1776,10,FALSE),0)","v":0}]
["211-022-009-0003",null,211,"22","00","000","003","000",null,"022-009-0003","Documento",{"$f":"IFERROR(VLOOKUP($A126,ENEMT!$A$1:$O$1776,11,FALSE),0)","v":30},30,0,{"$f":"IFERROR(VLOOKUP($A126,ENEFN!$A$2:$N$1776,5,FALSE),0)","v":11392},11392,0,{"$f":"IFERROR(VLOOKUP($A126,ENEMT!$A$1:$O$1776,12,FALSE),0)","v":0},{"$f":"IFERROR(VLOOKUP($A126,ENEMT!$A$1:$O$1776,15,FALSE),0)","v":0},null,null,null,null,null,null,null,null,null,null,null,null,null,null,null,null,null,null,null,null,null,null,{"$f":"IFERROR(VLOOKUP($A126,ENEFN!$A$1:$N$1776,6,FALSE),0)","v":0},{"$f":"IFERROR(VLOOKUP($A126,ENEFN!$A$1:$N$1776,10,FALSE),0)","v":0}]
["211-022-009-0004",null,211,"22","00","000","003","000",null,"022-009-0004","Documento",{"$f":"IFERROR(VLOOKUP($A127,ENEMT!$A$1:$O$1776,11,FALSE),0)","v":5112},5112,300,{"$f":"IFERROR(VLOOKUP($A127,ENEFN!$A$2:$N$1776,5,FALSE),0)","v":3015},3015,0,{"$f":"IFERROR(VLOOKUP($A127,ENEMT!$A$1:$O$1776,12,FALSE),0)","v":0},{"$f":"IFERROR(VLOOKUP($A127,ENEMT!$A$1:$O$1776,15,FALSE),0)","v":300},null,null,null,null,null,null,null,null,null,null,null,null,null,null,null,null,null,null,null,null,null,null,{"$f":"IFERROR(VLOOKUP($A127,ENEFN!$A$1:$N$1776,6,FALSE),0)","v":0},{"$f":"IFERROR(VLOOKUP($A127,ENEFN!$A$1:$N$1776,10,FALSE),0)","v":0}]
["212-",null,212,"23","00","000","001","000","000-010",null,"Evento",{"$f":"IFERROR(VLOOKUP($A128,ENEMT!$A$1:$O$1776,11,FALSE),0)","v":0},0,0,{"$f":"IFERROR(VLOOKUP($A128,ENEFN!$A$2:$N$1776,5,FALSE),0)","v":0},0,0,{"$f":"IFERROR(VLOOKUP($A128,ENEMT!$A$1:$O$1776,12,FALSE),0)","v":0},{"$f":"IFERROR(VLOOKUP($A128,ENEMT!$A$1:$O$1776,15,FALSE),0)","v":0},null,null,null,null,null,null,null,null,null,null,null,null,null,null,null,null,null,null,null,null,null,null,{"$f":"IFERROR(VLOOKUP($A128,ENEFN!$A$1:$N$1776,6,FALSE),0)","v":0},{"$f":"IFERROR(VLOOKUP($A128,ENEFN!$A$1:$N$1776,10,FALSE),0)","v":0}]
["212-000-010-0001",null,212,"23","00","000","001","000",null,"000-010-0001","Evento",{"$f":"IFERROR(VLOOKUP($A129,ENEMT!$A$1:$O$1776,11,FALSE),0)","v":38},34,27,{"$f":"IFERROR(VLOOKUP($A129,ENEFN!$A$2:$N$1776,5,FALSE),0)","v":5076663},5076663,70900,{"$f":"IFERROR(VLOOKUP($A129,ENEMT!$A$1:$O$1776,12,FALSE),0)","v":-4},{"$f":"IFERROR(VLOOKUP($A129,ENEMT!$A$1:$O$1776,15,FALSE),0)","v":27},null,null,null,null,null,null,null,null,null,null,null,null,null,null,null,null,null,null,null,null,null,null,{"$f":"IFERROR(VLOOKUP($A129,ENEFN!$A$1:$N$1776,6,FALSE),0)","v":0},{"$f":"IFERROR(VLOOKUP($A129,ENEFN!$A$1:$N$1776,10,FALSE),0)","v":70900}]
["212-",null,212,"23","00","000","002","000","000-015",null,"Persona",{"$f":"IFERROR(VLOOKUP($A130,ENEMT!$A$1:$O$1776,11,FALSE),0)","v":0},0,0,{"$f":"IFERROR(VLOOKUP($A130,ENEFN!$A$2:$N$1776,5,FALSE),0)","v":0},0,0,{"$f":"IFERROR(VLOOKUP($A130,ENEMT!$A$1:$O$1776,12,FALSE),0)","v":0},{"$f":"IFERROR(VLOOKUP($A130,ENEMT!$A$1:$O$1776,15,FALSE),0)","v":0},null,null,null,null,null,null,null,null,null,null,null,null,null,null,null,null,null,null,null,null,null,null,{"$f":"IFERROR(VLOOKUP($A130,ENEFN!$A$1:$N$1776,6,FALSE),0)","v":0},{"$f":"IFERROR(VLOOKUP($A130,ENEFN!$A$1:$N$1776,10,FALSE),0)","v":0}]
["212-000-015-0001",null,212,"23","00","000","002","000",null,"000-015-0001","Persona",{"$f":"IFERROR(VLOOKUP($A131,ENEMT!$A$1:$O$1776,11,FALSE),0)","v":707},26,0,{"$f":"IFERROR(VLOOKUP($A131,ENEFN!$A$2:$N$1776,5,FALSE),0)","v":2145715},2145715,10000,{"$f":"IFERROR(VLOOKUP($A131,ENEMT!$A$1:$O$1776,12,FALSE),0)","v":-681},{"$f":"IFERROR(VLOOKUP($A131,ENEMT!$A$1:$O$1776,15,FALSE),0)","v":0},null,null,null,null,null,null,null,null,null,null,null,null,null,null,null,null,null,null,null,null,null,null,{"$f":"IFERROR(VLOOKUP($A131,ENEFN!$A$1:$N$1776,6,FALSE),0)","v":0},{"$f":"IFERROR(VLOOKUP($A131,ENEFN!$A$1:$N$1776,10,FALSE),0)","v":10000}]
["214-",null,214,"20","00","000","001","000","000-022",null,"Evento",{"$f":"IFERROR(VLOOKUP($A132,ENEMT!$A$1:$O$1776,11,FALSE),0)","v":0},0,0,{"$f":"IFERROR(VLOOKUP($A132,ENEFN!$A$2:$N$1776,5,FALSE),0)","v":0},0,0,{"$f":"IFERROR(VLOOKUP($A132,ENEMT!$A$1:$O$1776,12,FALSE),0)","v":0},{"$f":"IFERROR(VLOOKUP($A132,ENEMT!$A$1:$O$1776,15,FALSE),0)","v":0},null,null,null,null,null,null,null,null,null,null,null,null,null,null,null,null,null,null,null,null,null,null,{"$f":"IFERROR(VLOOKUP($A132,ENEFN!$A$1:$N$1776,6,FALSE),0)","v":0},{"$f":"IFERROR(VLOOKUP($A132,ENEFN!$A$1:$N$1776,10,FALSE),0)","v":0}]
["214-000-022-0001",null,214,"20","00","000","001","000",null,"000-022-0001","Evento",{"$f":"IFERROR(VLOOKUP($A133,ENEMT!$A$1:$O$1776,11,FALSE),0)","v":201},140,60,{"$f":"IFERROR(VLOOKUP($A133,ENEFN!$A$2:$N$1776,5,FALSE),0)","v":10935606},10935606,263534.03000000003,{"$f":"IFERROR(VLOOKUP($A133,ENEMT!$A$1:$O$1776,12,FALSE),0)","v":-61},{"$f":"IFERROR(VLOOKUP($A133,ENEMT!$A$1:$O$1776,15,FALSE),0)","v":60},null,null,null,null,null,null,null,null,null,null,null,null,null,null,null,null,null,null,null,null,null,null,{"$f":"IFERROR(VLOOKUP($A133,ENEFN!$A$1:$N$1776,6,FALSE),0)","v":0},{"$f":"IFERROR(VLOOKUP($A133,ENEFN!$A$1:$N$1776,10,FALSE),0)","v":263534.03000000003}]
["214-",null,214,"20","00","000","002","000","000-023",null,"Familia",{"$f":"IFERROR(VLOOKUP($A134,ENEMT!$A$1:$O$1776,11,FALSE),0)","v":0},0,0,{"$f":"IFERROR(VLOOKUP($A134,ENEFN!$A$2:$N$1776,5,FALSE),0)","v":0},0,0,{"$f":"IFERROR(VLOOKUP($A134,ENEMT!$A$1:$O$1776,12,FALSE),0)","v":0},{"$f":"IFERROR(VLOOKUP($A134,ENEMT!$A$1:$O$1776,15,FALSE),0)","v":0},null,null,null,null,null,null,null,null,null,null,null,null,null,null,null,null,null,null,null,null,null,null,{"$f":"IFERROR(VLOOKUP($A134,ENEFN!$A$1:$N$1776,6,FALSE),0)","v":0},{"$f":"IFERROR(VLOOKUP($A134,ENEFN!$A$1:$N$1776,10,FALSE),0)","v":0}]
["214-000-023-0001",null,214,"20","00","000","002","000",null,"000-023-0001","Familia",{"$f":"IFERROR(VLOOKUP($A135,ENEMT!$A$1:$O$1776,11,FALSE),0)","v":126},57,0,{"$f":"IFERROR(VLOOKUP($A135,ENEFN!$A$2:$N$1776,5,FALSE),0)","v":86456},86456,0,{"$f":"IFERROR(VLOOKUP($A135,ENEMT!$A$1:$O$1776,12,FALSE),0)","v":-69},{"$f":"IFERROR(VLOOKUP($A135,ENEMT!$A$1:$O$1776,15,FALSE),0)","v":0},null,null,null,null,null,null,null,null,null,null,null,null,null,null,null,null,null,null,null,null,null,null,{"$f":"IFERROR(VLOOKUP($A135,ENEFN!$A$1:$N$1776,6,FALSE),0)","v":0},{"$f":"IFERROR(VLOOKUP($A135,ENEFN!$A$1:$N$1776,10,FALSE),0)","v":0}]
["214-000-023-0002",null,214,"20","00","000","002","000",null,"000-023-0002","Unidad monetaria",{"$f":"IFERROR(VLOOKUP($A136,ENEMT!$A$1:$O$1776,11,FALSE),0)","v":1389000},1389000,60000,{"$f":"IFERROR(VLOOKUP($A136,ENEFN!$A$2:$N$1776,5,FALSE),0)","v":3505},3505,0,{"$f":"IFERROR(VLOOKUP($A136,ENEMT!$A$1:$O$1776,12,FALSE),0)","v":0},{"$f":"IFERROR(VLOOKUP($A136,ENEMT!$A$1:$O$1776,15,FALSE),0)","v":60000},null,null,null,null,null,null,null,null,null,null,null,null,null,null,null,null,null,null,null,null,null,null,{"$f":"IFERROR(VLOOKUP($A136,ENEFN!$A$1:$N$1776,6,FALSE),0)","v":0},{"$f":"IFERROR(VLOOKUP($A136,ENEFN!$A$1:$N$1776,10,FALSE),0)","v":0}]
["216-",null,216,"18","00","000","001","000","021-001",null,"Evento",{"$f":"IFERROR(VLOOKUP($A137,ENEMT!$A$1:$O$1776,11,FALSE),0)","v":0},0,0,{"$f":"IFERROR(VLOOKUP($A137,ENEFN!$A$2:$N$1776,5,FALSE),0)","v":0},0,0,{"$f":"IFERROR(VLOOKUP($A137,ENEMT!$A$1:$O$1776,12,FALSE),0)","v":0},{"$f":"IFERROR(VLOOKUP($A137,ENEMT!$A$1:$O$1776,15,FALSE),0)","v":0},null,null,null,null,null,null,null,null,null,null,null,null,null,null,null,null,null,null,null,null,null,null,{"$f":"IFERROR(VLOOKUP($A137,ENEFN!$A$1:$N$1776,6,FALSE),0)","v":0},{"$f":"IFERROR(VLOOKUP($A137,ENEFN!$A$1:$N$1776,10,FALSE),0)","v":0}]
[{"$f":"CONCATENATE(C138,\"-\",J138)","v":"216-021-001-0001"},null,216,"18","00","000","001","000",null,"021-001-0001","Evento",{"$f":"IFERROR(VLOOKUP($A138,ENEMT!$A$1:$O$1776,11,FALSE),0)","v":720},{"$f":"+L138+R138+T138+V138+X138+Z138+AB138+AD138+AF138+AH138+AJ138+AL138+AN138","v":193},{"$f":"+S138+U138+W138+Y138+AA138+AC138+AE138+AG138+AI138+AK138+AM138+AO138","v":0},{"$f":"IFERROR(VLOOKUP($A138,ENEFN!$A$2:$N$1776,5,FALSE),0)","v":19713706},{"$f":"+O138+AP138+AR138+AT138+AV138+AX138+AZ138+BB138+BD138+BF138+BH138+BJ138+BL138","v":19713706},{"$f":"+AQ138+AS138+AU138+AW138+AY138+BA138+BC138+BE138+BG138+BI138+BK138+BM138","v":89726.65},{"$f":"IFERROR(VLOOKUP($A138,ENEMT!$A$1:$O$1776,12,FALSE),0)","v":-527},{"$f":"IFERROR(VLOOKUP($A138,ENEMT!$A$1:$O$1776,15,FALSE),0)","v":0},null,null,null,null,null,null,null,null,null,null,null,null,null,null,null,null,null,null,null,null,null,null,{"$f":"IFERROR(VLOOKUP($A138,ENEFN!$A$1:$N$1776,6,FALSE),0)","v":0},{"$f":"IFERROR(VLOOKUP($A138,ENEFN!$A$1:$N$1776,10,FALSE),0)","v":89726.65}]
["216-",null,216,"18","00","000","002","000","021-002",null,"Persona",{"$f":"IFERROR(VLOOKUP($A139,ENEMT!$A$1:$O$1776,11,FALSE),0)","v":0},0,0,{"$f":"IFERROR(VLOOKUP($A139,ENEFN!$A$2:$N$1776,5,FALSE),0)","v":0},0,0,{"$f":"IFERROR(VLOOKUP($A139,ENEMT!$A$1:$O$1776,12,FALSE),0)","v":0},{"$f":"IFERROR(VLOOKUP($A139,ENEMT!$A$1:$O$1776,15,FALSE),0)","v":0},null,null,null,null,null,null,null,null,null,null,null,null,null,null,null,null,null,null,null,null,null,null,{"$f":"IFERROR(VLOOKUP($A139,ENEFN!$A$1:$N$1776,6,FALSE),0)","v":0},{"$f":"IFERROR(VLOOKUP($A139,ENEFN!$A$1:$N$1776,10,FALSE),0)","v":0}]
["216-021-002-0001",null,216,"18","00","000","002","000",null,"021-002-0001","Persona",{"$f":"IFERROR(VLOOKUP($A140,ENEMT!$A$1:$O$1776,11,FALSE),0)","v":23100},20000,0,{"$f":"IFERROR(VLOOKUP($A140,ENEFN!$A$2:$N$1776,5,FALSE),0)","v":23000},23000,0,{"$f":"IFERROR(VLOOKUP($A140,ENEMT!$A$1:$O$1776,12,FALSE),0)","v":-3100},{"$f":"IFERROR(VLOOKUP($A140,ENEMT!$A$1:$O$1776,15,FALSE),0)","v":0},null,null,null,null,null,null,null,null,null,null,null,null,null,null,null,null,null,null,null,null,null,null,{"$f":"IFERROR(VLOOKUP($A140,ENEFN!$A$1:$N$1776,6,FALSE),0)","v":0},{"$f":"IFERROR(VLOOKUP($A140,ENEFN!$A$1:$N$1776,10,FALSE),0)","v":0}]
["216-021-002-0002",null,216,"18","00","000","002","000",null,"021-002-0002","Persona",{"$f":"IFERROR(VLOOKUP($A141,ENEMT!$A$1:$O$1776,11,FALSE),0)","v":107},107,0,{"$f":"IFERROR(VLOOKUP($A141,ENEFN!$A$2:$N$1776,5,FALSE),0)","v":320400},320400,0,{"$f":"IFERROR(VLOOKUP($A141,ENEMT!$A$1:$O$1776,12,FALSE),0)","v":0},{"$f":"IFERROR(VLOOKUP($A141,ENEMT!$A$1:$O$1776,15,FALSE),0)","v":0},null,null,null,null,null,null,null,null,null,null,null,null,null,null,null,null,null,null,null,null,null,null,{"$f":"IFERROR(VLOOKUP($A141,ENEFN!$A$1:$N$1776,6,FALSE),0)","v":0},{"$f":"IFERROR(VLOOKUP($A141,ENEFN!$A$1:$N$1776,10,FALSE),0)","v":0}]
["216-021-002-0003",null,216,"18","00","000","002","000",null,"021-002-0003","Persona",{"$f":"IFERROR(VLOOKUP($A142,ENEMT!$A$1:$O$1776,11,FALSE),0)","v":64680},60000,0,{"$f":"IFERROR(VLOOKUP($A142,ENEFN!$A$2:$N$1776,5,FALSE),0)","v":639450},639450,0,{"$f":"IFERROR(VLOOKUP($A142,ENEMT!$A$1:$O$1776,12,FALSE),0)","v":-4680},{"$f":"IFERROR(VLOOKUP($A142,ENEMT!$A$1:$O$1776,15,FALSE),0)","v":0},null,null,null,null,null,null,null,null,null,null,null,null,null,null,null,null,null,null,null,null,null,null,{"$f":"IFERROR(VLOOKUP($A142,ENEFN!$A$1:$N$1776,6,FALSE),0)","v":0},{"$f":"IFERROR(VLOOKUP($A142,ENEFN!$A$1:$N$1776,10,FALSE),0)","v":0}]
["216-021-002-0004",null,216,"18","00","000","002","000",null,"021-002-0004","Evento",{"$f":"IFERROR(VLOOKUP($A143,ENEMT!$A$1:$O$1776,11,FALSE),0)","v":7710},7000,0,{"$f":"IFERROR(VLOOKUP($A143,ENEFN!$A$2:$N$1776,5,FALSE),0)","v":25743932},25743932,0,{"$f":"IFERROR(VLOOKUP($A143,ENEMT!$A$1:$O$1776,12,FALSE),0)","v":-710},{"$f":"IFERROR(VLOOKUP($A143,ENEMT!$A$1:$O$1776,15,FALSE),0)","v":0},null,null,null,null,null,null,null,null,null,null,null,null,null,null,null,null,null,null,null,null,null,null,{"$f":"IFERROR(VLOOKUP($A143,ENEFN!$A$1:$N$1776,6,FALSE),0)","v":0},{"$f":"IFERROR(VLOOKUP($A143,ENEFN!$A$1:$N$1776,10,FALSE),0)","v":0}]
["216-021-002-0005",null,216,"18","00","000","002","000",null,"021-002-0005","Persona",{"$f":"IFERROR(VLOOKUP($A144,ENEMT!$A$1:$O$1776,11,FALSE),0)","v":231000},225000,0,{"$f":"IFERROR(VLOOKUP($A144,ENEFN!$A$2:$N$1776,5,FALSE),0)","v":60000},60000,0,{"$f":"IFERROR(VLOOKUP($A144,ENEMT!$A$1:$O$1776,12,FALSE),0)","v":-6000},{"$f":"IFERROR(VLOOKUP($A144,ENEMT!$A$1:$O$1776,15,FALSE),0)","v":0},null,null,null,null,null,null,null,null,null,null,null,null,null,null,null,null,null,null,null,null,null,null,{"$f":"IFERROR(VLOOKUP($A144,ENEFN!$A$1:$N$1776,6,FALSE),0)","v":0},{"$f":"IFERROR(VLOOKUP($A144,ENEFN!$A$1:$N$1776,10,FALSE),0)","v":0}]
["216-021-002-0006",null,216,"18","00","000","002","000",null,"021-002-0006","Documento",{"$f":"IFERROR(VLOOKUP($A145,ENEMT!$A$1:$O$1776,11,FALSE),0)","v":3234},2600,0,{"$f":"IFERROR(VLOOKUP($A145,ENEFN!$A$2:$N$1776,5,FALSE),0)","v":2714475},2714475,0,{"$f":"IFERROR(VLOOKUP($A145,ENEMT!$A$1:$O$1776,12,FALSE),0)","v":-634},{"$f":"IFERROR(VLOOKUP($A145,ENEMT!$A$1:$O$1776,15,FALSE),0)","v":0},null,null,null,null,null,null,null,null,null,null,null,null,null,null,null,null,null,null,null,null,null,null,{"$f":"IFERROR(VLOOKUP($A145,ENEFN!$A$1:$N$1776,6,FALSE),0)","v":0},{"$f":"IFERROR(VLOOKUP($A145,ENEFN!$A$1:$N$1776,10,FALSE),0)","v":0}]
["216-021-002-0007",null,216,"18","00","000","002","000",null,"021-002-0007","Evento",{"$f":"IFERROR(VLOOKUP($A146,ENEMT!$A$1:$O$1776,11,FALSE),0)","v":37},65,0,{"$f":"IFERROR(VLOOKUP($A146,ENEFN!$A$2:$N$1776,5,FALSE),0)","v":67874},67874,0,{"$f":"IFERROR(VLOOKUP($A146,ENEMT!$A$1:$O$1776,12,FALSE),0)","v":28},{"$f":"IFERROR(VLOOKUP($A146,ENEMT!$A$1:$O$1776,15,FALSE),0)","v":0},null,null,null,null,null,null,null,null,null,null,null,null,null,null,null,null,null,null,null,null,null,null,{"$f":"IFERROR(VLOOKUP($A146,ENEFN!$A$1:$N$1776,6,FALSE),0)","v":0},{"$f":"IFERROR(VLOOKUP($A146,ENEFN!$A$1:$N$1776,10,FALSE),0)","v":0}]
["217-",null,217,"20","00","000","001","000","000-022",null,"Evento",{"$f":"IFERROR(VLOOKUP($A147,ENEMT!$A$1:$O$1776,11,FALSE),0)","v":0},0,0,{"$f":"IFERROR(VLOOKUP($A147,ENEFN!$A$2:$N$1776,5,FALSE),0)","v":0},0,0,{"$f":"IFERROR(VLOOKUP($A147,ENEMT!$A$1:$O$1776,12,FALSE),0)","v":0},{"$f":"IFERROR(VLOOKUP($A147,ENEMT!$A$1:$O$1776,15,FALSE),0)","v":0},null,null,null,null,null,null,null,null,null,null,null,null,null,null,null,null,null,null,null,null,null,null,{"$f":"IFERROR(VLOOKUP($A147,ENEFN!$A$1:$N$1776,6,FALSE),0)","v":0},{"$f":"IFERROR(VLOOKUP($A147,ENEFN!$A$1:$N$1776,10,FALSE),0)","v":0}]
["217-000-022-0001",null,217,"20","00","000","001","000",null,"000-022-0001","Evento",{"$f":"IFERROR(VLOOKUP($A148,ENEMT!$A$1:$O$1776,11,FALSE),0)","v":263},261,0,{"$f":"IFERROR(VLOOKUP($A148,ENEFN!$A$2:$N$1776,5,FALSE),0)","v":50492933},50492933,262242.49,{"$f":"IFERROR(VLOOKUP($A148,ENEMT!$A$1:$O$1776,12,FALSE),0)","v":-2},{"$f":"IFERROR(VLOOKUP($A148,ENEMT!$A$1:$O$1776,15,FALSE),0)","v":0},null,null,null,null,null,null,null,null,null,null,null,null,null,null,null,null,null,null,null,null,null,null,{"$f":"IFERROR(VLOOKUP($A148,ENEFN!$A$1:$N$1776,6,FALSE),0)","v":0},{"$f":"IFERROR(VLOOKUP($A148,ENEFN!$A$1:$N$1776,10,FALSE),0)","v":262242.49}]
["217-",null,217,"11","00","000","002","000","017-005",null,"Kilómetro",{"$f":"IFERROR(VLOOKUP($A149,ENEMT!$A$1:$O$1776,11,FALSE),0)","v":0},0,0,{"$f":"IFERROR(VLOOKUP($A149,ENEFN!$A$2:$N$1776,5,FALSE),0)","v":0},0,0,{"$f":"IFERROR(VLOOKUP($A149,ENEMT!$A$1:$O$1776,12,FALSE),0)","v":0},{"$f":"IFERROR(VLOOKUP($A149,ENEMT!$A$1:$O$1776,15,FALSE),0)","v":0},null,null,null,null,null,null,null,null,null,null,null,null,null,null,null,null,null,null,null,null,null,null,{"$f":"IFERROR(VLOOKUP($A149,ENEFN!$A$1:$N$1776,6,FALSE),0)","v":0},{"$f":"IFERROR(VLOOKUP($A149,ENEFN!$A$1:$N$1776,10,FALSE),0)","v":0}]
["217-017-005-0001",null,217,"11","00","000","002","000",null,"017-005-0001","Kilómetro",{"$f":"IFERROR(VLOOKUP($A150,ENEMT!$A$1:$O$1776,11,FALSE),0)","v":219},219,0,{"$f":"IFERROR(VLOOKUP($A150,ENEFN!$A$2:$N$1776,5,FALSE),0)","v":15037645},15037645,0,{"$f":"IFERROR(VLOOKUP($A150,ENEMT!$A$1:$O$1776,12,FALSE),0)","v":0},{"$f":"IFERROR(VLOOKUP($A150,ENEMT!$A$1:$O$1776,15,FALSE),0)","v":0},null,null,null,null,null,null,null,null,null,null,null,null,null,null,null,null,null,null,null,null,null,null,{"$f":"IFERROR(VLOOKUP($A150,ENEFN!$A$1:$N$1776,6,FALSE),0)","v":0},{"$f":"IFERROR(VLOOKUP($A150,ENEFN!$A$1:$N$1776,10,FALSE),0)","v":0}]
["217-017-005-0002",null,217,"11","00","000","002","000",null,"017-005-0002","Evento",{"$f":"IFERROR(VLOOKUP($A151,ENEMT!$A$1:$O$1776,11,FALSE),0)","v":128},141,0,{"$f":"IFERROR(VLOOKUP($A151,ENEFN!$A$2:$N$1776,5,FALSE),0)","v":8076000},8076000,0,{"$f":"IFERROR(VLOOKUP($A151,ENEMT!$A$1:$O$1776,12,FALSE),0)","v":13},{"$f":"IFERROR(VLOOKUP($A151,ENEMT!$A$1:$O$1776,15,FALSE),0)","v":0},null,null,null,null,null,null,null,null,null,null,null,null,null,null,null,null,null,null,null,null,null,null,{"$f":"IFERROR(VLOOKUP($A151,ENEFN!$A$1:$N$1776,6,FALSE),0)","v":0},{"$f":"IFERROR(VLOOKUP($A151,ENEFN!$A$1:$N$1776,10,FALSE),0)","v":0}]
["218-",null,218,"19","00","000","001","000","019-001",null,"Evento",{"$f":"IFERROR(VLOOKUP($A152,ENEMT!$A$1:$O$1776,11,FALSE),0)","v":0},0,0,{"$f":"IFERROR(VLOOKUP($A152,ENEFN!$A$2:$N$1776,5,FALSE),0)","v":0},0,0,{"$f":"IFERROR(VLOOKUP($A152,ENEMT!$A$1:$O$1776,12,FALSE),0)","v":0},{"$f":"IFERROR(VLOOKUP($A152,ENEMT!$A$1:$O$1776,15,FALSE),0)","v":0},null,null,null,null,null,null,null,null,null,null,null,null,null,null,null,null,null,null,null,null,null,null,{"$f":"IFERROR(VLOOKUP($A152,ENEFN!$A$1:$N$1776,6,FALSE),0)","v":0},{"$f":"IFERROR(VLOOKUP($A152,ENEFN!$A$1:$N$1776,10,FALSE),0)","v":0}]
["218-019-001-0001",null,218,"19","00","000","001","000",null,"019-001-0001","Evento",{"$f":"IFERROR(VLOOKUP($A153,ENEMT!$A$1:$O$1776,11,FALSE),0)","v":225},225,18,{"$f":"IFERROR(VLOOKUP($A153,ENEFN!$A$2:$N$1776,5,FALSE),0)","v":50000000},50000000,366881.53,{"$f":"IFERROR(VLOOKUP($A153,ENEMT!$A$1:$O$1776,12,FALSE),0)","v":0},{"$f":"IFERROR(VLOOKUP($A153,ENEMT!$A$1:$O$1776,15,FALSE),0)","v":18},null,null,null,null,null,null,null,null,null,null,null,null,null,null,null,null,null,null,null,null,null,null,{"$f":"IFERROR(VLOOKUP($A153,ENEFN!$A$1:$N$1776,6,FALSE),0)","v":0},{"$f":"IFERROR(VLOOKUP($A153,ENEFN!$A$1:$N$1776,10,FALSE),0)","v":366881.53}]
["218-",null,218,"19","00","000","002","000","019-002",null,"Familia",{"$f":"IFERROR(VLOOKUP($A154,ENEMT!$A$1:$O$1776,11,FALSE),0)","v":0},0,0,{"$f":"IFERROR(VLOOKUP($A154,ENEFN!$A$2:$N$1776,5,FALSE),0)","v":0},0,0,{"$f":"IFERROR(VLOOKUP($A154,ENEMT!$A$1:$O$1776,12,FALSE),0)","v":0},{"$f":"IFERROR(VLOOKUP($A154,ENEMT!$A$1:$O$1776,15,FALSE),0)","v":0},null,null,null,null,null,null,null,null,null,null,null,null,null,null,null,null,null,null,null,null,null,null,{"$f":"IFERROR(VLOOKUP($A154,ENEFN!$A$1:$N$1776,6,FALSE),0)","v":0},{"$f":"IFERROR(VLOOKUP($A154,ENEFN!$A$1:$N$1776,10,FALSE),0)","v":0}]
["218-019-002-0001",null,218,"19","00","000","002","000",null,"019-002-0001","Familia",{"$f":"IFERROR(VLOOKUP($A155,ENEMT!$A$1:$O$1776,11,FALSE),0)","v":360},360,0,{"$f":"IFERROR(VLOOKUP($A155,ENEFN!$A$2:$N$1776,5,FALSE),0)","v":12600000},12600000,0,{"$f":"IFERROR(VLOOKUP($A155,ENEMT!$A$1:$O$1776,12,FALSE),0)","v":0},{"$f":"IFERROR(VLOOKUP($A155,ENEMT!$A$1:$O$1776,15,FALSE),0)","v":0},null,null,null,null,null,null,null,null,null,null,null,null,null,null,null,null,null,null,null,null,null,null,{"$f":"IFERROR(VLOOKUP($A155,ENEFN!$A$1:$N$1776,6,FALSE),0)","v":0},{"$f":"IFERROR(VLOOKUP($A155,ENEFN!$A$1:$N$1776,10,FALSE),0)","v":0}]
["218-019-002-0002",null,218,"19","00","000","002","000",null,"019-002-0002","Familia",{"$f":"IFERROR(VLOOKUP($A156,ENEMT!$A$1:$O$1776,11,FALSE),0)","v":430},430,0,{"$f":"IFERROR(VLOOKUP($A156,ENEFN!$A$2:$N$1776,5,FALSE),0)","v":15050000},15050000,0,{"$f":"IFERROR(VLOOKUP($A156,ENEMT!$A$1:$O$1776,12,FALSE),0)","v":0},{"$f":"IFERROR(VLOOKUP($A156,ENEMT!$A$1:$O$1776,15,FALSE),0)","v":0},null,null,null,null,null,null,null,null,null,null,null,null,null,null,null,null,null,null,null,null,null,null,{"$f":"IFERROR(VLOOKUP($A156,ENEFN!$A$1:$N$1776,6,FALSE),0)","v":0},{"$f":"IFERROR(VLOOKUP($A156,ENEFN!$A$1:$N$1776,10,FALSE),0)","v":0}]
["218-019-002-0003",null,218,"19","00","000","002","000",null,"019-002-0003","Familia",{"$f":"IFERROR(VLOOKUP($A157,ENEMT!$A$1:$O$1776,11,FALSE),0)","v":264},264,0,{"$f":"IFERROR(VLOOKUP($A157,ENEFN!$A$2:$N$1776,5,FALSE),0)","v":9254000},9254000,0,{"$f":"IFERROR(VLOOKUP($A157,ENEMT!$A$1:$O$1776,12,FALSE),0)","v":0},{"$f":"IFERROR(VLOOKUP($A157,ENEMT!$A$1:$O$1776,15,FALSE),0)","v":0},null,null,null,null,null,null,null,null,null,null,null,null,null,null,null,null,null,null,null,null,null,null,{"$f":"IFERROR(VLOOKUP($A157,ENEFN!$A$1:$N$1776,6,FALSE),0)","v":0},{"$f":"IFERROR(VLOOKUP($A157,ENEFN!$A$1:$N$1776,10,FALSE),0)","v":0}]
["218-019-002-0004",null,218,"19","00","000","002","000",null,"019-002-0004","Familia",{"$f":"IFERROR(VLOOKUP($A158,ENEMT!$A$1:$O$1776,11,FALSE),0)","v":1422},1422,0,{"$f":"IFERROR(VLOOKUP($A158,ENEFN!$A$2:$N$1776,5,FALSE),0)","v":49546000},49546000,0,{"$f":"IFERROR(VLOOKUP($A158,ENEMT!$A$1:$O$1776,12,FALSE),0)","v":0},{"$f":"IFERROR(VLOOKUP($A158,ENEMT!$A$1:$O$1776,15,FALSE),0)","v":0},null,null,null,null,null,null,null,null,null,null,null,null,null,null,null,null,null,null,null,null,null,null,{"$f":"IFERROR(VLOOKUP($A158,ENEFN!$A$1:$N$1776,6,FALSE),0)","v":0},{"$f":"IFERROR(VLOOKUP($A158,ENEFN!$A$1:$N$1776,10,FALSE),0)","v":0}]
["218-019-002-0006",null,218,"19","00","000","002","000",null,"019-002-0006","Familia",{"$f":"IFERROR(VLOOKUP($A159,ENEMT!$A$1:$O$1776,11,FALSE),0)","v":14873},14978,0,{"$f":"IFERROR(VLOOKUP($A159,ENEFN!$A$2:$N$1776,5,FALSE),0)","v":524216000},524216000,2156000,{"$f":"IFERROR(VLOOKUP($A159,ENEMT!$A$1:$O$1776,12,FALSE),0)","v":105},{"$f":"IFERROR(VLOOKUP($A159,ENEMT!$A$1:$O$1776,15,FALSE),0)","v":0},null,null,null,null,null,null,null,null,null,null,null,null,null,null,null,null,null,null,null,null,null,null,{"$f":"IFERROR(VLOOKUP($A159,ENEFN!$A$1:$N$1776,6,FALSE),0)","v":0},{"$f":"IFERROR(VLOOKUP($A159,ENEFN!$A$1:$N$1776,10,FALSE),0)","v":2156000}]

{"sheet":"ENEMT","index":2,"n_rows":625,"n_cols":15,"rows_kept":625,"cut":false,"hidden":true,"merged":[]}
["CONCATENADO","PRODUCTO","UNIDAD","DESCRIPCION","PG","SP","PY","ACT","OB","UNIDAD DE MEDIDA","INICIAL","MODIFICADO","VIGENTE","PROGRAMADO","EJECUTADO"]
["201-000-001","000-001",201,"Servicios Financieros",1,0,0,3,0,"Evento",31,0,31,0,0]
["201-000-001-0001","000-001-0001",201,"Servicios Financieros",1,0,0,3,0,"Evento",31,0,31,0,0]
["201-000-003","000-003",201,"Servicios Administrativos",1,0,0,2,0,"Evento",319,0,319,0,0]
["201-000-003-0001","000-003-0001",201,"Servicios Administrativos",1,0,0,2,0,"Evento",319,0,319,0,0]
["201-000-004","000-004",201,"Personas Jurídicas Beneficiadas Con Aportes Y/O Cuotas Para Transporte",99,0,0,1,0,"Aporte",13,0,13,0,0]
["201-000-004-0001","000-004-0001",201,"Personas Jurídicas Beneficiadas Con Aportes Y/O Cuotas Para Transporte",99,0,0,1,0,"Aporte",13,0,13,0,0]
["201-000-005","000-005",201,"Personas Jurídicas Beneficiadas Con Aportes Y/O Cuotas Para Comunicaciones",99,0,0,2,0,"Aporte",1,0,1,0,0]
["201-000-005-0001","000-005-0001",201,"Personas Jurídicas Beneficiadas Con Aportes Y/O Cuotas Para Comunicaciones",99,0,0,2,0,"Aporte",1,0,1,0,0]
["201-000-006","000-006",201,"Personas Jurídicas Beneficiadas Con Aportes Y/O Cuotas Para Control Del Medio Ambiente",99,0,0,3,0,"Aporte",1,0,1,0,0]
["201-000-006-0001","000-006-0001",201,"Personas Jurídicas  Beneficiadas Con Aportes Y/O Cuotas Para Control Del Medio Ambiente",99,0,0,3,0,"Aporte",1,0,1,0,0]
["201-000-009","000-009",201,"Dirección Superior",1,0,0,1,0,"Evento",216,11,227,0,0]
["201-000-009-0001","000-009-0001",201,"Dirección Superior",1,0,0,1,0,"Evento",216,11,227,0,0]
["202-017-003","017-003",202,"Dirección Y Coordinación",11,0,0,1,0,"Evento",472,0,472,0,0]
["202-017-003-0001","017-003-0001",202,"Dirección Y Coordinación",11,0,0,1,0,"Evento",472,0,472,0,0]
["202-017-005","017-005",202,"Red Vial Con Servicios De Mantenimiento",11,0,0,2,0,"Kilómetro",2657,0,2657,0,0]
["202-017-005-0001","017-005-0001",202,"Red Vial Con Servicios De Mantenimiento",11,0,0,2,0,"Kilómetro",2657,0,2657,0,0]
["202-017-008","017-008",202,"Red Vial De Rutas Centroamericanas Con Servicios De Mantenimiento",11,3,0,1,0,"Kilómetro",82,0,82,0,0]
["202-017-008-0001","017-008-0001",202,"Red Vial Con Servicios De Rehabilitación",11,3,0,1,0,"Kilómetro",82,0,82,0,0]
["203-017-001","017-001",203,"Red Vial Pavimentada Con Servicios De Mantenimiento (Fideicomiso)",11,1,0,1,0,"Documento",11,0,11,0,0]
["203-017-001-0003","017-001-0003",203,"Red Vial Pavimentada Con Servicios De Mantenimiento (Fideicomiso)",11,1,0,1,0,"Documento",11,0,11,0,0]
["203-017-002","017-002",203,"Red Vial Pavimentada Con Mantenimiento (Ejecución Normal)",11,1,0,2,0,"Kilómetro",6453,0,6453,0,0]
["203-017-002-0001","017-002-0001",203,"Red Vial Pavimentada Con Mantenimiento (Ejecución Normal)",11,1,0,2,0,"Kilómetro",6453,0,6453,0,0]
["203-017-003","017-003",203,"Dirección Y Coordinación",11,0,0,1,0,"Evento",120,0,120,0,0]
["203-017-003-0001","017-003-0001",203,"Dirección Y Coordinación",11,0,0,1,0,"Evento",120,0,120,0,0]
["203-017-006","017-006",203,"Red Vial Rural Con Servicios De Mantenimiento (Fideicomiso)",11,2,0,1,0,"Documento",10,0,10,0,0]
["203-017-006-0002","017-006-0002",203,"Red Vial Rural Con Servicios De Mantenimiento (Fideicomiso)",11,2,0,1,0,"Documento",10,0,10,0,0]
["203-017-007","017-007",203,"Red Vial Terciaria Con Mantenimiento (Ejecución Normal)",11,2,0,2,0,"Kilómetro",5349,0,5349,0,0]
["203-017-007-0001","017-007-0001",203,"Red Vial Terciaria Con Mantenimiento (Ejecución Normal)",11,2,0,2,0,"Kilómetro",5349,0,5349,0,0]
["204-018-005","018-005",204,"Dirección Y Coordinación",12,0,0,1,0,"Evento",85,180,265,58,58]
["204-018-005-0001","018-005-0001",204,"Dirección Y Coordinación",12,0,0,1,0,"Evento",85,180,265,58,58]
["204-018-006","018-006",204,"Regulación De Transporte Extraurbano De Pasajeros Y Carga Por Carretera",12,0,0,2,0,"Documento",4595,11100,15695,830,830]
["204-018-006-0001","018-006-0001",204,"Personas Jurídicas O Individuales Con Licencias Otorgadas De Transporte Extraurbano De Pasajeros Por Carretera",12,0,0,2,0,"Documento",525,0,525,40,40]
["204-018-006-0002","018-006-0002",204,"Personas Jurídicas O Individuales Con Permisos Temporales Otorgados Para El Transporte Extraurbano De Pasajeros Por Carretera",12,0,0,2,0,"Documento",1575,2100,3675,160,160]
["204-018-006-0003","018-006-0003",204,"Personas Jurídicas O Individuales Con Licencias Modificadas De Transporte Extraurbano De Pasajeros Por Carretera",12,0,0,2,0,"Documento",1550,2000,3550,160,160]
["204-018-006-0004","018-006-0004",204,"Operativos De Control Fijo Del Servicio De Transporte Extraurbano",12,0,0,2,0,"Evento",1470,2200,3670,190,190]
["204-018-006-0005","018-006-0005",204,"Personas Jurídicas O Individuales Con Permisos Expresos Para El Transporte Extraurbano De Pasajeros Por Carretera",12,0,0,2,0,"Documento",420,6000,6420,400,400]
["204-018-006-0007","018-006-0007",204,"Personas Jurídicas O Individuales Con Constancias De Registro De Pilotos Para El Transporte Extraurbano De Pasajeros Por Carretera",12,0,0,2,0,"Documento",525,1000,1525,70,70]
["205-000-005","000-005",205,"Personas Jurídicas Beneficiadas Con Aportes Y/O Cuotas Para Comunicaciones",99,0,0,2,0,"Aporte",1,1,2,0,0]
["205-000-005-0001","000-005-0001",205,"Personas Jurídicas Beneficiadas Con Aportes Y/O Cuotas Para Comunicaciones",99,0,0,2,0,"Aporte",1,1,2,0,0]
["205-000-013","000-013",205,"Dirección Y Coordinación",13,0,0,1,0,"Evento",990,900,1890,815,773]
["205-000-013-0001","000-013-0001",205,"Dirección Y Coordinación",13,0,0,1,0,"Evento",990,900,1890,815,773]
["205-000-014","000-014",205,"Aeronaves Con Servicios De Aeronavegabilidad",13,0,0,2,0,"Aeronave",1676,2587,4263,343,338]
["205-000-014-0001","000-014-0001",205,"Pasajeros Que Ingresan Por Medio De Transporte Aéreo Con Servicios De Desembarque",13,0,0,2,0,"Persona",291179,1362624,1653803,129991,129811]
["205-000-014-0002","000-014-0002",205,"Pasajeros Que Egresan Por Medio De Transporte Aéreo Con Servicios De Embarque",13,0,0,2,0,"Persona",1676801,-31518,1645283,136517,136286]
["205-000-014-0003","000-014-0003",205,"Carga Embarcada Para La Exportación Aérea",13,0,0,2,0,"Kilogramo",86739745,-55553178,31186567,2174612,2174612]
["205-000-014-0004","000-014-0004",205,"Carga Desembarcada Para La Importación Aérea",13,0,0,2,0,"Kilogramo",33930296,-9847837,24082459,1828291,1828291]
["205-000-014-0005","000-014-0005",205,"Aeronaves Con Inspección Técnica",13,0,0,2,0,"Aeronave",297,226,523,30,27]
["205-000-014-0006","000-014-0006",205,"Aeronaves Nacionales Y Extranjeras Con Certificado De Matrícula Autorizada Y Renovada",13,0,0,2,0,"Aeronave",135,75,210,13,11]
["205-000-014-0007","000-014-0007",205,"Aeronaves Con Servicios De Pernocte En Rampa Internacional Del Aeropuerto",13,0,0,2,0,"Aeronave",1244,2286,3530,300,300]
["205-000-016","000-016",205,"Aeronaves Con Servicios Operativos De Aviación Y Soporte Técnico",13,0,0,3,0,"Aeronave",84696,4555,89251,7080,7080]
["205-000-016-0001","000-016-0001",205,"Aeronaves Con Servicios Operativos De Aviación Y Soporte Técnico",13,0,0,3,0,"Aeronave",84696,4555,89251,7080,7080]
["205-000-017","000-017",205,"Infraestructura De La Red Aeroportuaria Nacional Con Servicios De Mantenimiento",13,0,0,4,0,"Metro cuadrado",728874,-543530,185344,9452,8981]
["205-000-017-0001","000-017-0001",205,"Infraestructura De La Red Aeroportuaria Nacional Con Servicios De Mantenimiento",13,0,0,4,0,"Metro cuadrado",728874,-543530,185344,9452,8981]
["206-000-018","000-018",206,"Dirección Y Coordinación",14,0,0,1,0,"Evento",233,-3,230,0,0]
["206-000-018-0001","000-018-0001",206,"Dirección Y Coordinación",14,0,0,1,0,"Evento",117,0,117,0,0]
["206-000-018-0002","000-018-0002",206,"Población Estudiantil Beneficiada Con Equipo Educacional",14,0,0,1,0,"Persona",10354,0,10354,0,0]
["206-000-018-0003","000-018-0003",206,"Remozamiento De Edificios Públicos",14,0,0,1,0,"Evento",116,-3,113,0,0]
["207-000-019","000-019",207,"Dirección Y Coordinación",15,0,0,1,0,"Evento",233,0,233,73,73]
["207-000-019-0001","000-019-0001",207,"Dirección Y Coordinación",15,0,0,1,0,"Evento",233,0,233,73,73]
["207-000-020","000-020",207,"Personas Individuales Y Jurídicas Registradas En Radiodifusión Y Televisión",15,0,0,2,0,"Persona",997,0,997,100,100]
["207-000-020-0003","000-020-0003",207,"Comerciales Registrados De Personas Jurídicas O Individuales",15,0,0,2,0,"Persona",790,0,790,80,80]
["207-000-020-0004","000-020-0004",207,"Técnicos Con Registro En Radio Y/O Televisión",15,0,0,2,0,"Persona",3,0,3,0,0]
["207-000-020-0005","000-020-0005",207,"Locutores Registrados En Radio Y/O Televisión",15,0,0,2,0,"Persona",204,0,204,20,20]
["207-000-021","000-021",207,"Servicios De Radiodifusión",15,0,0,3,0,"Evento",54998,64000,118998,4636,4611]
["207-000-021-0001","000-021-0001",207,"Programas Radiales A Control Remoto Difundidos",15,0,0,3,0,"Evento",2818,0,2818,235,235]
["207-000-021-0002","000-021-0002",207,"Programas Radiales Difundidos",15,0,0,3,0,"Evento",11880,0,11880,976,951]
["207-000-021-0003","000-021-0003",207,"Spot Gubernamentales Otorgados A Entidades Públicas",15,0,0,3,0,"Evento",40300,64000,104300,3425,3425]
["208-000-024","000-024",208,"Dirección Y Coordinación",21,0,0,1,0,"Evento",218,0,218,39,39]
["208-000-024-0001","000-024-0001",208,"Dirección Y Coordinación",21,0,0,1,0,"Evento",218,0,218,39,39]
["208-000-025","000-025",208,"Empresas De Cable Con Registro Y Supervisión",21,0,0,2,0,"Entidad",2958,0,2958,64,64]
["208-000-025-0001","000-025-0001",208,"Empresas De Cable Con Visitas De Supervisión",21,0,0,2,0,"Entidad",2814,0,2814,64,64]
["208-000-025-0002","000-025-0002",208,"Empresas De Cable Nuevas Con Registro",21,0,0,2,0,"Entidad",26,0,26,0,0]
["208-000-025-0005","000-025-0005",208,"Empresas Sancionadas Por Incumplimiento A La Ley Del Cable",21,0,0,2,0,"Entidad",118,0,118,0,0]
["209-000-005","000-005",209,"Personas Jurídicas Beneficiadas Con Aportes Y/O Cuotas Para Comunicaciones",99,0,0,2,0,"Aporte",2,0,2,0,0]
["209-000-005-0001","000-005-0001",209,"Personas Jurídicas Beneficiadas Con Aportes Y/O Cuotas Para Comunicaciones",99,0,0,2,0,"Aporte",2,0,2,0,0]
["209-000-006","000-006",209,"Personas Jurídicas Beneficiadas Con Aportes Y/O Cuotas Para Control Del Medio Ambiente",99,0,0,3,0,"Aporte",2,0,2,0,0]
["209-000-006-0001","000-006-0001",209,"Personas Jurídicas  Beneficiadas Con Aportes Y/O Cuotas Para Control Del Medio Ambiente",99,0,0,3,0,"Aporte",2,0,2,0,0]
["209-020-006","020-006",209,"Dirección Y Coordinación",16,0,0,1,0,"Evento",850,-44,806,0,0]
["209-020-006-0001","020-006-0001",209,"Dirección Y Coordinación",16,0,0,1,0,"Evento",850,-44,806,0,0]
["209-020-007","020-007",209,"Boletines Con Información Climática",16,0,0,2,0,"Documento",16107,-2258,13849,0,0]
["209-020-007-0001","020-007-0001",209,"Usuarios Atendidos Con Información Climática",16,0,0,2,0,"Documento",12763,-1173,11590,0,0]
["209-020-007-0002","020-007-0002",209,"Boletines Emitidos Con Información Meteorológica",16,0,0,2,0,"Documento",3344,-1085,2259,0,0]
["209-020-008","020-008",209,"Información De Amenaza Sísmica Y Volcánica Registrada",16,0,0,3,0,"Documento",8100,3883,11983,0,0]
["209-020-008-0001","020-008-0001",209,"Boletines Emitidos Con Información Geológica",16,0,0,3,0,"Documento",3872,2075,5947,0,0]
["209-020-008-0002","020-008-0002",209,"Informes Emitidos Sobre Deslizamiento De Tierra",16,0,0,3,0,"Documento",4228,1808,6036,0,0]
["209-020-009","020-009",209,"Información De Actividad Hidrológica Registrada",16,0,0,4,0,"Documento",9508,108,9616,0,0]
["209-020-009-0001","020-009-0001",209,"Boletines Con Información Hidrológica",16,0,0,4,0,"Documento",3265,1135,4400,0,0]
["209-020-009-0002","020-009-0002",209,"Publicaciones Anuales Con Información Consolidada De Efemérides Solar, Pronóstico De Mareas, Estudios De Calidad De Agua Y De Cuencas",16,0,0,4,0,"Documento",2985,-29,2956,0,0]
["209-020-009-0003","020-009-0003",209,"Boletines Emitidos Con Información Del Índice De Calidad Del Aire",16,0,0,4,0,"Documento",3258,-998,2260,0,0]
["210-000-005","000-005",210,"Personas Jurídicas Beneficiadas Con Aportes Y/O Cuotas Para Comunicaciones",99,0,0,2,0,"Aporte",3,-1,2,0,0]
["210-000-005-0001","000-005-0001",210,"Personas Jurídicas Beneficiadas Con Aportes Y/O Cuotas Para Comunicaciones",99,0,0,2,0,"Aporte",3,-1,2,0,0]
["210-000-029","000-029",210,"Dirección Y Coordinación",17,0,0,1,0,"Evento",608,92,700,198,194]
["210-000-029-0001","000-029-0001",210,"Dirección Y Coordinación",17,0,0,1,0,"Evento",608,92,700,198,194]
["210-000-030","000-030",210,"Personas Individuales Y/O Jurídicas Con Servicios Postales Otorgados",17,0,0,2,0,"Persona",476400,47067,523467,27622,26383]
["210-000-030-0001","000-030-0001",210,"Personas Individuales Y/O Jurídicas Con Servicios Postales Otorgados",17,0,0,2,0,"Persona",476400,47067,523467,27622,26383]
["211-000-005","000-005",211,"Personas Jurídicas Beneficiadas Con Aportes Y/O Cuotas Para Comunicaciones",99,0,0,2,0,"Aporte",2,0,2,0,0]
["211-000-005-0001","000-005-0001",211,"Personas Jurídicas Beneficiadas Con Aportes Y/O Cuotas Para Comunicaciones",99,0,0,2,0,"Aporte",2,0,2,0,0]
["211-022-007","022-007",211,"Dirección Y Coordinación",22,0,0,1,0,"Evento",154,-18,136,60,52]
["211-022-007-0001","022-007-0001",211,"Dirección Y Coordinación",22,0,0,1,0,"Evento",154,-18,136,60,52]
["211-022-008","022-008",211,"Proveedores, Usuarios Y Usufructuarios De Frecuencias Con Servicios De Regulación",22,0,0,2,0,"Documento",4,18,22,0,0]
["211-022-008-0001","022-008-0001",211,"Títulos De Usufructo Emitidos Para Personas Individuales Y/O Jurídicas",22,0,0,2,0,"Documento",1,14,15,0,0]
["211-022-008-0002","022-008-0002",211,"Licencias Emitidas A Proveedores Satelitales",22,0,0,2,0,"Documento",2,0,2,0,0]
["211-022-008-0003","022-008-0003",211,"Licencias Emitidas A Usuarios Satelitales",22,0,0,2,0,"Documento",1,0,1,0,0]
["211-022-008-0004","022-008-0004",211,"Monitoreo Al Espectro Radioeléctrico",22,0,0,2,0,"Evento",175,0,175,0,0]
["211-022-009","022-009",211,"Recursos De Telefonía Regulados",22,0,0,3,0,"Documento",5267,0,5267,314,313]
["211-022-009-0001","022-009-0001",211,"Operadores De Telefonía Registrados",22,0,0,3,0,"Registro",184,0,184,16,11]
["211-022-009-0002","022-009-0002",211,"Numeración Asignada A Personas Jurídicas Y /O Individuales",22,0,0,3,0,"Documento",125,0,125,13,13]
["211-022-009-0003","022-009-0003",211,"Puntos De Señalización Asignados A Personas Jurídicas Y/O Individuales",22,0,0,3,0,"Documento",30,0,30,1,0]
["211-022-009-0004","022-009-0004",211,"Constancias De Inscripción De Usuarios Jurídicos Y/O Individuales De Telecomunicaciones Móviles",22,0,0,3,0,"Documento",5112,0,5112,300,300]
["212-000-010","000-010",212,"Dirección Y Coordinación",23,0,0,1,0,"Evento",38,-4,34,27,27]
["212-000-010-0001","000-010-0001",212,"Dirección Y Coordinación",23,0,0,1,0,"Evento",38,-4,34,27,27]
["212-000-015","000-015",212,"Personas Beneficiadas Con Proyectos, Supervisión De Telefonía Y Conectividad Subsidiados",23,0,0,2,0,"Persona",707,-681,26,0,0]
["212-000-015-0001","000-015-0001",212,"Personas Beneficiadas Con Proyectos, Supervisión De Telefonía Y Conectividad Subsidiados",23,0,0,2,0,"Persona",707,-681,26,0,0]
["214-000-022","000-022",214,"Dirección Y Coordinación",20,0,0,1,0,"Evento",201,-61,140,60,60]
["214-000-022-0001","000-022-0001",214,"Dirección Y Coordinación",20,0,0,1,0,"Evento",201,-61,140,60,60]
["214-000-023","000-023",214,"Familias Beneficiadas Con Adjudicación De Propiedad De Vivienda",20,0,0,2,0,"Familia",126,-69,57,0,0]
["214-000-023-0001","000-023-0001",214,"Familias Beneficiadas Con Adjudicación De Propiedad De Vivienda",20,0,0,2,0,"Familia",126,-69,57,0,0]
["214-000-023-0002","000-023-0002",214,"Recuperación De La Cartera Crediticia",20,0,0,2,0,"Unidad monetaria",1389000,0,1389000,60000,60000]
["216-021-001","021-001",216,"Dirección Y Coordinación",18,0,0,1,0,"Evento",720,-527,193,0,0]
["216-021-001-0001","021-001-0001",216,"Dirección Y Coordinación",18,0,0,1,0,"Evento",720,-527,193,0,0]
["216-021-002","021-002",216,"Conductores Beneficiados Con Servicios De Vigilancia Y Asistencia Vial",18,0,0,2,0,"Persona",318887,-13780,305107,0,0]
["216-021-002-0001","021-002-0001",216,"Personas Capacitadas En El Programa De Educación Y Seguridad Vial",18,0,0,2,0,"Persona",23100,-3100,20000,0,0]
["216-021-002-0002","021-002-0002",216,"Elementos Formados Como Brigadas De Protección Y Seguridad Vial En Carretera",18,0,0,2,0,"Persona",107,0,107,0,0]
["216-021-002-0003","021-002-0003",216,"Conductores Atendidos Con Servicios De Seguridad Y Asistencia Vial En Carretera",18,0,0,2,0,"Persona",64680,-4680,60000,0,0]
["216-021-002-0004","021-002-0004",216,"Servicios De Regulación Para Beneficio De Conductores Que Transitan En Carretera",18,0,0,2,0,"Evento",7710,-710,7000,0,0]
["216-021-002-0005","021-002-0005",216,"Personas Atendidas Telefónicamente Por Medio Del Sistema 1520 (Emergencia Vial)",18,0,0,2,0,"Persona",231000,-6000,225000,0,0]
["216-021-002-0006","021-002-0006",216,"Boleta De Llamada De Atención A Conductores Infractores",18,0,0,2,0,"Documento",3234,-634,2600,0,0]
["216-021-002-0007","021-002-0007",216,"Investigaciones Realizadas De Accidentes De Tránsito En Carreteras",18,0,0,2,0,"Evento",37,28,65,0,0]
["217-000-022","000-022",217,"Dirección Y Coordinación",20,0,0,1,0,"Evento",263,-2,261,0,0]
["217-000-022-0001","000-022-0001",217,"Dirección Y Coordinación",20,0,0,1,0,"Evento",263,-2,261,0,0]
["217-017-005","017-005",217,"Red Vial Con Servicios De Mantenimiento",11,0,0,2,0,"Kilómetro",219,0,219,0,0]
["217-017-005-0001","017-005-0001",217,"Red Vial Con Servicios De Mantenimiento",11,0,0,2,0,"Kilómetro",219,0,219,0,0]
["217-017-005-0002","017-005-0002",217,"Dirección Y Coordinación (Convoyes)",11,0,0,2,0,"Evento",128,13,141,0,0]
["218-019-001","019-001",218,"Dirección Y Coordinación",19,0,0,1,0,"Evento",225,0,225,18,18]
["218-019-001-0001","019-001-0001",218,"Dirección Y Coordinación",19,0,0,1,0,"Evento",225,0,225,18,18]
["218-019-002","019-002",218,"Familias Beneficiadas Con Subsidios Para La Vivienda",19,0,0,2,0,"Familia",17349,105,17454,0,0]
["218-019-002-0001","019-002-0001",218,"Familias Con Subsidio Para Adquisición De Lote Con Servicios Básicos",19,0,0,2,0,"Familia",360,0,360,0,0]
["218-019-002-0002","019-002-0002",218,"Familias Con Subsidio Para Adquisición De Lote Con Vivienda",19,0,0,2,0,"Familia",430,0,430,0,0]
["218-019-002-0003","019-002-0003",218,"Familias Con Subsidio Para La Adquisición De Módulo Habitacional En Propiedad Horizontal",19,0,0,2,0,"Familia",264,0,264,0,0]
["218-019-002-0004","019-002-0004",218,"Familias Con  Subsidio Para El Mejoramiento, Ampliación Y Reparación De Vivienda",19,0,0,2,0,"Familia",1422,0,1422,0,0]
["218-019-002-0006","019-002-0006",218,"Familias Con Subsidio Para Construcción De Vivienda",19,0,0,2,0,"Familia",14873,105,14978,0,0]
["-"]
["-"]
["-"]
["-"]
["-"]
["-"]
["-"]
["-"]
["-"]
["-"]
["-"]
["-"]
["-"]
["-"]
["-"]
["-"]
["-"]
["-"]
["-"]
["-"]
["-"]
["-"]
["-"]
["-"]
["-"]
["-"]
["-"]
["-"]
["-"]
["-"]
["-"]
["-"]
["-"]
["-"]
["-"]
["-"]
["-"]
["-"]
["-"]
["-"]
["-"]
["-"]
["-"]
["-"]
["-"]
["-"]
["-"]
["-"]
["-"]
["-"]
["-"]
["-"]
["-"]
["-"]
["-"]
["-"]
["-"]
["-"]
["-"]
["-"]
["-"]
["-"]
["-"]
["-"]
["-"]
["-"]
["-"]
["-"]
["-"]
["-"]
["-"]
["-"]
["-"]
["-"]
["-"]
["-"]
["-"]
["-"]
["-"]
["-"]
["-"]
["-"]
["-"]
["-"]
["-"]
["-"]
["-"]
["-"]
["-"]
["-"]
["-"]
["-"]
["-"]
["-"]
["-"]
["-"]
["-"]
["-"]
["-"]
["-"]
["-"]
["-"]
["-"]
["-"]
["-"]
["-"]
["-"]
["-"]
["-"]
["-"]
["-"]
["-"]
["-"]
["-"]
["-"]
["-"]
["-"]
["-"]
["-"]
["-"]
["-"]
["-"]
["-"]
["-"]
["-"]
["-"]
["-"]
["-"]
["-"]
["-"]
["-"]
["-"]
["-"]
["-"]
["-"]
["-"]
["-"]
["-"]
["-"]
["-"]
["-"]
["-"]
["-"]
["-"]
["-"]
["-"]
["-"]
["-"]
["-"]
["-"]
["-"]
["-"]
["-"]
["-"]
["-"]
["-"]
["-"]
["-"]
["-"]
["-"]
["-"]
["-"]
["-"]
["-"]
["-"]
["-"]
["-"]
["-"]
["-"]
["-"]
["-"]
["-"]
["-"]
["-"]
["-"]
["-"]
["-"]
["-"]
["-"]
["-"]
["-"]
["-"]
["-"]
["-"]
["-"]
["-"]
["-"]
["-"]
["-"]
["-"]
["-"]
["-"]
["-"]
["-"]
["-"]
["-"]
["-"]
["-"]
["-"]
["-"]
["-"]
["-"]
["-"]
["-"]
["-"]
["-"]
["-"]
["-"]
["-"]
["-"]
["-"]
["-"]
["-"]
["-"]
["-"]
["-"]
["-"]
["-"]
["-"]
["-"]
["-"]
["-"]
["-"]
["-"]
["-"]
["-"]
["-"]
["-"]
["-"]
["-"]
["-"]
["-"]
["-"]
["-"]
["-"]
["-"]
["-"]
["-"]
["-"]
["-"]
["-"]
["-"]
["-"]
["-"]
["-"]
["-"]
["-"]
["-"]
["-"]
["-"]
["-"]
["-"]
["-"]
["-"]
["-"]
["-"]
["-"]
["-"]
["-"]
["-"]
["-"]
["-"]
["-"]
["-"]
["-"]
["-"]
["-"]
["-"]
["-"]
["-"]
["-"]
["-"]
["-"]
["-"]
["-"]
["-"]
["-"]
["-"]
["-"]
["-"]
["-"]
["-"]
["-"]
["-"]
["-"]
["-"]
["-"]
["-"]
["-"]
["-"]
["-"]
["-"]
["-"]
["-"]
["-"]
["-"]
["-"]
["-"]
["-"]
["-"]
["-"]
["-"]
["-"]
["-"]
["-"]
["-"]
["-"]
["-"]
["-"]
["-"]
["-"]
["-"]
["-"]
["-"]
["-"]
["-"]
["-"]
["-"]
["-"]
["-"]
["-"]
["-"]
["-"]
["-"]
["-"]
["-"]
["-"]
["-"]
["-"]
["-"]
["-"]
["-"]
["-"]
["-"]
["-"]
["-"]
["-"]
["-"]
["-"]
["-"]
["-"]
["-"]
["-"]
["-"]
["-"]
["-"]
["-"]
["-"]
["-"]
["-"]
["-"]
["-"]
["-"]
["-"]
["-"]
["-"]
["-"]
["-"]
["-"]
["-"]
["-"]
["-"]
["-"]
["-"]
["-"]
["-"]
["-"]
["-"]
["-"]
["-"]
["-"]
["-"]
["-"]
["-"]
["-"]
["-"]
["-"]
["-"]
["-"]
["-"]
["-"]
["-"]
["-"]
["-"]
["-"]
["-"]
["-"]
["-"]
["-"]
["-"]
["-"]
["-"]
["-"]
["-"]
["-"]
["-"]
["-"]
["-"]
["-"]
["-"]
["-"]
["-"]
["-"]
["-"]
["-"]
["-"]
["-"]
["-"]
["-"]
["-"]
["-"]
["-"]
["-"]
["-"]
["-"]
["-"]
["-"]
["-"]
["-"]
["-"]
["-"]
["-"]
["-"]
["-"]
["-"]
["-"]
["-"]
["-"]
["-"]
["-"]
["-"]
["-"]
["-"]
["-"]
["-"]
["-"]
["-"]
["-"]
["-"]
["-"]
["-"]
["-"]
["-"]
["-"]
["-"]
["-"]
["-"]
["-"]
["-"]
["-"]
["-"]
["-"]
["-"]
["-"]
["-"]
["-"]
["-"]
["-"]
["-"]
["-"]
["-"]
["-"]
["-"]
["-"]
["-"]
["-"]
["-"]
["-"]
["-"]
["-"]
["-"]
["-"]
["-"]
["-"]
["-"]
["-"]
["-"]
["-"]
["-"]
["-"]
["-"]
["-"]
["-"]

{"sheet":"ENEFN","index":3,"n_rows":420,"n_cols":14,"rows_kept":420,"cut":false,"hidden":true,"merged":[]}
["CONCATENADO","PRODUCTO","DESCRIPCION","UNIDAD","ASIGNADO","MODIFICADO","VIGENTE","PRECOMPROMISO","COMPROMETIDO","DEVENGADO","SALDO POR COMPROMETER","SALDO POR DEVENGAR","% EJEC","Columna1"]
["201-000-001-0001","000-001-0001","Servicios financieros",201,15083171,0,15083171,0,0,0,15083171,15083171,0,"201-000-001-0001"]
["201-000-003-0001","000-003-0001","Servicios administrativos",201,15893462,0,15893462,0,1907931.32,1907931.32,13985530.68,13985530.68,12.004504242058774,"201-000-003-0001"]
["201-000-004-0001","000-004-0001","Personas jurídicas beneficiadas con aportes y/o cuotas para transporte",201,5874520,0,5874520,0,384339,384339,5490181,5490181,6.5424749596562837,"201-000-004-0001"]
["201-000-005-0001","000-005-0001","Personas jurídicas beneficiadas con aportes y/o cuotas para comunicaciones",201,55159,0,55159,0,54464.94,54464.94,694.06,694.06,98.741710328323563,"201-000-005-0001"]
["201-000-006-0001","000-006-0001","Personas jurídicas  beneficiadas con aportes y/o cuotas para control del medio ambiente",201,400000,0,400000,0,0,0,400000,400000,0,"201-000-006-0001"]
["201-000-009-0001","000-009-0001","Dirección superior",201,25693688,0,25693688,0,0,0,25693688,25693688,0,"201-000-009-0001"]
["202-017-003-0001","017-003-0001","Dirección y coordinación",202,89558631,0,89558631,0,778525.64,778525.64,88780105.359999999,88780105.359999999,0.86929158173486942,"202-017-003-0001"]
["202-017-005-0001","017-005-0001","Red vial con servicios de mantenimiento",202,201689369,0,201689369,0,2822.84,2822.84,201686546.16,201686546.16,1.3995978141974777E-3,"202-017-005-0001"]
["202-017-008-0001","017-008-0001","Red vial con servicios de rehabilitación",202,311854271,0,311854271,0,0,0,311854271,311854271,0,"202-017-008-0001"]
["203-017-001-0003","017-001-0003","Red vial pavimentada con servicios de mantenimiento (fideicomiso)",203,5240000,0,5240000,0,0,0,5240000,5240000,0,"203-017-001-0003"]
["203-017-002-0001","017-002-0001","Red vial pavimentada con mantenimiento (ejecución normal)",203,793952274,0,793952274,0,0,0,793952274,793952274,0,"203-017-002-0001"]
["203-017-003-0001","017-003-0001","Dirección y coordinación",203,27407860,0,27407860,0,0,0,27407860,27407860,0,"203-017-003-0001"]
["203-017-006-0002","017-006-0002","Red vial rural con servicios de mantenimiento (fideicomiso)",203,5000000,0,5000000,0,0,0,5000000,5000000,0,"203-017-006-0002"]
["203-017-007-0001","017-007-0001","Red vial terciaria con mantenimiento (ejecución normal)",203,550792866,0,550792866,0,0,0,550792866,550792866,0,"203-017-007-0001"]
["204-018-005-0001","018-005-0001","Dirección y coordinación",204,12264729,0,12264729,0,10621.37,10621.37,12254107.630000001,12254107.630000001,8.6600935087917594E-2,"204-018-005-0001"]
["204-018-006-0001","018-006-0001","Personas jurídicas o individuales con licencias otorgadas de transporte extraurbano de pasajeros por carretera",204,1031212,0,1031212,0,0,0,1031212,1031212,0,"204-018-006-0001"]
["204-018-006-0002","018-006-0002","Personas jurídicas o individuales con permisos temporales otorgados para el transporte extraurbano de pasajeros por carretera",204,183000,0,183000,0,0,0,183000,183000,0,"204-018-006-0002"]
["204-018-006-0003","018-006-0003","Personas jurídicas o individuales con licencias modificadas de transporte extraurbano de pasajeros por carretera",204,728318,0,728318,0,0,0,728318,728318,0,"204-018-006-0003"]
["204-018-006-0004","018-006-0004","Operativos de control fijo del servicio de transporte extraurbano",204,369011,0,369011,0,0,0,369011,369011,0,"204-018-006-0004"]
["204-018-006-0005","018-006-0005","Personas jurídicas o individuales con permisos expresos para el transporte extraurbano de pasajeros por carretera",204,350000,0,350000,0,0,0,350000,350000,0,"204-018-006-0005"]
["204-018-006-0007","018-006-0007","Personas jurídicas o individuales con constancias de registro de pilotos para el transporte extraurbano de pasajeros por carretera",204,25000,0,25000,0,0,0,25000,25000,0,"204-018-006-0007"]
["205-000-005-0001","000-005-0001","Personas jurídicas beneficiadas con aportes y/o cuotas para comunicaciones",205,450000,0,450000,0,0,0,450000,450000,0,"205-000-005-0001"]
["205-000-013-0001","000-013-0001","Dirección y coordinación",205,144895709,0,144895709,240000,3339291.04,3339291.04,141556417.96000001,141556417.96000001,2.3046169296842347,"205-000-013-0001"]
["205-000-014-0001","000-014-0001","Pasajeros que ingresan por medio de transporte aéreo con servicios de desembarque",205,18478387,0,18478387,0,0,0,18478387,18478387,0,"205-000-014-0001"]
["205-000-014-0002","000-014-0002","Pasajeros que egresan por medio de transporte aéreo con servicios de embarque",205,54283348,0,54283348,0,597225.18999999994,597225.18999999994,53686122.810000002,53686122.810000002,1.1001996229119868,"205-000-014-0002"]
["205-000-014-0003","000-014-0003","Carga embarcada para la exportación aérea",205,591375,0,591375,0,0,0,591375,591375,0,"205-000-014-0003"]
["205-000-014-0004","000-014-0004","Carga desembarcada para la importación aérea",205,264205,0,264205,0,0,0,264205,264205,0,"205-000-014-0004"]
["205-000-014-0005","000-014-0005","Aeronaves con inspección técnica",205,206100,0,206100,0,0,0,206100,206100,0,"205-000-014-0005"]
["205-000-014-0006","000-014-0006","Aeronaves nacionales y extranjeras con certificado de matrícula autorizada y renovada",205,250275,0,250275,0,0,0,250275,250275,0,"205-000-014-0006"]
["205-000-014-0007","000-014-0007","Aeronaves con servicios de pernocte en rampa internacional del aeropuerto",205,179825,0,179825,0,0,0,179825,179825,0,"205-000-014-0007"]
["205-000-016-0001","000-016-0001","Aeronaves con servicios operativos de aviación y soporte técnico",205,13660761,0,13660761,0,0,0,13660761,13660761,0,"205-000-016-0001"]
["205-000-017-0001","000-017-0001","Infraestructura de la red aeroportuaria nacional con servicios de mantenimiento",205,16133540,0,16133540,0,142767.07999999999,142767.07999999999,15990772.92,15990772.92,0.88490858174956899,"205-000-017-0001"]
["206-000-018-0001","000-018-0001","Dirección y coordinación",206,28177916,0,28177916,0,86929.55,86929.55,28090986.449999999,28090986.449999999,0.30850241018533781,"206-000-018-0001"]
["206-000-018-0002","000-018-0002","Población estudiantil beneficiada con equipo educacional",206,5100000,0,5100000,0,0,0,5100000,5100000,0,"206-000-018-0002"]
["206-000-018-0003","000-018-0003","Remozamiento de edificios públicos",206,181478546,0,181478546,0,0,0,181478546,181478546,0,"206-000-018-0003"]
["207-000-019-0001","000-019-0001","Dirección y coordinación",207,8687812,0,8687812,0,603633.53,193633.53,8084178.4699999997,8494178.4700000007,2.2287951212572263,"207-000-019-0001"]
["207-000-020-0003","000-020-0003","Comerciales registrados de personas jurídicas o individuales",207,2055172,0,2055172,0,0,0,2055172,2055172,0,"207-000-020-0003"]
["207-000-020-0004","000-020-0004","Técnicos con registro en radio y/o televisión",207,45000,0,45000,0,0,0,45000,45000,0,"207-000-020-0004"]
["207-000-020-0005","000-020-0005","Locutores registrados en radio y/o televisión",207,50000,0,50000,0,0,0,50000,50000,0,"207-000-020-0005"]
["207-000-021-0001","000-021-0001","Programas radiales a control remoto difundidos",207,129476,0,129476,0,0,0,129476,129476,0,"207-000-021-0001"]
["207-000-021-0002","000-021-0002","Programas radiales difundidos",207,1386359,0,1386359,0,110293.54,110293.54,1276065.46,1276065.46,7.9556262122581565,"207-000-021-0002"]
["207-000-021-0003","000-021-0003","Spot gubernamentales otorgados a entidades públicas",207,3192171,0,3192171,0,115515.5,115515.5,3076655.5,3076655.5,3.618712781990689,"207-000-021-0003"]
["208-000-024-0001","000-024-0001","Dirección y coordinación",208,8433472,0,8433472,0,13840.71,13840.71,8419631.2899999991,8419631.2899999991,0.16411639239449868,"208-000-024-0001"]
["208-000-025-0001","000-025-0001","Empresas de cable con visitas de supervisión",208,808467,0,808467,0,0,0,808467,808467,0,"208-000-025-0001"]
["208-000-025-0002","000-025-0002","Empresas de cable nuevas con registro",208,568018,0,568018,0,0,0,568018,568018,0,"208-000-025-0002"]
["208-000-025-0005","000-025-0005","Empresas sancionadas por incumplimiento a la ley del cable",208,474910,0,474910,0,0,0,474910,474910,0,"208-000-025-0005"]
["209-000-005-0001","000-005-0001","Personas jurídicas beneficiadas con aportes y/o cuotas para comunicaciones",209,168000,0,168000,0,0,0,168000,168000,0,"209-000-005-0001"]
["209-000-006-0001","000-006-0001","Personas jurídicas  beneficiadas con aportes y/o cuotas para control del medio ambiente",209,208000,0,208000,0,0,0,208000,208000,0,"209-000-006-0001"]
["209-020-006-0001","020-006-0001","Dirección y coordinación",209,15193176,0,15193176,0,100137.34,100137.34,15093038.66,15093038.66,0.65909418807495967,"209-020-006-0001"]
["209-020-007-0001","020-007-0001","Usuarios atendidos con información climática",209,14190894,0,14190894,0,5668.39,5668.39,14185225.609999999,14185225.609999999,3.9943854136326992E-2,"209-020-007-0001"]
["209-020-007-0002","020-007-0002","Boletines emitidos con información meteorológica",209,710966,0,710966,0,470.32,470.32,710495.68,710495.68,6.6152249193346502E-2,"209-020-007-0002"]
["209-020-008-0001","020-008-0001","Boletines emitidos con información geológica",209,3746500,0,3746500,0,0,0,3746500,3746500,0,"209-020-008-0001"]
["209-020-008-0002","020-008-0002","Informes emitidos sobre deslizamiento de tierra",209,1172097,0,1172097,0,0,0,1172097,1172097,0,"209-020-008-0002"]
["209-020-009-0001","020-009-0001","Boletines con información hidrológica",209,5748425,0,5748425,0,658.46,658.46,5747766.54,5747766.54,1.1454615829552494E-2,"209-020-009-0001"]
["209-020-009-0002","020-009-0002","Publicaciones anuales con información consolidada de efemérides solar, pronóstico de mareas, estudios de calidad de agua y de cuencas",209,8542513,0,8542513,0,0,0,8542513,8542513,0,"209-020-009-0002"]
["209-020-009-0003","020-009-0003","Boletines emitidos con información del índice de calidad del aire",209,402266,0,402266,0,1470.72,1470.72,400795.28,400795.28,0.36560882600069816,"209-020-009-0003"]
["210-000-005-0001","000-005-0001","Personas jurídicas beneficiadas con aportes y/o cuotas para comunicaciones",210,615180,0,615180,0,0,0,615180,615180,0,"210-000-005-0001"]
["210-000-029-0001","000-029-0001","Dirección y coordinación",210,16300622,0,16300622,0,57076.54,57076.54,16243545.460000001,16243545.460000001,0.35014946055433027,"210-000-029-0001"]
["210-000-030-0001","000-030-0001","Personas individuales y/o jurídicas con servicios postales otorgados",210,12442858,0,12442858,0,46736.43,46736.43,12396121.57,12396121.57,0.37560848158838778,"210-000-030-0001"]
["211-000-005-0001","000-005-0001","Personas jurídicas beneficiadas con aportes y/o cuotas para comunicaciones",211,900000,0,900000,0,0,0,900000,900000,0,"211-000-005-0001"]
["211-022-007-0001","022-007-0001","Dirección y coordinación",211,18250293,0,18250293,0,438451.62,72451.62,17811841.379999999,18177841.379999999,0.39698880450850993,"211-022-007-0001"]
["211-022-008-0001","022-008-0001","Títulos de usufructo emitidos para personas individuales y/o jurídicas",211,1848739,0,1848739,0,0,0,1848739,1848739,0,"211-022-008-0001"]
["211-022-008-0002","022-008-0002","Licencias emitidas a proveedores satelitales",211,14245,0,14245,0,0,0,14245,14245,0,"211-022-008-0002"]
["211-022-008-0003","022-008-0003","Licencias emitidas a usuarios satelitales",211,36627,0,36627,0,0,0,36627,36627,0,"211-022-008-0003"]
["211-022-008-0004","022-008-0004","Monitoreo al espectro radioeléctrico",211,20175,0,20175,0,0,0,20175,20175,0,"211-022-008-0004"]
["211-022-009-0001","022-009-0001","Operadores de telefonía registrados",211,1933072,0,1933072,0,0,0,1933072,1933072,0,"211-022-009-0001"]
["211-022-009-0002","022-009-0002","Numeración asignada a personas jurídicas y /o individuales",211,3533,0,3533,0,0,0,3533,3533,0,"211-022-009-0002"]
["211-022-009-0003","022-009-0003","Puntos de señalización asignados a personas jurídicas y/o individuales",211,11392,0,11392,0,0,0,11392,11392,0,"211-022-009-0003"]
["211-022-009-0004","022-009-0004","Constancias de inscripción de usuarios jurídicos y/o individuales de telecomunicaciones móviles",211,3015,0,3015,0,0,0,3015,3015,0,"211-022-009-0004"]
["212-000-010-0001","000-010-0001","Dirección y coordinación",212,5076663,0,5076663,0,268400,70900,4808263,5005763,1.3965866948426628,"212-000-010-0001"]
["212-000-015-0001","000-015-0001","Personas beneficiadas con proyectos, supervisión de telefonía y conectividad subsidiados",212,2145715,0,2145715,0,50500,10000,2095215,2135715,0.46604511782785263,"212-000-015-0001"]
["214-000-022-0001","000-022-0001","Dirección y coordinación",214,10935606,0,10935606,0,1128534.03,263534.03000000003,9807071.9700000007,10672071.970000001,2.4098712956556847,"214-000-022-0001"]
["214-000-023-0001","000-023-0001","Familias beneficiadas con adjudicación de propiedad de vivienda",214,86456,0,86456,0,0,0,86456,86456,0,"214-000-023-0001"]
["214-000-023-0002","000-023-0002","Recuperación de la cartera crediticia",214,3505,0,3505,0,0,0,3505,3505,0,"214-000-023-0002"]
["216-021-001-0001","021-001-0001","Dirección y coordinación",216,19713706,0,19713706,0,89726.65,89726.65,19623979.350000001,19623979.350000001,0.45514856516578223,"216-021-001-0001"]
["216-021-002-0001","021-002-0001","Personas capacitadas en el programa de educación y seguridad vial",216,23000,0,23000,0,0,0,23000,23000,0,"216-021-002-0001"]
["216-021-002-0002","021-002-0002","Elementos formados como brigadas de protección y seguridad vial en carretera",216,320400,0,320400,0,0,0,320400,320400,0,"216-021-002-0002"]
["216-021-002-0003","021-002-0003","Conductores atendidos con servicios de seguridad y asistencia vial en carretera",216,639450,0,639450,0,0,0,639450,639450,0,"216-021-002-0003"]
["216-021-002-0004","021-002-0004","Servicios de regulación para beneficio de conductores que transitan en carretera",216,25743932,0,25743932,0,0,0,25743932,25743932,0,"216-021-002-0004"]
["216-021-002-0005","021-002-0005","Personas atendidas telefónicamente por medio del sistema 1520 (emergencia vial)",216,60000,0,60000,0,0,0,60000,60000,0,"216-021-002-0005"]
["216-021-002-0006","021-002-0006","Boleta de llamada de atención a conductores infractores",216,2714475,0,2714475,0,0,0,2714475,2714475,0,"216-021-002-0006"]
["216-021-002-0007","021-002-0007","Investigaciones realizadas de accidentes de tránsito en carreteras",216,67874,0,67874,0,0,0,67874,67874,0,"216-021-002-0007"]
["217-000-022-0001","000-022-0001","Dirección y coordinación",217,50492933,0,50492933,254410.95,262242.49,262242.49,50230690.509999998,50230690.509999998,0.5193647396161396,"217-000-022-0001"]
["217-017-005-0001","017-005-0001","Red vial con servicios de mantenimiento",217,15037645,0,15037645,0,0,0,15037645,15037645,0,"217-017-005-0001"]
["217-017-005-0002","017-005-0002","Dirección y coordinación (convoyes)",217,8076000,0,8076000,0,0,0,8076000,8076000,0,"217-017-005-0002"]
["218-019-001-0001","019-001-0001","Dirección y coordinación",218,50000000,0,50000000,0,2246881.5299999998,366881.53,47753118.469999999,49633118.469999999,0.73376306000000113,"218-019-001-0001"]
["218-019-002-0001","019-002-0001","Familias con subsidio para adquisición de lote con servicios básicos",218,12600000,0,12600000,0,0,0,12600000,12600000,0,"218-019-002-0001"]
["218-019-002-0002","019-002-0002","Familias con subsidio para adquisición de lote con vivienda",218,15050000,0,15050000,0,0,0,15050000,15050000,0,"218-019-002-0002"]
["218-019-002-0003","019-002-0003","Familias con subsidio para la adquisición de módulo habitacional en propiedad horizontal",218,9254000,0,9254000,0,0,0,9254000,9254000,0,"218-019-002-0003"]
["218-019-002-0004","019-002-0004","Familias con  subsidio para el mejoramiento, ampliación y reparación de vivienda",218,49546000,0,49546000,0,0,0,49546000,49546000,0,"218-019-002-0004"]
["218-019-002-0006","019-002-0006","Familias con subsidio para construcción de vivienda",218,524216000,0,524216000,0,2156000,2156000,522060000,522060000,0.41128084606345511,"218-019-002-0006"]
["-",null,null,null,null,null,null,null,null,null,null,null,null,"-"]
["-",null,null,null,null,null,null,null,null,null,null,null,null,"-"]
["-",null,null,null,null,null,null,null,null,null,null,null,null,"-"]
["-",null,null,null,null,null,null,null,null,null,null,null,null,"-"]
["-",null,null,null,null,null,null,null,null,null,null,null,null,"-"]
["-",null,null,null,null,null,null,null,null,null,null,null,null,"-"]
["-",null,null,null,null,null,null,null,null,null,null,null,null,"-"]
["-",null,null,null,null,null,null,null,null,null,null,null,null,"-"]
["-",null,null,null,null,null,null,null,null,null,null,null,null,"-"]
["-",null,null,null,null,null,null,null,null,null,null,null,null,"-"]
["-",null,null,null,null,null,null,null,null,null,null,null,null,"-"]
["-",null,null,null,null,null,null,null,null,null,null,null,null,"-"]
["-",null,null,null,null,null,null,null,null,null,null,null,null,"-"]
["-",null,null,null,null,null,null,null,null,null,null,null,null,"-"]
["-",null,null,null,null,null,null,null,null,null,null,null,null,"-"]
["-",null,null,null,null,null,null,null,null,null,null,null,null,"-"]
["-",null,null,null,null,null,null,null,null,null,null,null,null,"-"]
["-",null,null,null,null,null,null,null,null,null,null,null,null,"-"]
["-",null,null,null,null,null,null,null,null,null,null,null,null,"-"]
["-",null,null,null,null,null,null,null,null,null,null,null,null,"-"]
["-",null,null,null,null,null,null,null,null,null,null,null,null,"-"]
["-",null,null,null,null,null,null,null,null,null,null,null,null,"-"]
["-",null,null,null,null,null,null,null,null,null,null,null,null,"-"]
["-",null,null,null,null,null,null,null,null,null,null,null,null,"-"]
["-",null,null,null,null,null,null,null,null,null,null,null,null,"-"]
["-",null,null,null,null,null,null,null,null,null,null,null,null,"-"]
["-",null,null,null,null,null,null,null,null,null,null,null,null,"-"]
["-",null,null,null,null,null,null,null,null,null,null,null,null,"-"]
["-",null,null,null,null,null,null,null,null,null,null,null,null,"-"]
["-",null,null,null,null,null,null,null,null,null,null,null,null,"-"]
["-",null,null,null,null,null,null,null,null,null,null,null,null,"-"]
["-",null,null,null,null,null,null,null,null,null,null,null,null,"-"]
["-",null,null,null,null,null,null,null,null,null,null,null,null,"-"]
["-",null,null,null,null,null,null,null,null,null,null,null,null,"-"]
["-",null,null,null,null,null,null,null,null,null,null,null,null,"-"]
["-",null,null,null,null,null,null,null,null,null,null,null,null,"-"]
["-",null,null,null,null,null,null,null,null,null,null,null,null,"-"]
["-",null,null,null,null,null,null,null,null,null,null,null,null,"-"]
["-",null,null,null,null,null,null,null,null,null,null,null,null,"-"]
["-",null,null,null,null,null,null,null,null,null,null,null,null,"-"]
["-",null,null,null,null,null,null,null,null,null,null,null,null,"-"]
["-",null,null,null,null,null,null,null,null,null,null,null,null,"-"]
["-",null,null,null,null,null,null,null,null,null,null,null,null,"-"]
["-",null,null,null,null,null,null,null,null,null,null,null,null,"-"]
["-",null,null,null,null,null,null,null,null,null,null,null,null,"-"]
["-",null,null,null,null,null,null,null,null,null,null,null,null,"-"]
["-",null,null,null,null,null,null,null,null,null,null,null,null,"-"]
["-",null,null,null,null,null,null,null,null,null,null,null,null,"-"]
["-",null,null,null,null,null,null,null,null,null,null,null,null,"-"]
["-",null,null,null,null,null,null,null,null,null,null,null,null,"-"]
["-",null,null,null,null,null,null,null,null,null,null,null,null,"-"]
["-",null,null,null,null,null,null,null,null,null,null,null,null,"-"]
["-",null,null,null,null,null,null,null,null,null,null,null,null,"-"]
["-",null,null,null,null,null,null,null,null,null,null,null,null,"-"]
["-",null,null,null,null,null,null,null,null,null,null,null,null,"-"]
["-",null,null,null,null,null,null,null,null,null,null,null,null,"-"]
["-",null,null,null,null,null,null,null,null,null,null,null,null,"-"]
["-",null,null,null,null,null,null,null,null,null,null,null,null,"-"]
["-",null,null,null,null,null,null,null,null,null,null,null,null,"-"]
["-",null,null,null,null,null,null,null,null,null,null,null,null,"-"]
["-",null,null,null,null,null,null,null,null,null,null,null,null,"-"]
["-",null,null,null,null,null,null,null,null,null,null,null,null,"-"]
["-",null,null,null,null,null,null,null,null,null,null,null,null,"-"]
["-",null,null,null,null,null,null,null,null,null,null,null,null,"-"]
["-",null,null,null,null,null,null,null,null,null,null,null,null,"-"]
["-",null,null,null,null,null,null,null,null,null,null,null,null,"-"]
["-",null,null,null,null,null,null,null,null,null,null,null,null,"-"]
["-",null,null,null,null,null,null,null,null,null,null,null,null,"-"]
["-",null,null,null,null,null,null,null,null,null,null,null,null,"-"]
["-",null,null,null,null,null,null,null,null,null,null,null,null,"-"]
["-",null,null,null,null,null,null,null,null,null,null,null,null,"-"]
["-",null,null,null,null,null,null,null,null,null,null,null,null,"-"]
["-",null,null,null,null,null,null,null,null,null,null,null,null,"-"]
["-",null,null,null,null,null,null,null,null,null,null,null,null,"-"]
["-",null,null,null,null,null,null,null,null,null,null,null,null,"-"]
["-",null,null,null,null,null,null,null,null,null,null,null,null,"-"]
["-",null,null,null,null,null,null,null,null,null,null,null,null,"-"]
["-",null,null,null,null,null,null,null,null,null,null,null,null,"-"]
["-",null,null,null,null,null,null,null,null,null,null,null,null,"-"]
["-",null,null,null,null,null,null,null,null,null,null,null,null,"-"]
["-",null,null,null,null,null,null,null,null,null,null,null,null,"-"]
["-",null,null,null,null,null,null,null,null,null,null,null,null,"-"]
["-",null,null,null,null,null,null,null,null,null,null,null,null,"-"]
["-",null,null,null,null,null,null,null,null,null,null,null,null,"-"]
["-",null,null,null,null,null,null,null,null,null,null,null,null,"-"]
["-",null,null,null,null,null,null,null,null,null,null,null,null,"-"]
["-",null,null,null,null,null,null,null,null,null,null,null,null,"-"]
["-",null,null,null,null,null,null,null,null,null,null,null,null,"-"]
["-",null,null,null,null,null,null,null,null,null,null,null,null,"-"]
["-",null,null,null,null,null,null,null,null,null,null,null,null,"-"]
["-",null,null,null,null,null,null,null,null,null,null,null,null,"-"]
["-",null,null,null,null,null,null,null,null,null,null,null,null,"-"]
["-",null,null,null,null,null,null,null,null,null,null,null,null,"-"]
["-",null,null,null,null,null,null,null,null,null,null,null,null,"-"]
["-",null,null,null,null,null,null,null,null,null,null,null,null,"-"]
["-",null,null,null,null,null,null,null,null,null,null,null,null,"-"]
["-",null,null,null,null,null,null,null,null,null,null,null,null,"-"]
["-",null,null,null,null,null,null,null,null,null,null,null,null,"-"]
["-",null,null,null,null,null,null,null,null,null,null,null,null,"-"]
["-",null,null,null,null,null,null,null,null,null,null,null,null,"-"]
["-",null,null,null,null,null,null,null,null,null,null,null,null,"-"]
["-",null,null,null,null,null,null,null,null,null,null,null,null,"-"]
["-",null,null,null,null,null,null,null,null,null,null,null,null,"-"]
["-",null,null,null,null,null,null,null,null,null,null,null,null,"-"]
["-",null,null,null,null,null,null,null,null,null,null,null,null,"-"]
["-",null,null,null,null,null,null,null,null,null,null,null,null,"-"]
["-",null,null,null,null,null,null,null,null,null,null,null,null,"-"]
["-",null,null,null,null,null,null,null,null,null,null,null,null,"-"]
["-",null,null,null,null,null,null,null,null,null,null,null,null,"-"]
["-",null,null,null,null,null,null,null,null,null,null,null,null,"-"]
["-",null,null,null,null,null,null,null,null,null,null,null,null,"-"]
["-",null,null,null,null,null,null,null,null,null,null,null,null,"-"]
["-",null,null,null,null,null,null,null,null,null,null,null,null,"-"]
["-",null,null,null,null,null,null,null,null,null,null,null,null,"-"]
["-",null,null,null,null,null,null,null,null,null,null,null,null,"-"]
["-",null,null,null,null,null,null,null,null,null,null,null,null,"-"]
["-",null,null,null,null,null,null,null,null,null,null,null,null,"-"]
["-",null,null,null,null,null,null,null,null,null,null,null,null,"-"]
["-",null,null,null,null,null,null,null,null,null,null,null,null,"-"]
["-",null,null,null,null,null,null,null,null,null,null,null,null,"-"]
["-",null,null,null,null,null,null,null,null,null,null,null,null,"-"]
["-",null,null,null,null,null,null,null,null,null,null,null,null,"-"]
["-",null,null,null,null,null,null,null,null,null,null,null,null,"-"]
["-",null,null,null,null,null,null,null,null,null,null,null,null,"-"]
["-",null,null,null,null,null,null,null,null,null,null,null,null,"-"]
["-",null,null,null,null,null,null,null,null,null,null,null,null,"-"]
["-",null,null,null,null,null,null,null,null,null,null,null,null,"-"]
["-",null,null,null,null,null,null,null,null,null,null,null,null,"-"]
["-",null,null,null,null,null,null,null,null,null,null,null,null,"-"]
["-",null,null,null,null,null,null,null,null,null,null,null,null,"-"]
["-",null,null,null,null,null,null,null,null,null,null,null,null,"-"]
["-",null,null,null,null,null,null,null,null,null,null,null,null,"-"]
["-",null,null,null,null,null,null,null,null,null,null,null,null,"-"]
["-",null,null,null,null,null,null,null,null,null,null,null,null,"-"]
["-",null,null,null,null,null,null,null,null,null,null,null,null,"-"]
["-",null,null,null,null,null,null,null,null,null,null,null,null,"-"]
["-",null,null,null,null,null,null,null,null,null,null,null,null,"-"]
["-",null,null,null,null,null,null,null,null,null,null,null,null,"-"]
["-",null,null,null,null,null,null,null,null,null,null,null,null,"-"]
["-",null,null,null,null,null,null,null,null,null,null,null,null,"-"]
["-",null,null,null,null,null,null,null,null,null,null,null,null,"-"]
["-",null,null,null,null,null,null,null,null,null,null,null,null,"-"]
["-",null,null,null,null,null,null,null,null,null,null,null,null,"-"]
["-",null,null,null,null,null,null,null,null,null,null,null,null,"-"]
["-",null,null,null,null,null,null,null,null,null,null,null,null,"-"]
["-",null,null,null,null,null,null,null,null,null,null,null,null,"-"]
["-",null,null,null,null,null,null,null,null,null,null,null,null,"-"]
["-",null,null,null,null,null,null,null,null,null,null,null,null,"-"]
["-",null,null,null,null,null,null,null,null,null,null,null,null,"-"]
["-",null,null,null,null,null,null,null,null,null,null,null,null,"-"]
["-",null,null,null,null,null,null,null,null,null,null,null,null,"-"]
["-",null,null,null,null,null,null,null,null,null,null,null,null,"-"]
["-",null,null,null,null,null,null,null,null,null,null,null,null,"-"]
["-",null,null,null,null,null,null,null,null,null,null,null,null,"-"]
["-",null,null,null,null,null,null,null,null,null,null,null,null,"-"]
["-",null,null,null,null,null,null,null,null,null,null,null,null,"-"]
["-",null,null,null,null,null,null,null,null,null,null,null,null,"-"]
["-",null,null,null,null,null,null,null,null,null,null,null,null,"-"]
["-",null,null,null,null,null,null,null,null,null,null,null,null,"-"]
["-",null,null,null,null,null,null,null,null,null,null,null,null,"-"]
["-",null,null,null,null,null,null,null,null,null,null,null,null,"-"]
["-",null,null,null,null,null,null,null,null,null,null,null,null,"-"]
["-",null,null,null,null,null,null,null,null,null,null,null,null,"-"]
["-",null,null,null,null,null,null,null,null,null,null,null,null,"-"]
["-",null,null,null,null,null,null,null,null,null,null,null,null,"-"]
["-",null,null,null,null,null,null,null,null,null,null,null,null,"-"]
["-",null,null,null,null,null,null,null,null,null,null,null,null,"-"]
["-",null,null,null,null,null,null,null,null,null,null,null,null,"-"]
["-",null,null,null,null,null,null,null,null,null,null,null,null,"-"]
["-",null,null,null,null,null,null,null,null,null,null,null,null,"-"]
["-",null,null,null,null,null,null,null,null,null,null,null,null,"-"]
["-",null,null,null,null,null,null,null,null,null,null,null,null,"-"]
["-",null,null,null,null,null,null,null,null,null,null,null,null,"-"]
["-",null,null,null,null,null,null,null,null,null,null,null,null,"-"]
["-",null,null,null,null,null,null,null,null,null,null,null,null,"-"]
["-",null,null,null,null,null,null,null,null,null,null,null,null,"-"]
["-",null,null,null,null,null,null,null,null,null,null,null,null,"-"]
["-",null,null,null,null,null,null,null,null,null,null,null,null,"-"]
["-",null,null,null,null,null,null,null,null,null,null,null,null,"-"]
["-",null,null,null,null,null,null,null,null,null,null,null,null,"-"]
["-",null,null,null,null,null,null,null,null,null,null,null,null,"-"]
["-",null,null,null,null,null,null,null,null,null,null,null,null,"-"]
["-",null,null,null,null,null,null,null,null,null,null,null,null,"-"]
["-",null,null,null,null,null,null,null,null,null,null,null,null,"-"]
["-",null,null,null,null,null,null,null,null,null,null,null,null,"-"]
["-",null,null,null,null,null,null,null,null,null,null,null,null,"-"]
["-",null,null,null,null,null,null,null,null,null,null,null,null,"-"]
["-",null,null,null,null,null,null,null,null,null,null,null,null,"-"]
["-",null,null,null,null,null,null,null,null,null,null,null,null,"-"]
["-",null,null,null,null,null,null,null,null,null,null,null,null,"-"]
["-",null,null,null,null,null,null,null,null,null,null,null,null,"-"]
["-",null,null,null,null,null,null,null,null,null,null,null,null,"-"]
["-",null,null,null,null,null,null,null,null,null,null,null,null,"-"]
["-",null,null,null,null,null,null,null,null,null,null,null,null,"-"]
["-",null,null,null,null,null,null,null,null,null,null,null,null,"-"]
["-",null,null,null,null,null,null,null,null,null,null,null,null,"-"]
["-",null,null,null,null,null,null,null,null,null,null,null,null,"-"]
["-",null,null,null,null,null,null,null,null,null,null,null,null,"-"]
["-",null,null,null,null,null,null,null,null,null,null,null,null,"-"]
["-",null,null,null,null,null,null,null,null,null,null,null,null,"-"]
["-",null,null,null,null,null,null,null,null,null,null,null,null,"-"]
["-",null,null,null,null,null,null,null,null,null,null,null,null,"-"]
["-",null,null,null,null,null,null,null,null,null,null,null,null,"-"]
["-",null,null,null,null,null,null,null,null,null,null,null,null,"-"]
["-",null,null,null,null,null,null,null,null,null,null,null,null,"-"]
["-",null,null,null,null,null,null,null,null,null,null,null,null,"-"]
["-",null,null,null,null,null,null,null,null,null,null,null,null,"-"]
["-",null,null,null,null,null,null,null,null,null,null,null,null,"-"]
["-",null,null,null,null,null,null,null,null,null,null,null,null,"-"]
["-",null,null,null,null,null,null,null,null,null,null,null,null,"-"]
["-",null,null,null,null,null,null,null,null,null,null,null,null,"-"]
["-",null,null,null,null,null,null,null,null,null,null,null,null,"-"]
["-",null,null,null,null,null,null,null,null,null,null,null,null,"-"]
["-",null,null,null,null,null,null,null,null,null,null,null,null,"-"]
["-",null,null,null,null,null,null,null,null,null,null,null,null,"-"]
["-",null,null,null,null,null,null,null,null,null,null,null,null,"-"]
["-",null,null,null,null,null,null,null,null,null,null,null,null,"-"]
["-",null,null,null,null,null,null,null,null,null,null,null,null,"-"]
["-",null,null,null,null,null,null,null,null,null,null,null,null,"-"]
["-",null,null,null,null,null,null,null,null,null,null,null,null,"-"]
["-",null,null,null,null,null,null,null,null,null,null,null,null,"-"]
["-",null,null,null,null,null,null,null,null,null,null,null,null,"-"]
["-",null,null,null,null,null,null,null,null,null,null,null,null,"-"]
["-",null,null,null,null,null,null,null,null,null,null,null,null,"-"]
["-",null,null,null,null,null,null,null,null,null,null,null,null,"-"]
["-",null,null,null,null,null,null,null,null,null,null,null,null,"-"]
["-",null,null,null,null,null,null,null,null,null,null,null,null,"-"]
["-",null,null,null,null,null,null,null,null,null,null,null,null,"-"]
["-",null,null,null,null,null,null,null,null,null,null,null,null,"-"]
["-",null,null,null,null,null,null,null,null,null,null,null,null,"-"]
["-",null,null,null,null,null,null,null,null,null,null,null,null,"-"]
["-",null,null,null,null,null,null,null,null,null,null,null,null,"-"]
["-",null,null,null,null,null,null,null,null,null,null,null,null,"-"]
["-",null,null,null,null,null,null,null,null,null,null,null,null,"-"]
["-",null,null,null,null,null,null,null,null,null,null,null,null,"-"]
["-",null,null,null,null,null,null,null,null,null,null,null,null,"-"]
["-",null,null,null,null,null,null,null,null,null,null,null,null,"-"]
["-",null,null,null,null,null,null,null,null,null,null,null,null,"-"]
["-",null,null,null,null,null,null,null,null,null,null,null,null,"-"]
["-",null,null,null,null,null,null,null,null,null,null,null,null,"-"]
["-",null,null,null,null,null,null,null,null,null,null,null,null,"-"]
["-",null,null,null,null,null,null,null,null,null,null,null,null,"-"]
["-",null,null,null,null,null,null,null,null,null,null,null,null,"-"]
["-",null,null,null,null,null,null,null,null,null,null,null,null,"-"]
["-",null,null,null,null,null,null,null,null,null,null,null,null,"-"]
["-",null,null,null,null,null,null,null,null,null,null,null,null,"-"]
["-",null,null,null,null,null,null,null,null,null,null,null,null,"-"]
["-",null,null,null,null,null,null,null,null,null,null,null,null,"-"]
["-",null,null,null,null,null,null,null,null,null,null,null,null,"-"]
["-",null,null,null,null,null,null,null,null,null,null,null,null,"-"]
["-",null,null,null,null,null,null,null,null,null,null,null,null,"-"]
["-",null,null,null,null,null,null,null,null,null,null,null,null,"-"]
["-",null,null,null,null,null,null,null,null,null,null,null,null,"-"]
["-",null,null,null,null,null,null,null,null,null,null,null,null,"-"]
["-",null,null,null,null,null,null,null,null,null,null,null,null,"-"]
["-",null,null,null,null,null,null,null,null,null,null,null,null,"-"]
["-",null,null,null,null,null,null,null,null,null,null,null,null,"-"]
["-",null,null,null,null,null,null,null,null,null,null,null,null,"-"]
["-",null,null,null,null,null,null,null,null,null,null,null,null,"-"]
["-",null,null,null,null,null,null,null,null,null,null,null,null,"-"]
["-",null,null,null,null,null,null,null,null,null,null,null,null,"-"]
["-",null,null,null,null,null,null,null,null,null,null,null,null,"-"]
["-",null,null,null,null,null,null,null,null,null,null,null,null,"-"]
["-",null,null,null,null,null,null,null,null,null,null,null,null,"-"]
["-",null,null,null,null,null,null,null,null,null,null,null,null,"-"]
["-",null,null,null,null,null,null,null,null,null,null,null,null,"-"]
["-",null,null,null,null,null,null,null,null,null,null,null,null,"-"]
["-",null,null,null,null,null,null,null,null,null,null,null,null,"-"]
["-",null,null,null,null,null,null,null,null,null,null,null,null,"-"]
["-",null,null,null,null,null,null,null,null,null,null,null,null,"-"]
["-",null,null,null,null,null,null,null,null,null,null,null,null,"-"]
["-",null,null,null,null,null,null,null,null,null,null,null,null,"-"]
["-",null,null,null,null,null,null,null,null,null,null,null,null,"-"]
["-",null,null,null,null,null,null,null,null,null,null,null,null,"-"]
["-",null,null,null,null,null,null,null,null,null,null,null,null,"-"]
["-",null,null,null,null,null,null,null,null,null,null,null,null,"-"]
["-",null,null,null,null,null,null,null,null,null,null,null,null,"-"]
["-",null,null,null,null,null,null,null,null,null,null,null,null,"-"]
["-",null,null,null,null,null,null,null,null,null,null,null,null,"-"]
["-",null,null,null,null,null,null,null,null,null,null,null,null,"-"]
["-",null,null,null,null,null,null,null,null,null,null,null,null,"-"]
["-",null,null,null,null,null,null,null,null,null,null,null,null,"-"]
["-",null,null,null,null,null,null,null,null,null,null,null,null,"-"]
["-",null,null,null,null,null,null,null,null,null,null,null,null,"-"]
["-",null,null,null,null,null,null,null,null,null,null,null,null,"-"]
["-",null,null,null,null,null,null,null,null,null,null,null,null,"-"]
["-",null,null,null,null,null,null,null,null,null,null,null,null,"-"]
["-",null,null,null,null,null,null,null,null,null,null,null,null,"-"]
["-",null,null,null,null,null,null,null,null,null,null,null,null,"-"]
["-",null,null,null,null,null,null,null,null,null,null,null,null,"-"]
["-",null,null,null,null,null,null,null,null,null,null,null,null,"-"]
["-",null,null,null,null,null,null,null,null,null,null,null,null,"-"]
["-",null,null,null,null,null,null,null,null,null,null,null,null,"-"]
["-",null,null,null,null,null,null,null,null,null,null,null,null,"-"]
["-",null,null,null,null,null,null,null,null,null,null,null,null,"-"]
["-",null,null,null,null,null,null,null,null,null,null,null,null,"-"]
["-",null,null,null,null,null,null,null,null,null,null,null,null,"-"]
["-",null,null,null,null,null,null,null,null,null,null,null,null,"-"]
["-",null,null,null,null,null,null,null,null,null,null,null,null,"-"]
["-",null,null,null,null,null,null,null,null,null,null,null,null,"-"]
["-",null,null,null,null,null,null,null,null,null,null,null,null,"-"]
["-",null,null,null,null,null,null,null,null,null,null,null,null,"-"]
["-",null,null,null,null,null,null,null,null,null,null,null,null,"-"]
["-",null,null,null,null,null,null,null,null,null,null,null,null,"-"]
["-",null,null,null,null,null,null,null,null,null,null,null,null,"-"]
["-",null,null,null,null,null,null,null,null,null,null,null,null,"-"]
["-",null,null,null,null,null,null,null,null,null,null,null,null,"-"]
["-",null,null,null,null,null,null,null,null,null,null,null,null,"-"]
["-",null,null,null,null,null,null,null,null,null,null,null,null,"-"]
["-",null,null,null,null,null,null,null,null,null,null,null,null,"-"]
["-",null,null,null,null,null,null,null,null,null,null,null,null,"-"]
["-",null,null,null,null,null,null,null,null,null,null,null,null,"-"]
["-",null,null,null,null,null,null,null,null,null,null,null,null,"-"]
["-",null,null,null,null,null,null,null,null,null,null,null,null,"-"]
["-",null,null,null,null,null,null,null,null,null,null,null,null,"-"]
["-",null,null,null,null,null,null,null,null,null,null,null,null,"-"]
["-",null,null,null,null,null,null,null,null,null,null,null,null,"-"]
["-",null,null,null,null,null,null,null,null,null,null,null,null,"-"]
["-",null,null,null,null,null,null,null,null,null,null,null,null,"-"]
["-",null,null,null,null,null,null,null,null,null,null,null,null,"-"]
["-",null,null,null,null,null,null,null,null,null,null,null,null,"-"]
["-",null,null,null,null,null,null,null,null,null,null,null,null,"-"]
["-",null,null,null,null,null,null,null,null,null,null,null,null,"-"]
["-",null,null,null,null,null,null,null,null,null,null,null,null,"-"]
["-",null,null,null,null,null,null,null,null,null,null,null,null,"-"]
["-",null,null,null,null,null,null,null,null,null,null,null,null,"-"]
["-",null,null,null,null,null,null,null,null,null,null,null,null,"-"]
["-",null,null,null,null,null,null,null,null,null,null,null,null,"-"]

{"sheet":"FEBMT","index":4,"n_rows":625,"n_cols":15,"rows_kept":625,"cut":false,"hidden":true,"merged":[]}
["CONCATENADO","PRODUCTO","UNIDAD","DESCRIPCION","PG","SP","PY","ACT","OB","UNIDAD DE MEDIDA","INICIAL","MODIFICADO","VIGENTE","PROGRAMADO","EJECUTADO"]
["201-000-001","000-001",201,"Servicios Financieros",1,0,0,3,0,"Evento",31,0,31,26,0]
["201-000-001-0001","000-001-0001",201,"Servicios Financieros",1,0,0,3,0,"Evento",31,0,31,26,0]
["201-000-003","000-003",201,"Servicios Administrativos",1,0,0,2,0,"Evento",319,0,319,104,0]
["201-000-003-0001","000-003-0001",201,"Servicios Administrativos",1,0,0,2,0,"Evento",319,0,319,104,0]
["201-000-004","000-004",201,"Personas Jurídicas Beneficiadas Con Aportes Y/O Cuotas Para Transporte",99,0,0,1,0,"Aporte",13,0,13,3,0]
["201-000-004-0001","000-004-0001",201,"Personas Jurídicas Beneficiadas Con Aportes Y/O Cuotas Para Transporte",99,0,0,1,0,"Aporte",13,0,13,3,0]
["201-000-005","000-005",201,"Personas Jurídicas Beneficiadas Con Aportes Y/O Cuotas Para Comunicaciones",99,0,0,2,0,"Aporte",1,0,1,1,0]
["201-000-005-0001","000-005-0001",201,"Personas Jurídicas Beneficiadas Con Aportes Y/O Cuotas Para Comunicaciones",99,0,0,2,0,"Aporte",1,0,1,1,0]
["201-000-006","000-006",201,"Personas Jurídicas Beneficiadas Con Aportes Y/O Cuotas Para Control Del Medio Ambiente",99,0,0,3,0,"Aporte",1,0,1,0,0]
["201-000-006-0001","000-006-0001",201,"Personas Jurídicas  Beneficiadas Con Aportes Y/O Cuotas Para Control Del Medio Ambiente",99,0,0,3,0,"Aporte",1,0,1,0,0]
["201-000-009","000-009",201,"Dirección Superior",1,0,0,1,0,"Evento",216,11,227,146,0]
["201-000-009-0001","000-009-0001",201,"Dirección Superior",1,0,0,1,0,"Evento",216,11,227,146,0]
["202-017-003","017-003",202,"Dirección Y Coordinación",11,0,0,1,0,"Evento",472,0,472,250,0]
["202-017-003-0001","017-003-0001",202,"Dirección Y Coordinación",11,0,0,1,0,"Evento",472,0,472,250,0]
["202-017-005","017-005",202,"Red Vial Con Servicios De Mantenimiento",11,0,0,2,0,"Kilómetro",2657,0,2657,314,0]
["202-017-005-0001","017-005-0001",202,"Red Vial Con Servicios De Mantenimiento",11,0,0,2,0,"Kilómetro",2657,0,2657,314,0]
["202-017-008","017-008",202,"Red Vial De Rutas Centroamericanas Con Servicios De Mantenimiento",11,3,0,1,0,"Kilómetro",82,44,126,21,0]
["202-017-008-0001","017-008-0001",202,"Red Vial Con Servicios De Rehabilitación",11,3,0,1,0,"Kilómetro",82,44,126,21,0]
["203-000-049","000-049",203,"Intervenciones Realizadas Para La Atención De La Emergencia Por Época Lluviosa, Temporada Ciclónica Y Sistema De Baja Presión",94,14,0,1,0,"Documento",0,45,45,0,0]
["203-000-049-0001","000-049-0001",203,"Intervenciones Realizadas Para La Atención De La Emergencia Por Época Lluviosa, Temporada Ciclónica Y Sistema De Baja Presión",94,14,0,1,0,"Documento",0,45,45,0,0]
["203-000-051","000-051",203,"Intervenciones Realizadas Para La Atención De La Emergencia Provocada Por Los Efectos De La Época Lluviosa Y El Ciclón Tropical Julia",94,15,0,1,0,"Documento",0,103,103,0,0]
["203-000-051-0001","000-051-0001",203,"Intervenciones Realizadas Para La Atención De La Emergencia Provocada Por Los Efectos De La Época Lluviosa Y El Ciclón Tropical Julia",94,15,0,1,0,"Documento",0,103,103,0,0]
["203-017-001","017-001",203,"Red Vial Pavimentada Con Servicios De Mantenimiento (Fideicomiso)",11,1,0,1,0,"Documento",11,0,11,1,0]
["203-017-001-0003","017-001-0003",203,"Red Vial Pavimentada Con Servicios De Mantenimiento (Fideicomiso)",11,1,0,1,0,"Documento",11,0,11,1,0]
["203-017-002","017-002",203,"Red Vial Pavimentada Con Mantenimiento (Ejecución Normal)",11,1,0,2,0,"Kilómetro",6453,0,6453,1133,470]
["203-017-002-0001","017-002-0001",203,"Red Vial Pavimentada Con Mantenimiento (Ejecución Normal)",11,1,0,2,0,"Kilómetro",6453,0,6453,1133,470]
["203-017-003","017-003",203,"Dirección Y Coordinación",11,0,0,1,0,"Evento",120,0,120,13,0]
["203-017-003-0001","017-003-0001",203,"Dirección Y Coordinación",11,0,0,1,0,"Evento",120,0,120,13,0]
["203-017-006","017-006",203,"Red Vial Rural Con Servicios De Mantenimiento (Fideicomiso)",11,2,0,1,0,"Documento",10,0,10,1,0]
["203-017-006-0002","017-006-0002",203,"Red Vial Rural Con Servicios De Mantenimiento (Fideicomiso)",11,2,0,1,0,"Documento",10,0,10,1,0]
["203-017-007","017-007",203,"Red Vial Terciaria Con Mantenimiento (Ejecución Normal)",11,2,0,2,0,"Kilómetro",5349,0,5349,964,431]
["203-017-007-0001","017-007-0001",203,"Red Vial Terciaria Con Mantenimiento (Ejecución Normal)",11,2,0,2,0,"Kilómetro",5349,0,5349,964,431]
["204-018-005","018-005",204,"Dirección Y Coordinación",12,0,0,1,0,"Evento",85,180,265,1,0]
["204-018-005-0001","018-005-0001",204,"Dirección Y Coordinación",12,0,0,1,0,"Evento",85,180,265,1,0]
["204-018-006","018-006",204,"Regulación De Transporte Extraurbano De Pasajeros Y Carga Por Carretera",12,0,0,2,0,"Documento",4595,11100,15695,985,0]
["204-018-006-0001","018-006-0001",204,"Personas Jurídicas O Individuales Con Licencias Otorgadas De Transporte Extraurbano De Pasajeros Por Carretera",12,0,0,2,0,"Documento",525,0,525,40,0]
["204-018-006-0002","018-006-0002",204,"Personas Jurídicas O Individuales Con Permisos Temporales Otorgados Para El Transporte Extraurbano De Pasajeros Por Carretera",12,0,0,2,0,"Documento",1575,2100,3675,195,0]
["204-018-006-0003","018-006-0003",204,"Personas Jurídicas O Individuales Con Licencias Modificadas De Transporte Extraurbano De Pasajeros Por Carretera",12,0,0,2,0,"Documento",1550,2000,3550,170,0]
["204-018-006-0004","018-006-0004",204,"Operativos De Control Fijo Del Servicio De Transporte Extraurbano",12,0,0,2,0,"Evento",1470,2200,3670,180,0]
["204-018-006-0005","018-006-0005",204,"Personas Jurídicas O Individuales Con Permisos Expresos Para El Transporte Extraurbano De Pasajeros Por Carretera",12,0,0,2,0,"Documento",420,6000,6420,500,0]
["204-018-006-0007","018-006-0007",204,"Personas Jurídicas O Individuales Con Constancias De Registro De Pilotos Para El Transporte Extraurbano De Pasajeros Por Carretera",12,0,0,2,0,"Documento",525,1000,1525,80,0]
["205-000-005","000-005",205,"Personas Jurídicas Beneficiadas Con Aportes Y/O Cuotas Para Comunicaciones",99,0,0,2,0,"Aporte",1,1,2,0,0]
["205-000-005-0001","000-005-0001",205,"Personas Jurídicas Beneficiadas Con Aportes Y/O Cuotas Para Comunicaciones",99,0,0,2,0,"Aporte",1,1,2,0,0]
["205-000-013","000-013",205,"Dirección Y Coordinación",13,0,0,1,0,"Evento",990,1160,2150,15,0]
["205-000-013-0001","000-013-0001",205,"Dirección Y Coordinación",13,0,0,1,0,"Evento",990,1160,2150,15,0]
["205-000-014","000-014",205,"Aeronaves Con Servicios De Aeronavegabilidad",13,0,0,2,0,"Aeronave",1676,2587,4263,303,0]
["205-000-014-0001","000-014-0001",205,"Pasajeros Que Ingresan Por Medio De Transporte Aéreo Con Servicios De Desembarque",13,0,0,2,0,"Persona",291179,1362624,1653803,109481,0]
["205-000-014-0002","000-014-0002",205,"Pasajeros Que Egresan Por Medio De Transporte Aéreo Con Servicios De Embarque",13,0,0,2,0,"Persona",1676801,-31518,1645283,110618,0]
["205-000-014-0003","000-014-0003",205,"Carga Embarcada Para La Exportación Aérea",13,0,0,2,0,"Kilogramo",86739745,-55553178,31186567,2178551,0]
["205-000-014-0004","000-014-0004",205,"Carga Desembarcada Para La Importación Aérea",13,0,0,2,0,"Kilogramo",33930296,-9847837,24082459,1915646,0]
["205-000-014-0005","000-014-0005",205,"Aeronaves Con Inspección Técnica",13,0,0,2,0,"Aeronave",297,226,523,42,0]
["205-000-014-0006","000-014-0006",205,"Aeronaves Nacionales Y Extranjeras Con Certificado De Matrícula Autorizada Y Renovada",13,0,0,2,0,"Aeronave",135,75,210,11,0]
["205-000-014-0007","000-014-0007",205,"Aeronaves Con Servicios De Pernocte En Rampa Internacional Del Aeropuerto",13,0,0,2,0,"Aeronave",1244,2286,3530,250,0]
["205-000-016","000-016",205,"Aeronaves Con Servicios Operativos De Aviación Y Soporte Técnico",13,0,0,3,0,"Aeronave",84696,4555,89251,7075,0]
["205-000-016-0001","000-016-0001",205,"Aeronaves Con Servicios Operativos De Aviación Y Soporte Técnico",13,0,0,3,0,"Aeronave",84696,4555,89251,7075,0]
["205-000-017","000-017",205,"Infraestructura De La Red Aeroportuaria Nacional Con Servicios De Mantenimiento",13,0,0,4,0,"Metro cuadrado",728874,-543530,185344,9009,0]
["205-000-017-0001","000-017-0001",205,"Infraestructura De La Red Aeroportuaria Nacional Con Servicios De Mantenimiento",13,0,0,4,0,"Metro cuadrado",728874,-543530,185344,9009,0]
["206-000-018","000-018",206,"Dirección Y Coordinación",14,0,0,1,0,"Evento",233,-27,206,40,0]
["206-000-018-0001","000-018-0001",206,"Dirección Y Coordinación",14,0,0,1,0,"Evento",117,-1,116,30,0]
["206-000-018-0002","000-018-0002",206,"Población Estudiantil Beneficiada Con Equipo Educacional",14,0,0,1,0,"Persona",10354,-963,9391,0,0]
["206-000-018-0003","000-018-0003",206,"Remozamiento De Edificios Públicos",14,0,0,1,0,"Evento",116,-26,90,0,0]
["206-000-048","000-048",206,"Intervenciones Realizadas Para La Atención De Daños Provocados Por Depresión Tropical Eta",94,11,0,1,0,"Documento",0,0,0,0,0]
["206-000-048-0002","000-048-0002",206,"Remozamiento De Edificios Públicos Para La Atención De Daños Provocados Por Depresiones Tropicales",94,11,0,1,0,"Evento",0,31,31,0,0]
["206-000-049","000-049",206,"Intervenciones Realizadas Para La Atención De La Emergencia Por Época Lluviosa, Temporada Ciclónica Y Sistema De Baja Presión",94,14,0,1,0,"Documento",0,40,40,0,0]
["206-000-049-0001","000-049-0001",206,"Intervenciones Realizadas Para La Atención De La Emergencia Por Época Lluviosa, Temporada Ciclónica Y Sistema De Baja Presión",94,14,0,1,0,"Documento",0,40,40,0,0]
["206-000-051","000-051",206,"Intervenciones Realizadas Para La Atención De La Emergencia Provocada Por Los Efectos De La Época Lluviosa Y El Ciclón Tropical Julia",94,15,0,1,0,"Documento",0,40,40,0,0]
["206-000-051-0001","000-051-0001",206,"Intervenciones Realizadas Para La Atención De La Emergencia Provocada Por Los Efectos De La Época Lluviosa Y El Ciclón Tropical Julia",94,15,0,1,0,"Documento",0,40,40,0,0]
["207-000-019","000-019",207,"Dirección Y Coordinación",15,0,0,1,0,"Evento",233,0,233,10,2]
["207-000-019-0001","000-019-0001",207,"Dirección Y Coordinación",15,0,0,1,0,"Evento",233,0,233,10,2]
["207-000-020","000-020",207,"Personas Individuales Y Jurídicas Registradas En Radiodifusión Y Televisión",15,0,0,2,0,"Persona",997,0,997,101,101]
["207-000-020-0003","000-020-0003",207,"Comerciales Registrados De Personas Jurídicas O Individuales",15,0,0,2,0,"Persona",790,0,790,80,80]
["207-000-020-0004","000-020-0004",207,"Técnicos Con Registro En Radio Y/O Televisión",15,0,0,2,0,"Persona",3,0,3,1,1]
["207-000-020-0005","000-020-0005",207,"Locutores Registrados En Radio Y/O Televisión",15,0,0,2,0,"Persona",204,0,204,20,20]
["207-000-021","000-021",207,"Servicios De Radiodifusión",15,0,0,3,0,"Evento",54998,64000,118998,4636,4636]
["207-000-021-0001","000-021-0001",207,"Programas Radiales A Control Remoto Difundidos",15,0,0,3,0,"Evento",2818,0,2818,235,235]
["207-000-021-0002","000-021-0002",207,"Programas Radiales Difundidos",15,0,0,3,0,"Evento",11880,0,11880,976,976]
["207-000-021-0003","000-021-0003",207,"Spot Gubernamentales Otorgados A Entidades Públicas",15,0,0,3,0,"Evento",40300,64000,104300,3425,3425]
["208-000-024","000-024",208,"Dirección Y Coordinación",21,0,0,1,0,"Evento",218,0,218,1,1]
["208-000-024-0001","000-024-0001",208,"Dirección Y Coordinación",21,0,0,1,0,"Evento",218,0,218,1,1]
["208-000-025","000-025",208,"Empresas De Cable Con Registro Y Supervisión",21,0,0,2,0,"Entidad",2958,0,2958,312,310]
["208-000-025-0001","000-025-0001",208,"Empresas De Cable Con Visitas De Supervisión",21,0,0,2,0,"Entidad",2814,0,2814,293,291]
["208-000-025-0002","000-025-0002",208,"Empresas De Cable Nuevas Con Registro",21,0,0,2,0,"Entidad",26,0,26,6,6]
["208-000-025-0005","000-025-0005",208,"Empresas Sancionadas Por Incumplimiento A La Ley Del Cable",21,0,0,2,0,"Entidad",118,0,118,13,13]
["209-000-005","000-005",209,"Personas Jurídicas Beneficiadas Con Aportes Y/O Cuotas Para Comunicaciones",99,0,0,2,0,"Aporte",2,0,2,0,0]
["209-000-005-0001","000-005-0001",209,"Personas Jurídicas Beneficiadas Con Aportes Y/O Cuotas Para Comunicaciones",99,0,0,2,0,"Aporte",2,0,2,0,0]
["209-000-006","000-006",209,"Personas Jurídicas Beneficiadas Con Aportes Y/O Cuotas Para Control Del Medio Ambiente",99,0,0,3,0,"Aporte",2,0,2,0,0]
["209-000-006-0001","000-006-0001",209,"Personas Jurídicas  Beneficiadas Con Aportes Y/O Cuotas Para Control Del Medio Ambiente",99,0,0,3,0,"Aporte",2,0,2,0,0]
["209-020-006","020-006",209,"Dirección Y Coordinación",16,0,0,1,0,"Evento",850,-44,806,136,136]
["209-020-006-0001","020-006-0001",209,"Dirección Y Coordinación",16,0,0,1,0,"Evento",850,-44,806,136,136]
["209-020-007","020-007",209,"Boletines Con Información Climática",16,0,0,2,0,"Documento",16107,-2258,13849,2310,2301]
["209-020-007-0001","020-007-0001",209,"Usuarios Atendidos Con Información Climática",16,0,0,2,0,"Documento",12763,-1173,11590,1933,1924]
["209-020-007-0002","020-007-0002",209,"Boletines Emitidos Con Información Meteorológica",16,0,0,2,0,"Documento",3344,-1085,2259,377,377]
["209-020-008","020-008",209,"Información De Amenaza Sísmica Y Volcánica Registrada",16,0,0,3,0,"Documento",8100,3883,11983,1990,1990]
["209-020-008-0001","020-008-0001",209,"Boletines Emitidos Con Información Geológica",16,0,0,3,0,"Documento",3872,2075,5947,987,987]
["209-020-008-0002","020-008-0002",209,"Informes Emitidos Sobre Deslizamiento De Tierra",16,0,0,3,0,"Documento",4228,1808,6036,1003,1003]
["209-020-009","020-009",209,"Información De Actividad Hidrológica Registrada",16,0,0,4,0,"Documento",9508,108,9616,1593,1570]
["209-020-009-0001","020-009-0001",209,"Boletines Con Información Hidrológica",16,0,0,4,0,"Documento",3265,1135,4400,727,719]
["209-020-009-0002","020-009-0002",209,"Publicaciones Anuales Con Información Consolidada De Efemérides Solar, Pronóstico De Mareas, Estudios De Calidad De Agua Y De Cuencas",16,0,0,4,0,"Documento",2985,-29,2956,488,473]
["209-020-009-0003","020-009-0003",209,"Boletines Emitidos Con Información Del Índice De Calidad Del Aire",16,0,0,4,0,"Documento",3258,-998,2260,378,378]
["210-000-005","000-005",210,"Personas Jurídicas Beneficiadas Con Aportes Y/O Cuotas Para Comunicaciones",99,0,0,2,0,"Aporte",3,0,3,0,0]
["210-000-005-0001","000-005-0001",210,"Personas Jurídicas Beneficiadas Con Aportes Y/O Cuotas Para Comunicaciones",99,0,0,2,0,"Aporte",3,0,3,0,0]
["210-000-029","000-029",210,"Dirección Y Coordinación",17,0,0,1,0,"Evento",608,91,699,27,0]
["210-000-029-0001","000-029-0001",210,"Dirección Y Coordinación",17,0,0,1,0,"Evento",608,91,699,27,0]
["210-000-030","000-030",210,"Personas Individuales Y/O Jurídicas Con Servicios Postales Otorgados",17,0,0,2,0,"Persona",476400,47067,523467,31770,30837]
["210-000-030-0001","000-030-0001",210,"Personas Individuales Y/O Jurídicas Con Servicios Postales Otorgados",17,0,0,2,0,"Persona",476400,47067,523467,31770,30837]
["211-000-005","000-005",211,"Personas Jurídicas Beneficiadas Con Aportes Y/O Cuotas Para Comunicaciones",99,0,0,2,0,"Aporte",2,0,2,0,0]
["211-000-005-0001","000-005-0001",211,"Personas Jurídicas Beneficiadas Con Aportes Y/O Cuotas Para Comunicaciones",99,0,0,2,0,"Aporte",2,0,2,0,0]
["211-022-007","022-007",211,"Dirección Y Coordinación",22,0,0,1,0,"Evento",154,-18,136,3,0]
["211-022-007-0001","022-007-0001",211,"Dirección Y Coordinación",22,0,0,1,0,"Evento",154,-18,136,3,0]
["211-022-008","022-008",211,"Proveedores, Usuarios Y Usufructuarios De Frecuencias Con Servicios De Regulación",22,0,0,2,0,"Documento",4,18,22,0,0]
["211-022-008-0001","022-008-0001",211,"Títulos De Usufructo Emitidos Para Personas Individuales Y/O Jurídicas",22,0,0,2,0,"Documento",1,14,15,0,0]
["211-022-008-0002","022-008-0002",211,"Licencias Emitidas A Proveedores Satelitales",22,0,0,2,0,"Documento",2,0,2,0,0]
["211-022-008-0003","022-008-0003",211,"Licencias Emitidas A Usuarios Satelitales",22,0,0,2,0,"Documento",1,0,1,0,0]
["211-022-008-0004","022-008-0004",211,"Monitoreo Al Espectro Radioeléctrico",22,0,0,2,0,"Evento",175,0,175,10,3]
["211-022-009","022-009",211,"Recursos De Telefonía Regulados",22,0,0,3,0,"Documento",5267,0,5267,2528,2527]
["211-022-009-0001","022-009-0001",211,"Operadores De Telefonía Registrados",22,0,0,3,0,"Registro",184,0,184,51,51]
["211-022-009-0002","022-009-0002",211,"Numeración Asignada A Personas Jurídicas Y /O Individuales",22,0,0,3,0,"Documento",125,0,125,21,21]
["211-022-009-0003","022-009-0003",211,"Puntos De Señalización Asignados A Personas Jurídicas Y/O Individuales",22,0,0,3,0,"Documento",30,0,30,1,0]
["211-022-009-0004","022-009-0004",211,"Constancias De Inscripción De Usuarios Jurídicos Y/O Individuales De Telecomunicaciones Móviles",22,0,0,3,0,"Documento",5112,0,5112,2506,2506]
["212-000-010","000-010",212,"Dirección Y Coordinación",23,0,0,1,0,"Evento",38,-4,34,1,1]
["212-000-010-0001","000-010-0001",212,"Dirección Y Coordinación",23,0,0,1,0,"Evento",38,-4,34,1,1]
["212-000-015","000-015",212,"Personas Beneficiadas Con Proyectos, Supervisión De Telefonía Y Conectividad Subsidiados",23,0,0,2,0,"Persona",707,-681,26,0,0]
["212-000-015-0001","000-015-0001",212,"Personas Beneficiadas Con Proyectos, Supervisión De Telefonía Y Conectividad Subsidiados",23,0,0,2,0,"Persona",707,-681,26,0,0]
["214-000-022","000-022",214,"Dirección Y Coordinación",20,0,0,1,0,"Evento",201,-61,140,5,5]
["214-000-022-0001","000-022-0001",214,"Dirección Y Coordinación",20,0,0,1,0,"Evento",201,-61,140,5,5]
["214-000-023","000-023",214,"Familias Beneficiadas Con Adjudicación De Propiedad De Vivienda",20,0,0,2,0,"Familia",126,-69,57,0,0]
["214-000-023-0001","000-023-0001",214,"Familias Beneficiadas Con Adjudicación De Propiedad De Vivienda",20,0,0,2,0,"Familia",126,-69,57,0,0]
["214-000-023-0002","000-023-0002",214,"Recuperación De La Cartera Crediticia",20,0,0,2,0,"Unidad monetaria",1389000,0,1389000,75000,75000]
["216-021-001","021-001",216,"Dirección Y Coordinación",18,0,0,1,0,"Evento",720,-527,193,29,0]
["216-021-001-0001","021-001-0001",216,"Dirección Y Coordinación",18,0,0,1,0,"Evento",720,-527,193,29,0]
["216-021-002","021-002",216,"Conductores Beneficiados Con Servicios De Vigilancia Y Asistencia Vial",18,0,0,2,0,"Persona",318887,-13780,305107,47640,0]
["216-021-002-0001","021-002-0001",216,"Personas Capacitadas En El Programa De Educación Y Seguridad Vial",18,0,0,2,0,"Persona",23100,-3100,20000,2640,0]
["216-021-002-0002","021-002-0002",216,"Elementos Formados Como Brigadas De Protección Y Seguridad Vial En Carretera",18,0,0,2,0,"Persona",107,0,107,0,0]
["216-021-002-0003","021-002-0003",216,"Conductores Atendidos Con Servicios De Seguridad Y Asistencia Vial En Carretera",18,0,0,2,0,"Persona",64680,-4680,60000,7500,0]
["216-021-002-0004","021-002-0004",216,"Servicios De Regulación Para Beneficio De Conductores Que Transitan En Carretera",18,0,0,2,0,"Evento",7710,-710,7000,720,0]
["216-021-002-0005","021-002-0005",216,"Personas Atendidas Telefónicamente Por Medio Del Sistema 1520 (Emergencia Vial)",18,0,0,2,0,"Persona",231000,-6000,225000,37500,0]
["216-021-002-0006","021-002-0006",216,"Boleta De Llamada De Atención A Conductores Infractores",18,0,0,2,0,"Documento",3234,-634,2600,280,0]
["216-021-002-0007","021-002-0007",216,"Investigaciones Realizadas De Accidentes De Tránsito En Carreteras",18,0,0,2,0,"Evento",37,28,65,10,0]
["217-000-022","000-022",217,"Dirección Y Coordinación",20,0,0,1,0,"Evento",263,-2,261,34,0]
["217-000-022-0001","000-022-0001",217,"Dirección Y Coordinación",20,0,0,1,0,"Evento",263,-2,261,34,0]
["217-017-005","017-005",217,"Red Vial Con Servicios De Mantenimiento",11,0,0,2,0,"Kilómetro",219,0,219,37,0]
["217-017-005-0001","017-005-0001",217,"Red Vial Con Servicios De Mantenimiento",11,0,0,2,0,"Kilómetro",219,0,219,37,0]
["217-017-005-0002","017-005-0002",217,"Dirección Y Coordinación (Convoyes)",11,0,0,2,0,"Evento",128,22,150,19,0]
["218-019-001","019-001",218,"Dirección Y Coordinación",19,0,0,1,0,"Evento",225,0,225,0,0]
["218-019-001-0001","019-001-0001",218,"Dirección Y Coordinación",19,0,0,1,0,"Evento",225,0,225,0,0]
["218-019-002","019-002",218,"Familias Beneficiadas Con Subsidios Para La Vivienda",19,0,0,2,0,"Familia",17349,105,17454,57,57]
["218-019-002-0001","019-002-0001",218,"Familias Con Subsidio Para Adquisición De Lote Con Servicios Básicos",19,0,0,2,0,"Familia",360,0,360,0,0]
["218-019-002-0002","019-002-0002",218,"Familias Con Subsidio Para Adquisición De Lote Con Vivienda",19,0,0,2,0,"Familia",430,-40,390,0,0]
["218-019-002-0003","019-002-0003",218,"Familias Con Subsidio Para La Adquisición De Módulo Habitacional En Propiedad Horizontal",19,0,0,2,0,"Familia",264,-194,70,0,0]
["218-019-002-0004","019-002-0004",218,"Familias Con  Subsidio Para El Mejoramiento, Ampliación Y Reparación De Vivienda",19,0,0,2,0,"Familia",1422,-137,1285,0,0]
["218-019-002-0006","019-002-0006",218,"Familias Con Subsidio Para Construcción De Vivienda",19,0,0,2,0,"Familia",14873,476,15349,57,57]
["-"]
["-"]
["-"]
["-"]
["-"]
["-"]
["-"]
["-"]
["-"]
["-"]
["-"]
["-"]
["-"]
["-"]
["-"]
["-"]
["-"]
["-"]
["-"]
["-"]
["-"]
["-"]
["-"]
["-"]
["-"]
["-"]
["-"]
["-"]
["-"]
["-"]
["-"]
["-"]
["-"]
["-"]
["-"]
["-"]
["-"]
["-"]
["-"]
["-"]
["-"]
["-"]
["-"]
["-"]
["-"]
["-"]
["-"]
["-"]
["-"]
["-"]
["-"]
["-"]
["-"]
["-"]
["-"]
["-"]
["-"]
["-"]
["-"]
["-"]
["-"]
["-"]
["-"]
["-"]
["-"]
["-"]
["-"]
["-"]
["-"]
["-"]
["-"]
["-"]
["-"]
["-"]
["-"]
["-"]
["-"]
["-"]
["-"]
["-"]
["-"]
["-"]
["-"]
["-"]
["-"]
["-"]
["-"]
["-"]
["-"]
["-"]
["-"]
["-"]
["-"]
["-"]
["-"]
["-"]
["-"]
["-"]
["-"]
["-"]
["-"]
["-"]
["-"]
["-"]
["-"]
["-"]
["-"]
["-"]
["-"]
["-"]
["-"]
["-"]
["-"]
["-"]
["-"]
["-"]
["-"]
["-"]
["-"]
["-"]
["-"]
["-"]
["-"]
["-"]
["-"]
["-"]
["-"]
["-"]
["-"]
["-"]
["-"]
["-"]
["-"]
["-"]
["-"]
["-"]
["-"]
["-"]
["-"]
["-"]
["-"]
["-"]
["-"]
["-"]
["-"]
["-"]
["-"]
["-"]
["-"]
["-"]
["-"]
["-"]
["-"]
["-"]
["-"]
["-"]
["-"]
["-"]
["-"]
["-"]
["-"]
["-"]
["-"]
["-"]
["-"]
["-"]
["-"]
["-"]
["-"]
["-"]
["-"]
["-"]
["-"]
["-"]
["-"]
["-"]
["-"]
["-"]
["-"]
["-"]
["-"]
["-"]
["-"]
["-"]
["-"]
["-"]
["-"]
["-"]
["-"]
["-"]
["-"]
["-"]
["-"]
["-"]
["-"]
["-"]
["-"]
["-"]
["-"]
["-"]
["-"]
["-"]
["-"]
["-"]
["-"]
["-"]
["-"]
["-"]
["-"]
["-"]
["-"]
["-"]
["-"]
["-"]
["-"]
["-"]
["-"]
["-"]
["-"]
["-"]
["-"]
["-"]
["-"]
["-"]
["-"]
["-"]
["-"]
["-"]
["-"]
["-"]
["-"]
["-"]
["-"]
["-"]
["-"]
["-"]
["-"]
["-"]
["-"]
["-"]
["-"]
["-"]
["-"]
["-"]
["-"]
["-"]
["-"]
["-"]
["-"]
["-"]
["-"]
["-"]
["-"]
["-"]
["-"]
["-"]
["-"]
["-"]
["-"]
["-"]
["-"]
["-"]
["-"]
["-"]
["-"]
["-"]
["-"]
["-"]
["-"]
["-"]
["-"]
["-"]
["-"]
["-"]
["-"]
["-"]
["-"]
["-"]
["-"]
["-"]
["-"]
["-"]
["-"]
["-"]
["-"]
["-"]
["-"]
["-"]
["-"]
["-"]
["-"]
["-"]
["-"]
["-"]
["-"]
["-"]
["-"]
["-"]
["-"]
["-"]
["-"]
["-"]
["-"]
["-"]
["-"]
["-"]
["-"]
["-"]
["-"]
["-"]
["-"]
["-"]
["-"]
["-"]
["-"]
["-"]
["-"]
["-"]
["-"]
["-"]
["-"]
["-"]
["-"]
["-"]
["-"]
["-"]
["-"]
["-"]
["-"]
["-"]
["-"]
["-"]
["-"]
["-"]
["-"]
["-"]
["-"]
["-"]
["-"]
["-"]
["-"]
["-"]
["-"]
["-"]
["-"]
["-"]
["-"]
["-"]
["-"]
["-"]
["-"]
["-"]
["-"]
["-"]
["-"]
["-"]
["-"]
["-"]
["-"]
["-"]
["-"]
["-"]
["-"]
["-"]
["-"]
["-"]
["-"]
["-"]
["-"]
["-"]
["-"]
["-"]
["-"]
["-"]
["-"]
["-"]
["-"]
["-"]
["-"]
["-"]
["-"]
["-"]
["-"]
["-"]
["-"]
["-"]
["-"]
["-"]
["-"]
["-"]
["-"]
["-"]
["-"]
["-"]
["-"]
["-"]
["-"]
["-"]
["-"]
["-"]
["-"]
["-"]
["-"]
["-"]
["-"]
["-"]
["-"]
["-"]
["-"]
["-"]
["-"]
["-"]
["-"]
["-"]
["-"]
["-"]
["-"]
["-"]
["-"]
["-"]
["-"]
["-"]
["-"]
["-"]
["-"]
["-"]
["-"]
["-"]
["-"]
["-"]
["-"]
["-"]
["-"]
["-"]
["-"]
["-"]
["-"]
["-"]
["-"]
["-"]
["-"]
["-"]
["-"]
["-"]
["-"]
["-"]
["-"]
["-"]
["-"]
["-"]
["-"]
["-"]
["-"]
["-"]
["-"]
["-"]
["-"]
["-"]
["-"]
["-"]
["-"]
["-"]
["-"]
["-"]
["-"]
["-"]
["-"]
["-"]
["-"]
["-"]
["-"]
["-"]
["-"]

{"sheet":"FEBFN","index":5,"n_rows":420,"n_cols":14,"rows_kept":420,"cut":false,"hidden":true,"merged":[]}
["CONCATENADO","PRODUCTO","DESCRIPCION","UNIDAD","ASIGNADO","MODIFICADO","VIGENTE","PRECOMPROMISO","COMPROMETIDO","DEVENGADO","SALDO POR COMPROMETER","SALDO POR DEVENGAR","% EJEC","Columna1"]
["201-000-001-0001","000-001-0001","Servicios financieros",201,15083171,-708597,14374574,0,0,0,14374574,14374574,0,"201-000-001-0001"]
["201-000-003-0001","000-003-0001","Servicios administrativos",201,15893462,515356,16408818,0,1290774.04,1282519.04,13210112.640000001,13218367.640000001,19.443511165764647,"201-000-003-0001"]
["201-000-004-0001","000-004-0001","Personas jurídicas beneficiadas con aportes y/o cuotas para transporte",201,5874520,0,5874520,0,505774,505774,4984407,4984407,15.152097533075048,"201-000-004-0001"]
["201-000-005-0001","000-005-0001","Personas jurídicas beneficiadas con aportes y/o cuotas para comunicaciones",201,55159,0,55159,0,0,-1363.82,694.06,2057.88,96.269185445711486,"201-000-005-0001"]
["201-000-006-0001","000-006-0001","Personas jurídicas  beneficiadas con aportes y/o cuotas para control del medio ambiente",201,400000,0,400000,0,391064.5,391064.5,8935.5,8935.5,97.766124999999988,"201-000-006-0001"]
["201-000-009-0001","000-009-0001","Dirección superior",201,25693688,193241,25886929,0,3173.5,3173.5,25883755.5,25883755.5,1.225908256634284E-2,"201-000-009-0001"]
["202-017-003-0001","017-003-0001","Dirección y coordinación",202,89558631,275900,89834531,0,2292998.7000000002,2217877.62,86763006.659999996,86838127.739999995,3.3354693642247728,"202-017-003-0001"]
["202-017-005-0001","017-005-0001","Red vial con servicios de mantenimiento",202,201689369,-275900,201413469,0,11569648.48,11142958.25,189840997.68000001,190267687.91,5.5337814026727212,"202-017-005-0001"]
["202-017-008-0001","017-008-0001","Red vial con servicios de rehabilitación",202,311854271,0,311854271,0,166119397.55000001,165955202.71000001,145734873.44999999,145899068.28999999,53.215626060801966,"202-017-008-0001"]
["203-000-049-0001","000-049-0001","Intervenciones realizadas para la atención de la emergencia por Época Lluviosa, Temporada Ciclónica y Sistema de Baja Presión",203,0,50000000,50000000,0,0,0,50000000,50000000,0,"203-000-049-0001"]
["203-000-051-0001","000-051-0001","Intervenciones realizadas para la atención de la emergencia provocada por los efectos de la época lluviosa y el Ciclón Tropical Julia",203,0,300000000,300000000,0,0,0,300000000,300000000,0,"203-000-051-0001"]
["203-017-001-0003","017-001-0003","Red vial pavimentada con servicios de mantenimiento (fideicomiso)",203,5240000,0,5240000,0,0,0,5240000,5240000,0,"203-017-001-0003"]
["203-017-002-0001","017-002-0001","Red vial pavimentada con mantenimiento (ejecución normal)",203,793952274,-243739226,550213048,0,57037015.329999998,57037015.329999998,493176032.67000002,493176032.67000002,10.366350913946334,"203-017-002-0001"]
["203-017-003-0001","017-003-0001","Dirección y coordinación",203,27407860,0,27407860,0,372209.57,372209.57,27035650.43,27035650.43,1.3580395185906491,"203-017-003-0001"]
["203-017-006-0002","017-006-0002","Red vial rural con servicios de mantenimiento (fideicomiso)",203,5000000,0,5000000,0,0,0,5000000,5000000,0,"203-017-006-0002"]
["203-017-007-0001","017-007-0001","Red vial terciaria con mantenimiento (ejecución normal)",203,550792866,-106260774,444532092,0,37962984.109999999,37962984.109999999,406569107.88999999,406569107.88999999,8.5399872794785736,"203-017-007-0001"]
["204-018-005-0001","018-005-0001","Dirección y coordinación",204,12264729,-823882,11440847,0,197901.98,197901.98,11232323.65,11232323.65,1.8226216118439516,"204-018-005-0001"]
["204-018-006-0001","018-006-0001","Personas jurídicas o individuales con licencias otorgadas de transporte extraurbano de pasajeros por carretera",204,1031212,-120386,910826,0,239205.6,239205.6,671620.4,671620.4,26.262491408896977,"204-018-006-0001"]
["204-018-006-0002","018-006-0002","Personas jurídicas o individuales con permisos temporales otorgados para el transporte extraurbano de pasajeros por carretera",204,183000,0,183000,0,0,0,183000,183000,0,"204-018-006-0002"]
["204-018-006-0003","018-006-0003","Personas jurídicas o individuales con licencias modificadas de transporte extraurbano de pasajeros por carretera",204,728318,879200,1607518,0,6300,6300,1601218,1601218,0.39190851984238179,"204-018-006-0003"]
["204-018-006-0004","018-006-0004","Operativos de control fijo del servicio de transporte extraurbano",204,369011,0,369011,0,52828.92,52828.92,316182.08,316182.08,14.316353713032949,"204-018-006-0004"]
["204-018-006-0005","018-006-0005","Personas jurídicas o individuales con permisos expresos para el transporte extraurbano de pasajeros por carretera",204,350000,65068,415068,0,38816.800000000003,38816.800000000003,376251.2,376251.2,9.3519134214152828,"204-018-006-0005"]
["204-018-006-0007","018-006-0007","Personas jurídicas o individuales con constancias de registro de pilotos para el transporte extraurbano de pasajeros por carretera",204,25000,0,25000,0,0,0,25000,25000,0,"204-018-006-0007"]
["205-000-005-0001","000-005-0001","Personas jurídicas beneficiadas con aportes y/o cuotas para comunicaciones",205,450000,0,450000,0,0,0,450000,450000,0,"205-000-005-0001"]
["205-000-013-0001","000-013-0001","Dirección y coordinación",205,144895709,-35504447,109391262,0,7513269.9400000004,7513269.9400000004,98538701.019999996,98538701.019999996,9.9208664216708708,"205-000-013-0001"]
["205-000-014-0001","000-014-0001","Pasajeros que ingresan por medio de transporte aéreo con servicios de desembarque",205,18478387,6185,18484572,0,0,0,18484572,18484572,0,"205-000-014-0001"]
["205-000-014-0002","000-014-0002","Pasajeros que egresan por medio de transporte aéreo con servicios de embarque",205,54283348,5673576,59956924,0,879266.44,879266.44,58480432.369999997,58480432.369999997,2.4625873568830867,"205-000-014-0002"]
["205-000-014-0003","000-014-0003","Carga embarcada para la exportación aérea",205,591375,0,591375,0,0,0,591375,591375,0,"205-000-014-0003"]
["205-000-014-0004","000-014-0004","Carga desembarcada para la importación aérea",205,264205,0,264205,0,0,0,264205,264205,0,"205-000-014-0004"]
["205-000-014-0005","000-014-0005","Aeronaves con inspección técnica",205,206100,0,206100,0,0,0,206100,206100,0,"205-000-014-0005"]
["205-000-014-0006","000-014-0006","Aeronaves nacionales y extranjeras con certificado de matrícula autorizada y renovada",205,250275,0,250275,0,0,0,250275,250275,0,"205-000-014-0006"]
["205-000-014-0007","000-014-0007","Aeronaves con servicios de pernocte en rampa internacional del aeropuerto",205,179825,0,179825,0,0,0,179825,179825,0,"205-000-014-0007"]
["205-000-016-0001","000-016-0001","Aeronaves con servicios operativos de aviación y soporte técnico",205,13660761,0,13660761,0,0,0,13660761,13660761,0,"205-000-016-0001"]
["205-000-017-0001","000-017-0001","Infraestructura de la red aeroportuaria nacional con servicios de mantenimiento",205,16133540,29824686,45958226,26351601.190000001,302714.45,302714.45,45512744.469999999,45512744.469999999,0.96931837621408701,"205-000-017-0001"]
["206-000-018-0001","000-018-0001","Dirección y coordinación",206,28177916,203222,28381138,0,310085.48,310085.48,27984122.969999999,27984122.969999999,1.3988693124285601,"206-000-018-0001"]
["206-000-018-0002","000-018-0002","Población estudiantil beneficiada con equipo educacional",206,5100000,77000,5177000,0,0,0,5177000,5177000,0,"206-000-018-0002"]
["206-000-018-0003","000-018-0003","Remozamiento de edificios públicos",206,181478546,-68685067,112793479,0,3412083.92,3412083.92,109381395.08,109381395.08,3.0250719724674853,"206-000-018-0003"]
["206-000-048-0002","000-048-0002","Remozamiento de edificios públicos para la atención de daños provocados por depresiones tropicales",206,0,47685453,47685453,0,10909559,10909559,36775894,36775894,22.878169994526424,"206-000-048-0002"]
["206-000-049-0001","000-049-0001","Intervenciones realizadas para la atención de la emergencia por Época Lluviosa, Temporada Ciclónica y Sistema de Baja Presión",206,0,7022508,7022508,0,0,0,7022508,7022508,0,"206-000-049-0001"]
["206-000-051-0001","000-051-0001","Intervenciones realizadas para la atención de la emergencia provocada por los efectos de la época lluviosa y el Ciclón Tropical Julia",206,0,13696884,13696884,0,572765,572765,13124119,13124119,4.1817175351707734,"206-000-051-0001"]
["207-000-019-0001","000-019-0001","Dirección y coordinación",207,8687812,-248750,8439062,0,80128.27,180628.27,7755300.2000000002,8064800.2000000002,4.4348743971782643,"207-000-019-0001"]
["207-000-020-0003","000-020-0003","Comerciales registrados de personas jurídicas o individuales",207,2055172,630,2055802,0,0,0,2055802,2055802,0,"207-000-020-0003"]
["207-000-020-0004","000-020-0004","Técnicos con registro en radio y/o televisión",207,45000,0,45000,0,11990,11990,33010,33010,26.644444444444442,"207-000-020-0004"]
["207-000-020-0005","000-020-0005","Locutores registrados en radio y/o televisión",207,50000,0,50000,0,0,0,50000,50000,0,"207-000-020-0005"]
["207-000-021-0001","000-021-0001","Programas radiales a control remoto difundidos",207,129476,0,129476,0,0,0,129476,129476,0,"207-000-021-0001"]
["207-000-021-0002","000-021-0002","Programas radiales difundidos",207,1386359,-44700,1341659,0,463321.47,463321.47,768043.99,768043.99,42.754158098294717,"207-000-021-0002"]
["207-000-021-0003","000-021-0003","Spot gubernamentales otorgados a entidades públicas",207,3192171,292820,3484991,0,171443.1,171443.1,3198032.4,3198032.4,8.2341274339015573,"207-000-021-0003"]
["208-000-024-0001","000-024-0001","Dirección y coordinación",208,8433472,0,8433472,0,35842.120000000003,35842.120000000003,8383789.1699999999,8383789.1699999999,0.58911477977278992,"208-000-024-0001"]
["208-000-025-0001","000-025-0001","Empresas de cable con visitas de supervisión",208,808467,0,808467,0,20689.96,20689.96,787777.04,787777.04,2.5591594956875086,"208-000-025-0001"]
["208-000-025-0002","000-025-0002","Empresas de cable nuevas con registro",208,568018,0,568018,0,0,0,568018,568018,0,"208-000-025-0002"]
["208-000-025-0005","000-025-0005","Empresas sancionadas por incumplimiento a la ley del cable",208,474910,0,474910,0,0,0,474910,474910,0,"208-000-025-0005"]
["209-000-005-0001","000-005-0001","Personas jurídicas beneficiadas con aportes y/o cuotas para comunicaciones",209,168000,0,168000,0,0,0,168000,168000,0,"209-000-005-0001"]
["209-000-006-0001","000-006-0001","Personas jurídicas  beneficiadas con aportes y/o cuotas para control del medio ambiente",209,208000,0,208000,0,85996.9,85996.9,122003.1,122003.1,41.34466346153846,"209-000-006-0001"]
["209-020-006-0001","020-006-0001","Dirección y coordinación",209,15193176,219328,15412504,0,211016.64,211016.64,15101350.02,15101350.02,2.0188411954345611,"209-020-006-0001"]
["209-020-007-0001","020-007-0001","Usuarios atendidos con información climática",209,14190894,-194328,13996566,0,27356.21,27356.21,13963541.4,13963541.4,0.23594787464297043,"209-020-007-0001"]
["209-020-007-0002","020-007-0002","Boletines emitidos con información meteorológica",209,710966,-25000,685966,0,11260.37,11260.37,674235.31,674235.31,1.7100978765711443,"209-020-007-0002"]
["209-020-008-0001","020-008-0001","Boletines emitidos con información geológica",209,3746500,0,3746500,0,6322,6322,3740178,3740178,0.16874416121712785,"209-020-008-0001"]
["209-020-008-0002","020-008-0002","Informes emitidos sobre deslizamiento de tierra",209,1172097,0,1172097,0,0,0,1172097,1172097,0,"209-020-008-0002"]
["209-020-009-0001","020-009-0001","Boletines con información hidrológica",209,5748425,0,5748425,0,4590.53,4590.53,5743176.0099999998,5743176.0099999998,9.1311794100129184E-2,"209-020-009-0001"]
["209-020-009-0002","020-009-0002","Publicaciones anuales con información consolidada de efemérides solar, pronóstico de mareas, estudios de calidad de agua y de cuencas",209,8542513,0,8542513,0,171351,171351,8371162,8371162,2.0058617411527484,"209-020-009-0002"]
["209-020-009-0003","020-009-0003","Boletines emitidos con información del índice de calidad del aire",209,402266,0,402266,0,1570.14,1570.14,399225.14,399225.14,0.75593264158542295,"209-020-009-0003"]
["210-000-005-0001","000-005-0001","Personas jurídicas beneficiadas con aportes y/o cuotas para comunicaciones",210,615180,45000,660180,0,0,0,660180,660180,0,"210-000-005-0001"]
["210-000-029-0001","000-029-0001","Dirección y coordinación",210,16300622,-45000,16255622,0,456624.44,456624.44,15741921.02,15741921.02,3.1601434875884844,"210-000-029-0001"]
["210-000-030-0001","000-030-0001","Personas individuales y/o jurídicas con servicios postales otorgados",210,12442858,0,12442858,0,58324,58324,12337797.57,12337797.57,0.84434323689943991,"210-000-030-0001"]
["211-000-005-0001","000-005-0001","Personas jurídicas beneficiadas con aportes y/o cuotas para comunicaciones",211,900000,0,900000,0,895439.26,895439.26,4560.74,4560.74,99.493251111111107,"211-000-005-0001"]
["211-022-007-0001","022-007-0001","Dirección y coordinación",211,18250293,0,18250293,0,161217.39000000001,239217.39,17650623.989999998,17938623.989999998,1.7077479797173691,"211-022-007-0001"]
["211-022-008-0001","022-008-0001","Títulos de usufructo emitidos para personas individuales y/o jurídicas",211,1848739,0,1848739,0,0,0,1848739,1848739,0,"211-022-008-0001"]
["211-022-008-0002","022-008-0002","Licencias emitidas a proveedores satelitales",211,14245,0,14245,0,0,0,14245,14245,0,"211-022-008-0002"]
["211-022-008-0003","022-008-0003","Licencias emitidas a usuarios satelitales",211,36627,0,36627,0,0,0,36627,36627,0,"211-022-008-0003"]
["211-022-008-0004","022-008-0004","Monitoreo al espectro radioeléctrico",211,20175,0,20175,0,0,0,20175,20175,0,"211-022-008-0004"]
["211-022-009-0001","022-009-0001","Operadores de telefonía registrados",211,1933072,0,1933072,0,0,0,1933072,1933072,0,"211-022-009-0001"]
["211-022-009-0002","022-009-0002","Numeración asignada a personas jurídicas y /o individuales",211,3533,0,3533,0,0,0,3533,3533,0,"211-022-009-0002"]
["211-022-009-0003","022-009-0003","Puntos de señalización asignados a personas jurídicas y/o individuales",211,11392,0,11392,0,0,0,11392,11392,0,"211-022-009-0003"]
["211-022-009-0004","022-009-0004","Constancias de inscripción de usuarios jurídicos y/o individuales de telecomunicaciones móviles",211,3015,0,3015,0,0,0,3015,3015,0,"211-022-009-0004"]
["212-000-010-0001","000-010-0001","Dirección y coordinación",212,5076663,275097,5351760,0,126130.94,174630.94,4957229.0599999996,5106229.0599999996,4.587854089122084,"212-000-010-0001"]
["212-000-015-0001","000-015-0001","Personas beneficiadas con proyectos, supervisión de telefonía y conectividad subsidiados",212,2145715,-275097,1870618,0,45592,40092,1774526,1820526,2.6778316043147243,"212-000-015-0001"]
["214-000-022-0001","000-022-0001","Dirección y coordinación",214,10935606,0,10935606,0,884468.76,753468.76,8922603.2100000009,9918603.2100000009,9.2999216504325339,"214-000-022-0001"]
["214-000-023-0001","000-023-0001","Familias beneficiadas con adjudicación de propiedad de vivienda",214,86456,0,86456,0,0,0,86456,86456,0,"214-000-023-0001"]
["214-000-023-0002","000-023-0002","Recuperación de la cartera crediticia",214,3505,0,3505,0,0,0,3505,3505,0,"214-000-023-0002"]
["216-021-001-0001","021-001-0001","Dirección y coordinación",216,19713706,0,19713706,0,250691.89,250691.89,19373287.460000001,19373287.460000001,1.7268114884131864,"216-021-001-0001"]
["216-021-002-0001","021-002-0001","Personas capacitadas en el programa de educación y seguridad vial",216,23000,0,23000,0,4800,0,18200,23000,0,"216-021-002-0001"]
["216-021-002-0002","021-002-0002","Elementos formados como brigadas de protección y seguridad vial en carretera",216,320400,0,320400,0,0,0,320400,320400,0,"216-021-002-0002"]
["216-021-002-0003","021-002-0003","Conductores atendidos con servicios de seguridad y asistencia vial en carretera",216,639450,0,639450,0,46684.94,46684.94,592765.06000000006,592765.06000000006,7.3007959965595361,"216-021-002-0003"]
["216-021-002-0004","021-002-0004","Servicios de regulación para beneficio de conductores que transitan en carretera",216,25743932,0,25743932,0,0,0,25743932,25743932,0,"216-021-002-0004"]
["216-021-002-0005","021-002-0005","Personas atendidas telefónicamente por medio del sistema 1520 (emergencia vial)",216,60000,0,60000,0,0,0,60000,60000,0,"216-021-002-0005"]
["216-021-002-0006","021-002-0006","Boleta de llamada de atención a conductores infractores",216,2714475,0,2714475,0,136656.42000000001,136656.42000000001,2577818.58,2577818.58,5.0343591302185446,"216-021-002-0006"]
["216-021-002-0007","021-002-0007","Investigaciones realizadas de accidentes de tránsito en carreteras",216,67874,0,67874,0,0,0,67874,67874,0,"216-021-002-0007"]
["217-000-022-0001","000-022-0001","Dirección y coordinación",217,50492933,0,50492933,0,453062.63,453062.63,49777627.880000003,49777627.880000003,1.4166440281850918,"217-000-022-0001"]
["217-017-005-0001","017-005-0001","Red vial con servicios de mantenimiento",217,15037645,-6357760,8679885,0,0,0,8679885,8679885,0,"217-017-005-0001"]
["217-017-005-0002","017-005-0002","Dirección y coordinación (convoyes)",217,8076000,6357760,14433760,1625014,0,0,14433760,14433760,0,"217-017-005-0002"]
["218-019-001-0001","019-001-0001","Dirección y coordinación",218,50000000,0,50000000,592950,-1391183.73,424816.27,49144302.200000003,49208302.200000003,1.5833956000000036,"218-019-001-0001"]
["218-019-002-0001","019-002-0001","Familias con subsidio para adquisición de lote con servicios básicos",218,12600000,0,12600000,0,0,0,12600000,12600000,0,"218-019-002-0001"]
["218-019-002-0002","019-002-0002","Familias con subsidio para adquisición de lote con vivienda",218,15050000,-1745500,13304500,0,0,0,13304500,13304500,0,"218-019-002-0002"]
["218-019-002-0003","019-002-0003","Familias con subsidio para la adquisición de módulo habitacional en propiedad horizontal",218,9254000,-6804000,2450000,0,0,0,2450000,2450000,0,"218-019-002-0003"]
["218-019-002-0004","019-002-0004","Familias con  subsidio para el mejoramiento, ampliación y reparación de vivienda",218,49546000,-4962500,44583500,0,0,0,44583500,44583500,0,"218-019-002-0004"]
["218-019-002-0006","019-002-0006","Familias con subsidio para construcción de vivienda",218,524216000,13512000,537728000,0,0,0,535572000,535572000,0.40094620328492964,"218-019-002-0006"]
["-",null,null,null,null,null,null,null,null,null,null,null,null,"-"]
["-",null,null,null,null,null,null,null,null,null,null,null,null,"-"]
["-",null,null,null,null,null,null,null,null,null,null,null,null,"-"]
["-",null,null,null,null,null,null,null,null,null,null,null,null,"-"]
["-",null,null,null,null,null,null,null,null,null,null,null,null,"-"]
["-",null,null,null,null,null,null,null,null,null,null,null,null,"-"]
["-",null,null,null,null,null,null,null,null,null,null,null,null,"-"]
["-",null,null,null,null,null,null,null,null,null,null,null,null,"-"]
["-",null,null,null,null,null,null,null,null,null,null,null,null,"-"]
["-",null,null,null,null,null,null,null,null,null,null,null,null,"-"]
["-",null,null,null,null,null,null,null,null,null,null,null,null,"-"]
["-",null,null,null,null,null,null,null,null,null,null,null,null,"-"]
["-",null,null,null,null,null,null,null,null,null,null,null,null,"-"]
["-",null,null,null,null,null,null,null,null,null,null,null,null,"-"]
["-",null,null,null,null,null,null,null,null,null,null,null,null,"-"]
["-",null,null,null,null,null,null,null,null,null,null,null,null,"-"]
["-",null,null,null,null,null,null,null,null,null,null,null,null,"-"]
["-",null,null,null,null,null,null,null,null,null,null,null,null,"-"]
["-",null,null,null,null,null,null,null,null,null,null,null,null,"-"]
["-",null,null,null,null,null,null,null,null,null,null,null,null,"-"]
["-",null,null,null,null,null,null,null,null,null,null,null,null,"-"]
["-",null,null,null,null,null,null,null,null,null,null,null,null,"-"]
["-",null,null,null,null,null,null,null,null,null,null,null,null,"-"]
["-",null,null,null,null,null,null,null,null,null,null,null,null,"-"]
["-",null,null,null,null,null,null,null,null,null,null,null,null,"-"]
["-",null,null,null,null,null,null,null,null,null,null,null,null,"-"]
["-",null,null,null,null,null,null,null,null,null,null,null,null,"-"]
["-",null,null,null,null,null,null,null,null,null,null,null,null,"-"]
["-",null,null,null,null,null,null,null,null,null,null,null,null,"-"]
["-",null,null,null,null,null,null,null,null,null,null,null,null,"-"]
["-",null,null,null,null,null,null,null,null,null,null,null,null,"-"]
["-",null,null,null,null,null,null,null,null,null,null,null,null,"-"]
["-",null,null,null,null,null,null,null,null,null,null,null,null,"-"]
["-",null,null,null,null,null,null,null,null,null,null,null,null,"-"]
["-",null,null,null,null,null,null,null,null,null,null,null,null,"-"]
["-",null,null,null,null,null,null,null,null,null,null,null,null,"-"]
["-",null,null,null,null,null,null,null,null,null,null,null,null,"-"]
["-",null,null,null,null,null,null,null,null,null,null,null,null,"-"]
["-",null,null,null,null,null,null,null,null,null,null,null,null,"-"]
["-",null,null,null,null,null,null,null,null,null,null,null,null,"-"]
["-",null,null,null,null,null,null,null,null,null,null,null,null,"-"]
["-",null,null,null,null,null,null,null,null,null,null,null,null,"-"]
["-",null,null,null,null,null,null,null,null,null,null,null,null,"-"]
["-",null,null,null,null,null,null,null,null,null,null,null,null,"-"]
["-",null,null,null,null,null,null,null,null,null,null,null,null,"-"]
["-",null,null,null,null,null,null,null,null,null,null,null,null,"-"]
["-",null,null,null,null,null,null,null,null,null,null,null,null,"-"]
["-",null,null,null,null,null,null,null,null,null,null,null,null,"-"]
["-",null,null,null,null,null,null,null,null,null,null,null,null,"-"]
["-",null,null,null,null,null,null,null,null,null,null,null,null,"-"]
["-",null,null,null,null,null,null,null,null,null,null,null,null,"-"]
["-",null,null,null,null,null,null,null,null,null,null,null,null,"-"]
["-",null,null,null,null,null,null,null,null,null,null,null,null,"-"]
["-",null,null,null,null,null,null,null,null,null,null,null,null,"-"]
["-",null,null,null,null,null,null,null,null,null,null,null,null,"-"]
["-",null,null,null,null,null,null,null,null,null,null,null,null,"-"]
["-",null,null,null,null,null,null,null,null,null,null,null,null,"-"]
["-",null,null,null,null,null,null,null,null,null,null,null,null,"-"]
["-",null,null,null,null,null,null,null,null,null,null,null,null,"-"]
["-",null,null,null,null,null,null,null,null,null,null,null,null,"-"]
["-",null,null,null,null,null,null,null,null,null,null,null,null,"-"]
["-",null,null,null,null,null,null,null,null,null,null,null,null,"-"]
["-",null,null,null,null,null,null,null,null,null,null,null,null,"-"]
["-",null,null,null,null,null,null,null,null,null,null,null,null,"-"]
["-",null,null,null,null,null,null,null,null,null,null,null,null,"-"]
["-",null,null,null,null,null,null,null,null,null,null,null,null,"-"]
["-",null,null,null,null,null,null,null,null,null,null,null,null,"-"]
["-",null,null,null,null,null,null,null,null,null,null,null,null,"-"]
["-",null,null,null,null,null,null,null,null,null,null,null,null,"-"]
["-",null,null,null,null,null,null,null,null,null,null,null,null,"-"]
["-",null,null,null,null,null,null,null,null,null,null,null,null,"-"]
["-",null,null,null,null,null,null,null,null,null,null,null,null,"-"]
["-",null,null,null,null,null,null,null,null,null,null,null,null,"-"]
["-",null,null,null,null,null,null,null,null,null,null,null,null,"-"]
["-",null,null,null,null,null,null,null,null,null,null,null,null,"-"]
["-",null,null,null,null,null,null,null,null,null,null,null,null,"-"]
["-",null,null,null,null,null,null,null,null,null,null,null,null,"-"]
["-",null,null,null,null,null,null,null,null,null,null,null,null,"-"]
["-",null,null,null,null,null,null,null,null,null,null,null,null,"-"]
["-",null,null,null,null,null,null,null,null,null,null,null,null,"-"]
["-",null,null,null,null,null,null,null,null,null,null,null,null,"-"]
["-",null,null,null,null,null,null,null,null,null,null,null,null,"-"]
["-",null,null,null,null,null,null,null,null,null,null,null,null,"-"]
["-",null,null,null,null,null,null,null,null,null,null,null,null,"-"]
["-",null,null,null,null,null,null,null,null,null,null,null,null,"-"]
["-",null,null,null,null,null,null,null,null,null,null,null,null,"-"]
["-",null,null,null,null,null,null,null,null,null,null,null,null,"-"]
["-",null,null,null,null,null,null,null,null,null,null,null,null,"-"]
["-",null,null,null,null,null,null,null,null,null,null,null,null,"-"]
["-",null,null,null,null,null,null,null,null,null,null,null,null,"-"]
["-",null,null,null,null,null,null,null,null,null,null,null,null,"-"]
["-",null,null,null,null,null,null,null,null,null,null,null,null,"-"]
["-",null,null,null,null,null,null,null,null,null,null,null,null,"-"]
["-",null,null,null,null,null,null,null,null,null,null,null,null,"-"]
["-",null,null,null,null,null,null,null,null,null,null,null,null,"-"]
["-",null,null,null,null,null,null,null,null,null,null,null,null,"-"]
["-",null,null,null,null,null,null,null,null,null,null,null,null,"-"]
["-",null,null,null,null,null,null,null,null,null,null,null,null,"-"]
["-",null,null,null,null,null,null,null,null,null,null,null,null,"-"]
["-",null,null,null,null,null,null,null,null,null,null,null,null,"-"]
["-",null,null,null,null,null,null,null,null,null,null,null,null,"-"]
["-",null,null,null,null,null,null,null,null,null,null,null,null,"-"]
["-",null,null,null,null,null,null,null,null,null,null,null,null,"-"]
["-",null,null,null,null,null,null,null,null,null,null,null,null,"-"]
["-",null,null,null,null,null,null,null,null,null,null,null,null,"-"]
["-",null,null,null,null,null,null,null,null,null,null,null,null,"-"]
["-",null,null,null,null,null,null,null,null,null,null,null,null,"-"]
["-",null,null,null,null,null,null,null,null,null,null,null,null,"-"]
["-",null,null,null,null,null,null,null,null,null,null,null,null,"-"]
["-",null,null,null,null,null,null,null,null,null,null,null,null,"-"]
["-",null,null,null,null,null,null,null,null,null,null,null,null,"-"]
["-",null,null,null,null,null,null,null,null,null,null,null,null,"-"]
["-",null,null,null,null,null,null,null,null,null,null,null,null,"-"]
["-",null,null,null,null,null,null,null,null,null,null,null,null,"-"]
["-",null,null,null,null,null,null,null,null,null,null,null,null,"-"]
["-",null,null,null,null,null,null,null,null,null,null,null,null,"-"]
["-",null,null,null,null,null,null,null,null,null,null,null,null,"-"]
["-",null,null,null,null,null,null,null,null,null,null,null,null,"-"]
["-",null,null,null,null,null,null,null,null,null,null,null,null,"-"]
["-",null,null,null,null,null,null,null,null,null,null,null,null,"-"]
["-",null,null,null,null,null,null,null,null,null,null,null,null,"-"]
["-",null,null,null,null,null,null,null,null,null,null,null,null,"-"]
["-",null,null,null,null,null,null,null,null,null,null,null,null,"-"]
["-",null,null,null,null,null,null,null,null,null,null,null,null,"-"]
["-",null,null,null,null,null,null,null,null,null,null,null,null,"-"]
["-",null,null,null,null,null,null,null,null,null,null,null,null,"-"]
["-",null,null,null,null,null,null,null,null,null,null,null,null,"-"]
["-",null,null,null,null,null,null,null,null,null,null,null,null,"-"]
["-",null,null,null,null,null,null,null,null,null,null,null,null,"-"]
["-",null,null,null,null,null,null,null,null,null,null,null,null,"-"]
["-",null,null,null,null,null,null,null,null,null,null,null,null,"-"]
["-",null,null,null,null,null,null,null,null,null,null,null,null,"-"]
["-",null,null,null,null,null,null,null,null,null,null,null,null,"-"]
["-",null,null,null,null,null,null,null,null,null,null,null,null,"-"]
["-",null,null,null,null,null,null,null,null,null,null,null,null,"-"]
["-",null,null,null,null,null,null,null,null,null,null,null,null,"-"]
["-",null,null,null,null,null,null,null,null,null,null,null,null,"-"]
["-",null,null,null,null,null,null,null,null,null,null,null,null,"-"]
["-",null,null,null,null,null,null,null,null,null,null,null,null,"-"]
["-",null,null,null,null,null,null,null,null,null,null,null,null,"-"]
["-",null,null,null,null,null,null,null,null,null,null,null,null,"-"]
["-",null,null,null,null,null,null,null,null,null,null,null,null,"-"]
["-",null,null,null,null,null,null,null,null,null,null,null,null,"-"]
["-",null,null,null,null,null,null,null,null,null,null,null,null,"-"]
["-",null,null,null,null,null,null,null,null,null,null,null,null,"-"]
["-",null,null,null,null,null,null,null,null,null,null,null,null,"-"]
["-",null,null,null,null,null,null,null,null,null,null,null,null,"-"]
["-",null,null,null,null,null,null,null,null,null,null,null,null,"-"]
["-",null,null,null,null,null,null,null,null,null,null,null,null,"-"]
["-",null,null,null,null,null,null,null,null,null,null,null,null,"-"]
["-",null,null,null,null,null,null,null,null,null,null,null,null,"-"]
["-",null,null,null,null,null,null,null,null,null,null,null,null,"-"]
["-",null,null,null,null,null,null,null,null,null,null,null,null,"-"]
["-",null,null,null,null,null,null,null,null,null,null,null,null,"-"]
["-",null,null,null,null,null,null,null,null,null,null,null,null,"-"]
["-",null,null,null,null,null,null,null,null,null,null,null,null,"-"]
["-",null,null,null,null,null,null,null,null,null,null,null,null,"-"]
["-",null,null,null,null,null,null,null,null,null,null,null,null,"-"]
["-",null,null,null,null,null,null,null,null,null,null,null,null,"-"]
["-",null,null,null,null,null,null,null,null,null,null,null,null,"-"]
["-",null,null,null,null,null,null,null,null,null,null,null,null,"-"]
["-",null,null,null,null,null,null,null,null,null,null,null,null,"-"]
["-",null,null,null,null,null,null,null,null,null,null,null,null,"-"]
["-",null,null,null,null,null,null,null,null,null,null,null,null,"-"]
["-",null,null,null,null,null,null,null,null,null,null,null,null,"-"]
["-",null,null,null,null,null,null,null,null,null,null,null,null,"-"]
["-",null,null,null,null,null,null,null,null,null,null,null,null,"-"]
["-",null,null,null,null,null,null,null,null,null,null,null,null,"-"]
["-",null,null,null,null,null,null,null,null,null,null,null,null,"-"]
["-",null,null,null,null,null,null,null,null,null,null,null,null,"-"]
["-",null,null,null,null,null,null,null,null,null,null,null,null,"-"]
["-",null,null,null,null,null,null,null,null,null,null,null,null,"-"]
["-",null,null,null,null,null,null,null,null,null,null,null,null,"-"]
["-",null,null,null,null,null,null,null,null,null,null,null,null,"-"]
["-",null,null,null,null,null,null,null,null,null,null,null,null,"-"]
["-",null,null,null,null,null,null,null,null,null,null,null,null,"-"]
["-",null,null,null,null,null,null,null,null,null,null,null,null,"-"]
["-",null,null,null,null,null,null,null,null,null,null,null,null,"-"]
["-",null,null,null,null,null,null,null,null,null,null,null,null,"-"]
["-",null,null,null,null,null,null,null,null,null,null,null,null,"-"]
["-",null,null,null,null,null,null,null,null,null,null,null,null,"-"]
["-",null,null,null,null,null,null,null,null,null,null,null,null,"-"]
["-",null,null,null,null,null,null,null,null,null,null,null,null,"-"]
["-",null,null,null,null,null,null,null,null,null,null,null,null,"-"]
["-",null,null,null,null,null,null,null,null,null,null,null,null,"-"]
["-",null,null,null,null,null,null,null,null,null,null,null,null,"-"]
["-",null,null,null,null,null,null,null,null,null,null,null,null,"-"]
["-",null,null,null,null,null,null,null,null,null,null,null,null,"-"]
["-",null,null,null,null,null,null,null,null,null,null,null,null,"-"]
["-",null,null,null,null,null,null,null,null,null,null,null,null,"-"]
["-",null,null,null,null,null,null,null,null,null,null,null,null,"-"]
["-",null,null,null,null,null,null,null,null,null,null,null,null,"-"]
["-",null,null,null,null,null,null,null,null,null,null,null,null,"-"]
["-",null,null,null,null,null,null,null,null,null,null,null,null,"-"]
["-",null,null,null,null,null,null,null,null,null,null,null,null,"-"]
["-",null,null,null,null,null,null,null,null,null,null,null,null,"-"]
["-",null,null,null,null,null,null,null,null,null,null,null,null,"-"]
["-",null,null,null,null,null,null,null,null,null,null,null,null,"-"]
["-",null,null,null,null,null,null,null,null,null,null,null,null,"-"]
["-",null,null,null,null,null,null,null,null,null,null,null,null,"-"]
["-",null,null,null,null,null,null,null,null,null,null,null,null,"-"]
["-",null,null,null,null,null,null,null,null,null,null,null,null,"-"]
["-",null,null,null,null,null,null,null,null,null,null,null,null,"-"]
["-",null,null,null,null,null,null,null,null,null,null,null,null,"-"]
["-",null,null,null,null,null,null,null,null,null,null,null,null,"-"]
["-",null,null,null,null,null,null,null,null,null,null,null,null,"-"]
["-",null,null,null,null,null,null,null,null,null,null,null,null,"-"]
["-",null,null,null,null,null,null,null,null,null,null,null,null,"-"]
["-",null,null,null,null,null,null,null,null,null,null,null,null,"-"]
["-",null,null,null,null,null,null,null,null,null,null,null,null,"-"]
["-",null,null,null,null,null,null,null,null,null,null,null,null,"-"]
["-",null,null,null,null,null,null,null,null,null,null,null,null,"-"]
["-",null,null,null,null,null,null,null,null,null,null,null,null,"-"]
["-",null,null,null,null,null,null,null,null,null,null,null,null,"-"]
["-",null,null,null,null,null,null,null,null,null,null,null,null,"-"]
["-",null,null,null,null,null,null,null,null,null,null,null,null,"-"]
["-",null,null,null,null,null,null,null,null,null,null,null,null,"-"]
["-",null,null,null,null,null,null,null,null,null,null,null,null,"-"]
["-",null,null,null,null,null,null,null,null,null,null,null,null,"-"]
["-",null,null,null,null,null,null,null,null,null,null,null,null,"-"]
["-",null,null,null,null,null,null,null,null,null,null,null,null,"-"]
["-",null,null,null,null,null,null,null,null,null,null,null,null,"-"]
["-",null,null,null,null,null,null,null,null,null,null,null,null,"-"]
["-",null,null,null,null,null,null,null,null,null,null,null,null,"-"]
["-",null,null,null,null,null,null,null,null,null,null,null,null,"-"]
["-",null,null,null,null,null,null,null,null,null,null,null,null,"-"]
["-",null,null,null,null,null,null,null,null,null,null,null,null,"-"]
["-",null,null,null,null,null,null,null,null,null,null,null,null,"-"]
["-",null,null,null,null,null,null,null,null,null,null,null,null,"-"]
["-",null,null,null,null,null,null,null,null,null,null,null,null,"-"]
["-",null,null,null,null,null,null,null,null,null,null,null,null,"-"]
["-",null,null,null,null,null,null,null,null,null,null,null,null,"-"]
["-",null,null,null,null,null,null,null,null,null,null,null,null,"-"]
["-",null,null,null,null,null,null,null,null,null,null,null,null,"-"]
["-",null,null,null,null,null,null,null,null,null,null,null,null,"-"]
["-",null,null,null,null,null,null,null,null,null,null,null,null,"-"]
["-",null,null,null,null,null,null,null,null,null,null,null,null,"-"]
["-",null,null,null,null,null,null,null,null,null,null,null,null,"-"]
["-",null,null,null,null,null,null,null,null,null,null,null,null,"-"]
["-",null,null,null,null,null,null,null,null,null,null,null,null,"-"]
["-",null,null,null,null,null,null,null,null,null,null,null,null,"-"]
["-",null,null,null,null,null,null,null,null,null,null,null,null,"-"]
["-",null,null,null,null,null,null,null,null,null,null,null,null,"-"]
["-",null,null,null,null,null,null,null,null,null,null,null,null,"-"]
["-",null,null,null,null,null,null,null,null,null,null,null,null,"-"]
["-",null,null,null,null,null,null,null,null,null,null,null,null,"-"]
["-",null,null,null,null,null,null,null,null,null,null,null,null,"-"]
["-",null,null,null,null,null,null,null,null,null,null,null,null,"-"]
["-",null,null,null,null,null,null,null,null,null,null,null,null,"-"]
["-",null,null,null,null,null,null,null,null,null,null,null,null,"-"]
["-",null,null,null,null,null,null,null,null,null,null,null,null,"-"]
["-",null,null,null,null,null,null,null,null,null,null,null,null,"-"]
["-",null,null,null,null,null,null,null,null,null,null,null,null,"-"]
["-",null,null,null,null,null,null,null,null,null,null,null,null,"-"]
["-",null,null,null,null,null,null,null,null,null,null,null,null,"-"]
["-",null,null,null,null,null,null,null,null,null,null,null,null,"-"]
["-",null,null,null,null,null,null,null,null,null,null,null,null,"-"]
["-",null,null,null,null,null,null,null,null,null,null,null,null,"-"]
["-",null,null,null,null,null,null,null,null,null,null,null,null,"-"]
["-",null,null,null,null,null,null,null,null,null,null,null,null,"-"]
["-",null,null,null,null,null,null,null,null,null,null,null,null,"-"]
["-",null,null,null,null,null,null,null,null,null,null,null,null,"-"]
["-",null,null,null,null,null,null,null,null,null,null,null,null,"-"]
["-",null,null,null,null,null,null,null,null,null,null,null,null,"-"]
["-",null,null,null,null,null,null,null,null,null,null,null,null,"-"]
["-",null,null,null,null,null,null,null,null,null,null,null,null,"-"]
["-",null,null,null,null,null,null,null,null,null,null,null,null,"-"]
["-",null,null,null,null,null,null,null,null,null,null,null,null,"-"]
["-",null,null,null,null,null,null,null,null,null,null,null,null,"-"]
["-",null,null,null,null,null,null,null,null,null,null,null,null,"-"]
["-",null,null,null,null,null,null,null,null,null,null,null,null,"-"]
["-",null,null,null,null,null,null,null,null,null,null,null,null,"-"]
["-",null,null,null,null,null,null,null,null,null,null,null,null,"-"]
["-",null,null,null,null,null,null,null,null,null,null,null,null,"-"]
["-",null,null,null,null,null,null,null,null,null,null,null,null,"-"]
["-",null,null,null,null,null,null,null,null,null,null,null,null,"-"]
["-",null,null,null,null,null,null,null,null,null,null,null,null,"-"]
["-",null,null,null,null,null,null,null,null,null,null,null,null,"-"]
["-",null,null,null,null,null,null,null,null,null,null,null,null,"-"]
["-",null,null,null,null,null,null,null,null,null,null,null,null,"-"]
["-",null,null,null,null,null,null,null,null,null,null,null,null,"-"]
["-",null,null,null,null,null,null,null,null,null,null,null,null,"-"]
["-",null,null,null,null,null,null,null,null,null,null,null,null,"-"]
["-",null,null,null,null,null,null,null,null,null,null,null,null,"-"]
["-",null,null,null,null,null,null,null,null,null,null,null,null,"-"]
["-",null,null,null,null,null,null,null,null,null,null,null,null,"-"]
["-",null,null,null,null,null,null,null,null,null,null,null,null,"-"]
["-",null,null,null,null,null,null,null,null,null,null,null,null,"-"]
["-",null,null,null,null,null,null,null,null,null,null,null,null,"-"]
["-",null,null,null,null,null,null,null,null,null,null,null,null,"-"]
["-",null,null,null,null,null,null,null,null,null,null,null,null,"-"]
["-",null,null,null,null,null,null,null,null,null,null,null,null,"-"]
["-",null,null,null,null,null,null,null,null,null,null,null,null,"-"]
["-",null,null,null,null,null,null,null,null,null,null,null,null,"-"]
["-",null,null,null,null,null,null,null,null,null,null,null,null,"-"]
["-",null,null,null,null,null,null,null,null,null,null,null,null,"-"]
["-",null,null,null,null,null,null,null,null,null,null,null,null,"-"]
["-",null,null,null,null,null,null,null,null,null,null,null,null,"-"]
["-",null,null,null,null,null,null,null,null,null,null,null,null,"-"]
["-",null,null,null,null,null,null,null,null,null,null,null,null,"-"]
["-",null,null,null,null,null,null,null,null,null,null,null,null,"-"]
["-",null,null,null,null,null,null,null,null,null,null,null,null,"-"]
["-",null,null,null,null,null,null,null,null,null,null,null,null,"-"]
["-",null,null,null,null,null,null,null,null,null,null,null,null,"-"]
["-",null,null,null,null,null,null,null,null,null,null,null,null,"-"]
["-",null,null,null,null,null,null,null,null,null,null,null,null,"-"]
["-",null,null,null,null,null,null,null,null,null,null,null,null,"-"]
["-",null,null,null,null,null,null,null,null,null,null,null,null,"-"]
["-",null,null,null,null,null,null,null,null,null,null,null,null,"-"]
["-",null,null,null,null,null,null,null,null,null,null,null,null,"-"]
["-",null,null,null,null,null,null,null,null,null,null,null,null,"-"]
["-",null,null,null,null,null,null,null,null,null,null,null,null,"-"]
["-",null,null,null,null,null,null,null,null,null,null,null,null,"-"]
["-",null,null,null,null,null,null,null,null,null,null,null,null,"-"]
["-",null,null,null,null,null,null,null,null,null,null,null,null,"-"]
["-",null,null,null,null,null,null,null,null,null,null,null,null,"-"]
["-",null,null,null,null,null,null,null,null,null,null,null,null,"-"]
["-",null,null,null,null,null,null,null,null,null,null,null,null,"-"]
["-",null,null,null,null,null,null,null,null,null,null,null,null,"-"]
["-",null,null,null,null,null,null,null,null,null,null,null,null,"-"]
["-",null,null,null,null,null,null,null,null,null,null,null,null,"-"]
["-",null,null,null,null,null,null,null,null,null,null,null,null,"-"]
["-",null,null,null,null,null,null,null,null,null,null,null,null,"-"]

{"sheet":"MARMT","index":6,"n_rows":1,"n_cols":15,"rows_kept":1,"cut":false,"hidden":true,"merged":[]}
["CONCATENADO","PRODUCTO","UNIDAD","DESCRIPCION","PG","SP","PY","ACT","OB","UNIDAD DE MEDIDA","INICIAL","MODIFICADO","VIGENTE","PROGRAMADO","EJECUTADO"]

{"sheet":"MARFN","index":7,"n_rows":1,"n_cols":14,"rows_kept":1,"cut":false,"hidden":true,"merged":[]}
["CONCATENADO","PRODUCTO","DESCRIPCION","UNIDAD","ASIGNADO","MODIFICADO","VIGENTE","PRECOMPROMISO","COMPROMETIDO","DEVENGADO","SALDO POR COMPROMETER","SALDO POR DEVENGAR","% EJEC","Columna1"]

{"sheet":"ABRMT","index":8,"n_rows":1,"n_cols":15,"rows_kept":1,"cut":false,"hidden":true,"merged":[]}
["CONCATENADO","PRODUCTO","UNIDAD","DESCRIPCION","PG","SP","PY","ACT","OB","UNIDAD DE MEDIDA","INICIAL","MODIFICADO","VIGENTE","PROGRAMADO","EJECUTADO"]

{"sheet":"ABRFN","index":9,"n_rows":1,"n_cols":14,"rows_kept":1,"cut":false,"hidden":true,"merged":[]}
["CONCATENADO","PRODUCTO","DESCRIPCION","UNIDAD","ASIGNADO","MODIFICADO","VIGENTE","PRECOMPROMISO","COMPROMETIDO","DEVENGADO","SALDO POR COMPROMETER","SALDO POR DEVENGAR","% EJEC","Columna1"]

{"sheet":"MAYMT","index":10,"n_rows":1,"n_cols":15,"rows_kept":1,"cut":false,"hidden":true,"merged":[]}
["CONCATENADO","PRODUCTO","UNIDAD","DESCRIPCION","PG","SP","PY","ACT","OB","UNIDAD DE MEDIDA","INICIAL","MODIFICADO","VIGENTE","PROGRAMADO","EJECUTADO"]

{"sheet":"MAYFN","index":11,"n_rows":1,"n_cols":14,"rows_kept":1,"cut":false,"hidden":true,"merged":[]}
["CONCATENADO","PRODUCTO","DESCRIPCION","UNIDAD","ASIGNADO","MODIFICADO","VIGENTE","PRECOMPROMISO","COMPROMETIDO","DEVENGADO","SALDO POR COMPROMETER","SALDO POR DEVENGAR","% EJEC","Columna1"]

{"sheet":"JUNFN","index":12,"n_rows":1,"n_cols":14,"rows_kept":1,"cut":false,"hidden":true,"merged":[]}
["CONCATENADO","PRODUCTO","DESCRIPCION","UNIDAD","ASIGNADO","MODIFICADO","VIGENTE","PRECOMPROMISO","COMPROMETIDO","DEVENGADO","SALDO POR COMPROMETER","SALDO POR DEVENGAR","% EJEC","Columna1"]

{"sheet":"JUNMT","index":13,"n_rows":1,"n_cols":15,"rows_kept":1,"cut":false,"hidden":true,"merged":[]}
["CONCATENADO","PRODUCTO","UNIDAD","DESCRIPCION","PG","SP","PY","ACT","OB","UNIDAD DE MEDIDA","INICIAL","MODIFICADO","VIGENTE","PROGRAMADO","EJECUTADO"]

{"sheet":"JULMT","index":14,"n_rows":1,"n_cols":15,"rows_kept":1,"cut":false,"hidden":true,"merged":[]}
["CONCATENADO","PRODUCTO","UNIDAD","DESCRIPCION","PG","SP","PY","ACT","OB","UNIDAD DE MEDIDA","INICIAL","MODIFICADO","VIGENTE","PROGRAMADO","EJECUTADO"]

{"sheet":"JULFN","index":15,"n_rows":1,"n_cols":14,"rows_kept":1,"cut":false,"hidden":true,"merged":[]}
["CONCATENADO","PRODUCTO","DESCRIPCION","UNIDAD","ASIGNADO","MODIFICADO","VIGENTE","PRECOMPROMISO","COMPROMETIDO","DEVENGADO","SALDO POR COMPROMETER","SALDO POR DEVENGAR","% EJEC","Columna1"]

{"sheet":"AGOMT","index":16,"n_rows":1,"n_cols":15,"rows_kept":1,"cut":false,"hidden":true,"merged":[]}
["CONCATENADO","PRODUCTO","UNIDAD","DESCRIPCION","PG","SP","PY","ACT","OB","UNIDAD DE MEDIDA","INICIAL","MODIFICADO","VIGENTE","PROGRAMADO","EJECUTADO"]

{"sheet":"AGOFN","index":17,"n_rows":1,"n_cols":14,"rows_kept":1,"cut":false,"hidden":true,"merged":[]}
["CONCATENADO","PRODUCTO","DESCRIPCION","UNIDAD","ASIGNADO","MODIFICADO","VIGENTE","PRECOMPROMISO","COMPROMETIDO","DEVENGADO","SALDO POR COMPROMETER","SALDO POR DEVENGAR","% EJEC","Columna1"]

{"sheet":"SEPMT","index":18,"n_rows":1,"n_cols":15,"rows_kept":1,"cut":false,"hidden":true,"merged":[]}
["CONCATENADO","PRODUCTO","UNIDAD","DESCRIPCION","PG","SP","PY","ACT","OB","UNIDAD DE MEDIDA","INICIAL","MODIFICADO","VIGENTE","PROGRAMADO","EJECUTADO"]

{"sheet":"SEPFN","index":19,"n_rows":1,"n_cols":14,"rows_kept":1,"cut":false,"hidden":true,"merged":[]}
["CONCATENADO","PRODUCTO","DESCRIPCION","UNIDAD","ASIGNADO","MODIFICADO","VIGENTE","PRECOMPROMISO","COMPROMETIDO","DEVENGADO","SALDO POR COMPROMETER","SALDO POR DEVENGAR","% EJEC","Columna1"]

{"sheet":"OCTMT","index":20,"n_rows":1,"n_cols":15,"rows_kept":1,"cut":false,"hidden":true,"merged":[]}
["CONCATENADO","PRODUCTO","UNIDAD","DESCRIPCION","PG","SP","PY","ACT","OB","UNIDAD DE MEDIDA","INICIAL","MODIFICADO","VIGENTE","PROGRAMADO","EJECUTADO"]

{"sheet":"OCTFN","index":21,"n_rows":1,"n_cols":14,"rows_kept":1,"cut":false,"hidden":true,"merged":[]}
["CONCATENADO","PRODUCTO","DESCRIPCION","UNIDAD","ASIGNADO","MODIFICADO","VIGENTE","PRECOMPROMISO","COMPROMETIDO","DEVENGADO","SALDO POR COMPROMETER","SALDO POR DEVENGAR","% EJEC","Columna1"]

{"sheet":"NOVMT","index":22,"n_rows":1,"n_cols":15,"rows_kept":1,"cut":false,"hidden":true,"merged":[]}
["CONCATENADO","PRODUCTO","UNIDAD","DESCRIPCION","PG","SP","PY","ACT","OB","UNIDAD DE MEDIDA","INICIAL","MODIFICADO","VIGENTE","PROGRAMADO","EJECUTADO"]

{"sheet":"NOVFN","index":23,"n_rows":1,"n_cols":14,"rows_kept":1,"cut":false,"hidden":true,"merged":[]}
["CONCATENADO","PRODUCTO","DESCRIPCION","UNIDAD","ASIGNADO","MODIFICADO","VIGENTE","PRECOMPROMISO","COMPROMETIDO","DEVENGADO","SALDO POR COMPROMETER","SALDO POR DEVENGAR","% EJEC","Columna1"]

{"sheet":"DICMT","index":24,"n_rows":1,"n_cols":15,"rows_kept":1,"cut":false,"hidden":true,"merged":[]}
["CONCATENADO","PRODUCTO","UNIDAD","DESCRIPCION","PG","SP","PY","ACT","OB","UNIDAD DE MEDIDA","INICIAL","MODIFICADO","VIGENTE","PROGRAMADO","EJECUTADO"]

{"sheet":"DICFN","index":25,"n_rows":1,"n_cols":14,"rows_kept":1,"cut":false,"hidden":true,"merged":[]}
["CONCATENADO","PRODUCTO","DESCRIPCION","UNIDAD","ASIGNADO","MODIFICADO","VIGENTE","PRECOMPROMISO","COMPROMETIDO","DEVENGADO","SALDO POR COMPROMETER","SALDO POR DEVENGAR","% EJEC","Columna1"]